BEGIN:VCALENDAR
VERSION:2.0
PRODID:-//Eventimusica.com - ECPv6.15.17//NONSGML v1.0//EN
CALSCALE:GREGORIAN
METHOD:PUBLISH
X-WR-CALNAME:Eventimusica.com
X-ORIGINAL-URL:https://www.eventimusica.com
X-WR-CALDESC:Eventi per Eventimusica.com
REFRESH-INTERVAL;VALUE=DURATION:PT1H
X-Robots-Tag:noindex
X-PUBLISHED-TTL:PT1H
BEGIN:VTIMEZONE
TZID:Europe/Rome
BEGIN:DAYLIGHT
TZOFFSETFROM:+0100
TZOFFSETTO:+0200
TZNAME:CEST
DTSTART:20220327T010000
END:DAYLIGHT
BEGIN:STANDARD
TZOFFSETFROM:+0200
TZOFFSETTO:+0100
TZNAME:CET
DTSTART:20221030T010000
END:STANDARD
BEGIN:DAYLIGHT
TZOFFSETFROM:+0100
TZOFFSETTO:+0200
TZNAME:CEST
DTSTART:20230326T010000
END:DAYLIGHT
BEGIN:STANDARD
TZOFFSETFROM:+0200
TZOFFSETTO:+0100
TZNAME:CET
DTSTART:20231029T010000
END:STANDARD
BEGIN:DAYLIGHT
TZOFFSETFROM:+0100
TZOFFSETTO:+0200
TZNAME:CEST
DTSTART:20240331T010000
END:DAYLIGHT
BEGIN:STANDARD
TZOFFSETFROM:+0200
TZOFFSETTO:+0100
TZNAME:CET
DTSTART:20241027T010000
END:STANDARD
BEGIN:DAYLIGHT
TZOFFSETFROM:+0100
TZOFFSETTO:+0200
TZNAME:CEST
DTSTART:20250330T010000
END:DAYLIGHT
BEGIN:STANDARD
TZOFFSETFROM:+0200
TZOFFSETTO:+0100
TZNAME:CET
DTSTART:20251026T010000
END:STANDARD
END:VTIMEZONE
BEGIN:VEVENT
DTSTART;TZID=Europe/Rome:20240228T170000
DTEND;TZID=Europe/Rome:20240228T190000
DTSTAMP:20260420T045049
CREATED:20240223T104704Z
LAST-MODIFIED:20240223T104704Z
UID:2700-1709139600-1709146800@www.eventimusica.com
SUMMARY:The Club Dance e Dance Talk OnAir - Wednesday
DESCRIPTION:The Club Dance eDance Talk with Marco Graziosi and Massimo Martelli in the company of great guests\, in this episode\, “Mauro Farina”. OnAir www.radiodanceroma.it and Live streaming www.twitch.tv/eventimusica\n​
URL:https://www.eventimusica.com/event/the-club-dance-e-dance-talk-onair-wednesday/
LOCATION:The Club Studio\, Ardea\, Roma\, Italia
CATEGORIES:intrattenimento,musica
ATTACH;FMTTYPE=image/png:https://www.eventimusica.com/wp-content/uploads/2024/02/Mauro-Farina.png
END:VEVENT
BEGIN:VEVENT
DTSTART;TZID=Europe/Rome:20240227T170000
DTEND;TZID=Europe/Rome:20240227T190000
DTSTAMP:20260420T045049
CREATED:20240223T103728Z
LAST-MODIFIED:20240223T103728Z
UID:2698-1709053200-1709060400@www.eventimusica.com
SUMMARY:The Club House - RadioDanceRoma - Tuesday
DESCRIPTION:Marco Graziosi with “The Club” and his guests\, Josephx DJ with “Old School” and Antonio Sacco DJ From “Takes Over Italo Disco” await you every Tuesday from 5pm to 7pm. Download the free App for iOS or Android\, or click on www.radiodanceroma.it
URL:https://www.eventimusica.com/event/the-club-house-radiodanceroma-tuesday-20/
LOCATION:Ardea
CATEGORIES:intrattenimento,musica
ATTACH;FMTTYPE=image/png:https://www.eventimusica.com/wp-content/uploads/2023/11/Tuesday-Rdr-1-1.png
END:VEVENT
BEGIN:VEVENT
DTSTART;TZID=Europe/Rome:20240213T170000
DTEND;TZID=Europe/Rome:20240213T190000
DTSTAMP:20260420T045049
CREATED:20240213T163908Z
LAST-MODIFIED:20240213T163908Z
UID:2689-1707843600-1707850800@www.eventimusica.com
SUMMARY:The Club House - RadioDanceRoma - Guest\, Sisters Cap
DESCRIPTION:Marco Graziosi with “The Club” and his guests\, Josephx DJ with “Old School” and Antonio Sacco DJ From “Takes Over Italo Disco” await you every Tuesday from 5pm to 7pm. Download the free App for iOS or Android\, or click on www.radiodanceroma.it Guest Sisters Cap
URL:https://www.eventimusica.com/event/the-club-house-radiodanceroma-guest-sisters-cap/
LOCATION:Ardea
CATEGORIES:intrattenimento,musica
ATTACH;FMTTYPE=image/png:https://www.eventimusica.com/wp-content/uploads/2024/02/Sisterscaps-interview.png
END:VEVENT
BEGIN:VEVENT
DTSTART;TZID=Europe/Rome:20240213T170000
DTEND;TZID=Europe/Rome:20240213T190000
DTSTAMP:20260420T045049
CREATED:20240207T150922Z
LAST-MODIFIED:20240207T150922Z
UID:2679-1707843600-1707850800@www.eventimusica.com
SUMMARY:The Club House - RadioDanceRoma - Tuesday
DESCRIPTION:Marco Graziosi with “The Club” and his guests\, Josephx DJ with “Old School” and Antonio Sacco DJ From “Takes Over Italo Disco” await you every Tuesday from 5pm to 7pm. Download the free App for iOS or Android\, or click on www.radiodanceroma.it
URL:https://www.eventimusica.com/event/the-club-house-radiodanceroma-tuesday-19/
LOCATION:Ardea
CATEGORIES:intrattenimento,musica
ATTACH;FMTTYPE=image/png:https://www.eventimusica.com/wp-content/uploads/2023/11/Tuesday-Rdr-1-1.png
END:VEVENT
BEGIN:VEVENT
DTSTART;TZID=Europe/Rome:20240210T100000
DTEND;TZID=Europe/Rome:20240211T190000
DTSTAMP:20260420T045049
CREATED:20240202T122603Z
LAST-MODIFIED:20240207T152039Z
UID:2669-1707559200-1707678000@www.eventimusica.com
SUMMARY:Takes Over Italo Disco TOUR \,Presentazione evento del 22 Marzo
DESCRIPTION:Music Day Roma è partner del concerto: Marco Graziosi ed il suo staff\, ti aspettano\, Sabato 10 e Domenica 11 Febbraio durante la Fiera del Disco di Roma\, presso lo stand “Takes Over Italo Disco” dove avrai la possibilità di acquistare il biglietto a prezzi SCONTATI ed incontrare Ryan Paris e Claudio Casalini\, Sandro Tommasi e Mr Robert. Lo stand di “Takes Over” Italo Disco sarà anche un punto di incontro per confrontarsi e trovare una collaborazione e sinergie con i proprietari di locali\, gestori\, organizzatori di eventi\, p.r. per una futura collaborazione con un evento unico per il format che partirà in TOUR con la prima data il 22 Marzo 2024 c/o “Orion Live Club” di Ciampino\, Roma. Quando si parla di Storia della Musica e di DJ che hanno fatto scuola\, Music Day Roma c’è !!! Non mancate !!!
URL:https://www.eventimusica.com/event/takes-over-italodisco-tour/
LOCATION:Hotel Mercure WEST Roma\, Via Eroi di Cefalonia 301\, Roma
CATEGORIES:intrattenimento,musica
ATTACH;FMTTYPE=image/png:https://www.eventimusica.com/wp-content/uploads/2024/02/Music-Day-Roma-FB.png
END:VEVENT
BEGIN:VEVENT
DTSTART;TZID=Europe/Rome:20240207T170000
DTEND;TZID=Europe/Rome:20240207T190000
DTSTAMP:20260420T045049
CREATED:20240213T164154Z
LAST-MODIFIED:20240213T164154Z
UID:2692-1707325200-1707332400@www.eventimusica.com
SUMMARY:The Club Dance e Italo Disco - OnAir - Wednesday
DESCRIPTION:The Club Dance is the program where you dance to the hits of a magical period. Partner of “TakesOver Italo”\, and with Simon DJ and his “MixTime”\, we are waiting for you with our guests on www.radiodanceroma.it. In this episode Massimo Martelli in his “Dance Talk” presents us with “G. J. Lunghi” and “Graziano” \, Live stream  www.twitch.tv/eventimusica
URL:https://www.eventimusica.com/event/the-club-dance-e-italo-disco-onair-wednesday-5/
LOCATION:The Club Studio\, Ardea\, Roma\, Italia
CATEGORIES:intrattenimento,musica
ATTACH;FMTTYPE=image/png:https://www.eventimusica.com/wp-content/uploads/2024/02/Graziano-e-G-J-Lunghi-.png
END:VEVENT
BEGIN:VEVENT
DTSTART;TZID=Europe/Rome:20240207T170000
DTEND;TZID=Europe/Rome:20240207T190000
DTSTAMP:20260420T045049
CREATED:20240207T150831Z
LAST-MODIFIED:20240207T150831Z
UID:2677-1707325200-1707332400@www.eventimusica.com
SUMMARY:The Club Dance e Italo Disco - OnAir - Wednesday
DESCRIPTION:The Club Dance is the program where you dance to the hits of a magical period. Partner of “TakesOver Italo”\, and with Simon DJ and his “MixTime”\, we are waiting for you with our guests on www.radiodanceroma.it. In this episode Massimo Martelli in his “Dance Talk” presents us with “Mark Tower”. You can also follow TV on www.twitch.tv/eventimusica
URL:https://www.eventimusica.com/event/the-club-dance-e-italo-disco-onair-wednesday-4/
LOCATION:The Club Studio\, Ardea\, Roma\, Italia
CATEGORIES:intrattenimento,musica
ATTACH;FMTTYPE=image/png:https://www.eventimusica.com/wp-content/uploads/2023/11/The-Club-Dance.png
END:VEVENT
BEGIN:VEVENT
DTSTART;TZID=Europe/Rome:20231206T170000
DTEND;TZID=Europe/Rome:20231206T190000
DTSTAMP:20260420T045049
CREATED:20231129T193346Z
LAST-MODIFIED:20231129T193346Z
UID:2660-1701882000-1701889200@www.eventimusica.com
SUMMARY:The Club Dance e Italo Disco - OnAir - Wednesday
DESCRIPTION:The Club Dance is the program where you dance to the hits of a magical period. Partner of “TakesOver Italo”\, and with Simon DJ and his “MixTime”\, we are waiting for you with our guests on www.radiodanceroma.it. In this episode Massimo Martelli in his “Dance Talk” presents us with “Mark Tower”. You can also follow TV on www.twitch.tv/eventimusica
URL:https://www.eventimusica.com/event/the-club-dance-e-italo-disco-onair-wednesday-3/
LOCATION:The Club Studio\, Ardea\, Roma\, Italia
CATEGORIES:intrattenimento,musica
ATTACH;FMTTYPE=image/png:https://www.eventimusica.com/wp-content/uploads/2023/11/The-Club-Dance.png
END:VEVENT
BEGIN:VEVENT
DTSTART;TZID=Europe/Rome:20231205T170000
DTEND;TZID=Europe/Rome:20231205T190000
DTSTAMP:20260420T045049
CREATED:20231129T193317Z
LAST-MODIFIED:20231129T193317Z
UID:2658-1701795600-1701802800@www.eventimusica.com
SUMMARY:The Club House - RadioDanceRoma - Tuesday
DESCRIPTION:Marco Graziosi with “The Club” and his guests\, Josephx DJ with “Old School” and Antonio Sacco DJ From “Takes Over Italo Disco” await you every Tuesday from 5pm to 7pm. Download the free App for iOS or Android\, or click on www.radiodanceroma.it
URL:https://www.eventimusica.com/event/the-club-house-radiodanceroma-tuesday-18/
LOCATION:Ardea
CATEGORIES:intrattenimento,musica
ATTACH;FMTTYPE=image/png:https://www.eventimusica.com/wp-content/uploads/2023/11/Tuesday-Rdr-1-1.png
END:VEVENT
BEGIN:VEVENT
DTSTART;TZID=Europe/Rome:20231129T170000
DTEND;TZID=Europe/Rome:20231129T190000
DTSTAMP:20260420T045049
CREATED:20231127T122124Z
LAST-MODIFIED:20231127T122124Z
UID:2655-1701277200-1701284400@www.eventimusica.com
SUMMARY:The Club Dance e Italo Disco - OnAir - Wednesday
DESCRIPTION:The Club Dance is the program where you dance to the hits of a magical period. Partner of “TakesOver Italo”\, and with Simon DJ and his “MixTime”\, we are waiting for you with our guests on www.radiodanceroma.it. In this episode Massimo Martelli in his “Dance Talk” presents us with “Mark Tower”. You can also follow TV on www.twitch.tv/eventimusica
URL:https://www.eventimusica.com/event/the-club-dance-e-italo-disco-onair-wednesday-2/
LOCATION:The Club Studio\, Ardea\, Roma\, Italia
CATEGORIES:intrattenimento,musica
ATTACH;FMTTYPE=image/png:https://www.eventimusica.com/wp-content/uploads/2023/11/The-Club-Dance.png
END:VEVENT
BEGIN:VEVENT
DTSTART;TZID=Europe/Rome:20231128T170000
DTEND;TZID=Europe/Rome:20231128T190000
DTSTAMP:20260420T045049
CREATED:20231127T115035Z
LAST-MODIFIED:20231127T115035Z
UID:2651-1701190800-1701198000@www.eventimusica.com
SUMMARY:The Club House - RadioDanceRoma - Tuesday
DESCRIPTION:Marco Graziosi with “The Club” and his guests\, Josephx DJ with “Old School” and Antonio Sacco DJ From “Takes Over Italo Disco” await you every Tuesday from 5pm to 7pm. Download the free App for iOS or Android\, or click on www.radiodanceroma.it
URL:https://www.eventimusica.com/event/the-club-house-radiodanceroma-tuesday-17/
LOCATION:Ardea
CATEGORIES:intrattenimento,musica
ATTACH;FMTTYPE=image/png:https://www.eventimusica.com/wp-content/uploads/2023/11/Tuesday-Rdr-1-1.png
END:VEVENT
BEGIN:VEVENT
DTSTART;TZID=Europe/Rome:20231115T170000
DTEND;TZID=Europe/Rome:20231115T190000
DTSTAMP:20260420T045049
CREATED:20231021T194619Z
LAST-MODIFIED:20231021T194619Z
UID:2637-1700067600-1700074800@www.eventimusica.com
SUMMARY:The Club Dance e Italo Disco - OnAir - Wednesday
DESCRIPTION:The Club Dance is the program where you listen and dance to the hits of a magical thirty years. Partner of “TakesOver Italo” Disco\, we are waiting for you with our guests on www.radiodanceroma.it. In this episode\, Massimo Martelli in his “Dance Talk” presents us with “Moskow”. Follow live streaming www.twitch.tv/eventimusica
URL:https://www.eventimusica.com/event/the-club-dance-e-italo-disco-onair-wednesday/
LOCATION:The Club Studio\, Ardea\, Roma\, Italia
CATEGORIES:intrattenimento,musica
ATTACH;FMTTYPE=image/png:https://www.eventimusica.com/wp-content/uploads/2023/03/Martedi-3.png
END:VEVENT
BEGIN:VEVENT
DTSTART;TZID=Europe/Rome:20231114T170000
DTEND;TZID=Europe/Rome:20231114T190000
DTSTAMP:20260420T045049
CREATED:20231021T194502Z
LAST-MODIFIED:20231021T194502Z
UID:2634-1699981200-1699988400@www.eventimusica.com
SUMMARY:The Club House - RadioDanceRoma - Tuesday
DESCRIPTION:Marco Graziosi with “The Club” and his guests\, Josephx DJ with “Old School” and Antonio Sacco DJ From “Takes Over Italo Disco” await you every Tuesday from 5pm to 7pm. Download the free App for iOS or Android\, or click on www.radiodanceroma.it
URL:https://www.eventimusica.com/event/the-club-house-radiodanceroma-tuesday-16/
LOCATION:Ardea
CATEGORIES:intrattenimento,musica
ATTACH;FMTTYPE=image/png:https://www.eventimusica.com/wp-content/uploads/2023/10/Tuesday.png
END:VEVENT
BEGIN:VEVENT
DTSTART;TZID=Europe/Rome:20231031T170000
DTEND;TZID=Europe/Rome:20231031T190000
DTSTAMP:20260420T045049
CREATED:20231021T183830Z
LAST-MODIFIED:20231021T183830Z
UID:2632-1698771600-1698778800@www.eventimusica.com
SUMMARY:The Club House - RadioDanceRoma - Tuesday
DESCRIPTION:Marco Graziosi with “The Club” and his guests\, Josephx DJ with “Old School” and Antonio Sacco DJ From “Takes Over Italo Disco” await you every Tuesday from 5pm to 7pm. Download the free App for iOS or Android\, or click on www.radiodanceroma.it
URL:https://www.eventimusica.com/event/the-club-house-radiodanceroma-tuesday-15/
LOCATION:Ardea
CATEGORIES:intrattenimento,musica
ATTACH;FMTTYPE=image/png:https://www.eventimusica.com/wp-content/uploads/2023/10/The-Club-Tuesday.png
END:VEVENT
BEGIN:VEVENT
DTSTART;TZID=Europe/Rome:20231025T170000
DTEND;TZID=Europe/Rome:20231025T190000
DTSTAMP:20260420T045049
CREATED:20231015T181224Z
LAST-MODIFIED:20231021T183544Z
UID:2609-1698253200-1698260400@www.eventimusica.com
SUMMARY:The Club Dance e Italo Disco - RDR - Guest "Moskow"- Wednesday
DESCRIPTION:The Club Dance is the program where you listen and dance to the hits of a magical thirty years. Partner of “TakesOver Italo” Disco\, we are waiting for you with our guests on www.radiodanceroma.it. In this episode\, Massimo Martelli in his “Dance Talk” presents us with “Moskow”. Follow live streaming www.twitch.tv/eventimusica
URL:https://www.eventimusica.com/event/the-club-dance-e-italo-disco-radiodanceroma-wednesday-2/
LOCATION:The Club Studio\, Ardea\, Roma\, Italia
CATEGORIES:intrattenimento,musica
ATTACH;FMTTYPE=image/png:https://www.eventimusica.com/wp-content/uploads/2023/10/RDR-The-Club-Dance-Moskow-1.png
END:VEVENT
BEGIN:VEVENT
DTSTART;TZID=Europe/Rome:20231024T170000
DTEND;TZID=Europe/Rome:20231024T190000
DTSTAMP:20260420T045049
CREATED:20231015T181635Z
LAST-MODIFIED:20231015T181635Z
UID:2613-1698166800-1698174000@www.eventimusica.com
SUMMARY:The Club House - RadioDanceRoma - Tuesday
DESCRIPTION:Marco Graziosi with “The Club” and his guests\, Josephx DJ with “Old School” and Antonio Sacco DJ From “Takes Over Italo Disco” await you every Tuesday from 5pm to 7pm. Download the free App for iOS or Android\, or click on www.radiodanceroma.it
URL:https://www.eventimusica.com/event/the-club-house-radiodanceroma-tuesday-14/
LOCATION:Ardea
CATEGORIES:intrattenimento,musica
ATTACH;FMTTYPE=image/png:https://www.eventimusica.com/wp-content/uploads/2023/10/The-Club-Tuesday.png
END:VEVENT
BEGIN:VEVENT
DTSTART;TZID=Europe/Rome:20231022T170000
DTEND;TZID=Europe/Rome:20231022T180000
DTSTAMP:20260420T045049
CREATED:20231015T182125Z
LAST-MODIFIED:20231015T182125Z
UID:2617-1697994000-1697997600@www.eventimusica.com
SUMMARY:The Club Dance \, Italo Disco - Radiowifiofficial - Sunday
DESCRIPTION:The Club Dance\, Every Sunday with the Italo Disco\, Euro Dance\, 70s\, 80s\, 90s\, with Marco Graziosi and Simon DJ with “Dance Mix”. Listen Onair www.radiowifiofficial.it from Eventimusica Studio.
URL:https://www.eventimusica.com/event/the-club-dance-italo-disco-radiowifiofficial-sunday/
LOCATION:The Club Studio\, Ardea\, Roma\, Italia
CATEGORIES:intrattenimento,musica
ATTACH;FMTTYPE=image/png:https://www.eventimusica.com/wp-content/uploads/2023/10/Marco-Graziosi-Sabato-The-Club-Dance-RadioWifi.png
END:VEVENT
BEGIN:VEVENT
DTSTART;TZID=Europe/Rome:20231021T170000
DTEND;TZID=Europe/Rome:20231021T180000
DTSTAMP:20260420T045049
CREATED:20231015T181735Z
LAST-MODIFIED:20231015T181735Z
UID:2615-1697907600-1697911200@www.eventimusica.com
SUMMARY:The Club House - Radiowifiofficial - Saturday
DESCRIPTION:Nuovo appuntamento con “The Club House” il Sabato su www.radiowifiofficial.it dalle 17:00 alle 18:00 in compagnia di Marco Graziosi e Josephx DJ ed il suo “Old School”.
URL:https://www.eventimusica.com/event/the-club-house-radiowifiofficial-saturday-2/
LOCATION:Ardea
CATEGORIES:intrattenimento,musica
ATTACH;FMTTYPE=image/png:https://www.eventimusica.com/wp-content/uploads/2023/10/Marco-Graziosi-Domenica-Radiowifi.png
END:VEVENT
BEGIN:VEVENT
DTSTART;TZID=Europe/Rome:20231018T170000
DTEND;TZID=Europe/Rome:20231018T190000
DTSTAMP:20260420T045049
CREATED:20231015T181137Z
LAST-MODIFIED:20231015T181137Z
UID:2606-1697648400-1697655600@www.eventimusica.com
SUMMARY:The Club Dance - Guest Sharon May Linn with Massimo Martelli - Radiodanceroma
DESCRIPTION:The Club Dance is the program where you listen and dance to the Hits of a magical thirty years. Partner of TakesOver Italo Disco\, we are waiting for you with our guests on www.radiodanceroma.it. You can also watch live streaming www.twitch.tv/eventimusica
URL:https://www.eventimusica.com/event/the-club-dance-guest-sharon-may-linn-with-massimo-martelli-radiodanceroma/
LOCATION:The Club Studio\, Ardea\, Roma\, Italia
CATEGORIES:intrattenimento,musica
ATTACH;FMTTYPE=image/png:https://www.eventimusica.com/wp-content/uploads/2023/10/The-Club-Dance-Guest-Dance-Talk-with-Sharon-May-Linn.png
END:VEVENT
BEGIN:VEVENT
DTSTART;TZID=Europe/Rome:20231017T170000
DTEND;TZID=Europe/Rome:20231017T190000
DTSTAMP:20260420T045049
CREATED:20231015T181410Z
LAST-MODIFIED:20231015T181410Z
UID:2611-1697562000-1697569200@www.eventimusica.com
SUMMARY:The Club House - RadioDanceRoma - Tuesday
DESCRIPTION:Marco Graziosi with “The Club” and his guests\, Josephx DJ with “Old School” and Antonio Sacco DJ From “Takes Over Italo Disco” await you every Tuesday from 5pm to 7pm. Download the free App for iOS or Android\, or click on www.radiodanceroma.it
URL:https://www.eventimusica.com/event/the-club-house-radiodanceroma-tuesday-13/
LOCATION:Ardea
CATEGORIES:intrattenimento,musica
ATTACH;FMTTYPE=image/png:https://www.eventimusica.com/wp-content/uploads/2023/10/The-Club-Tuesday.png
END:VEVENT
BEGIN:VEVENT
DTSTART;TZID=Europe/Rome:20231011T170000
DTEND;TZID=Europe/Rome:20231011T190000
DTSTAMP:20260420T045049
CREATED:20231002T220122Z
LAST-MODIFIED:20231002T220122Z
UID:2598-1697043600-1697050800@www.eventimusica.com
SUMMARY:The Club Dance e Italo Disco - RadioDanceRoma - Wednesday
DESCRIPTION:The Club Dance is the program where you listen and dance to the Hits of a magical thirty years. Partner of TakesOver Italo Disco\, we are waiting for you with our guests on www.radiodanceroma.it. You can also watch live streaming www.twitch.tv/eventimusica
URL:https://www.eventimusica.com/event/the-club-dance-e-italo-disco-radiodanceroma-wednesday/
LOCATION:The Club Studio\, Ardea\, Roma\, Italia
CATEGORIES:intrattenimento,musica
ATTACH;FMTTYPE=image/png:https://www.eventimusica.com/wp-content/uploads/2023/10/The-Club-80-Mercoledi.png
END:VEVENT
BEGIN:VEVENT
DTSTART;TZID=Europe/Rome:20231010T170000
DTEND;TZID=Europe/Rome:20231010T190000
DTSTAMP:20260420T045049
CREATED:20231002T220046Z
LAST-MODIFIED:20231002T220046Z
UID:2596-1696957200-1696964400@www.eventimusica.com
SUMMARY:The Club House - RadioDanceRoma - Tuesday
DESCRIPTION:Marco Graziosi with “The Club” and his guests\, Josephx DJ with “Old School” await you every Tuesday from 5pm to 7pm. Download the free App for iOS or Android\, or click on www.radiodanceroma.it
URL:https://www.eventimusica.com/event/the-club-house-radiodanceroma-tuesday-12/
LOCATION:Ardea
CATEGORIES:intrattenimento,musica
ATTACH;FMTTYPE=image/png:https://www.eventimusica.com/wp-content/uploads/2023/10/The-Club-Tuesday.png
END:VEVENT
BEGIN:VEVENT
DTSTART;TZID=Europe/Rome:20231008T170000
DTEND;TZID=Europe/Rome:20231008T180000
DTSTAMP:20260420T045049
CREATED:20231002T221447Z
LAST-MODIFIED:20231002T221447Z
UID:2603-1696784400-1696788000@www.eventimusica.com
SUMMARY:The Club Dance \, Italo Disco - Radiowifiofficial - Domenica
DESCRIPTION:The Club Dance\, Italo Disco\, sintonizzati su www.radiowifiofficial.it In Studio Marco Graziosi DJ
URL:https://www.eventimusica.com/event/the-club-dance-italo-disco-radiowifiofficial-domenica/
LOCATION:The Club Studio\, Ardea\, Roma\, Italia
CATEGORIES:intrattenimento,musica
ATTACH;FMTTYPE=image/png:https://www.eventimusica.com/wp-content/uploads/2023/10/Marco-Graziosi-Sabato-The-Club-Dance-RadioWifi.png
END:VEVENT
BEGIN:VEVENT
DTSTART;TZID=Europe/Rome:20231007T170000
DTEND;TZID=Europe/Rome:20231007T180000
DTSTAMP:20260420T045049
CREATED:20231002T220800Z
LAST-MODIFIED:20231002T220800Z
UID:2600-1696698000-1696701600@www.eventimusica.com
SUMMARY:The Club House - Radiowifiofficial - Saturday
DESCRIPTION:Nuovo appuntamento con “The Club House” il Sabato su www.radiowifiofficial.it dalle 17:00 alle 18:00 in compagnia di Marco Graziosi e Josephx DJ ed il suo “Old School”.
URL:https://www.eventimusica.com/event/the-club-house-radiowifiofficial-saturday/
LOCATION:Ardea
CATEGORIES:intrattenimento,musica
ATTACH;FMTTYPE=image/png:https://www.eventimusica.com/wp-content/uploads/2023/10/Marco-Graziosi-Domenica-Radiowifi.png
END:VEVENT
BEGIN:VEVENT
DTSTART;TZID=Europe/Rome:20231004T170000
DTEND;TZID=Europe/Rome:20231004T190000
DTSTAMP:20260420T045049
CREATED:20231002T215959Z
LAST-MODIFIED:20231002T215959Z
UID:2593-1696438800-1696446000@www.eventimusica.com
SUMMARY:The Club Dance e Italo Disco - RadioDanceRoma - Wednesday
DESCRIPTION:The Club Dance is the program where you listen and dance to the Hits of a magical thirty years. Partner of TakesOver Italo Disco\, we are waiting for you with our guests on www.radiodanceroma.it. You can also watch live streaming www.twitch.tv/eventimusica
URL:https://www.eventimusica.com/event/the-club-dance-italo-disco-wednesday/
LOCATION:The Club Studio\, Ardea\, Roma\, Italia
CATEGORIES:intrattenimento,musica
ATTACH;FMTTYPE=image/png:https://www.eventimusica.com/wp-content/uploads/2023/10/The-Club-80-Mercoledi.png
END:VEVENT
BEGIN:VEVENT
DTSTART;TZID=Europe/Rome:20231003T170000
DTEND;TZID=Europe/Rome:20231003T190000
DTSTAMP:20260420T045049
CREATED:20231002T214844Z
LAST-MODIFIED:20231002T214844Z
UID:2590-1696352400-1696359600@www.eventimusica.com
SUMMARY:The Club House - RadioDanceRoma - Tuesday
DESCRIPTION:Marco Graziosi with “The Club” and his guests\, Josephx DJ with “Old School” await you every Tuesday from 5pm to 7pm. Download the free App for iOS or Android\, or click on www.radiodanceroma.it
URL:https://www.eventimusica.com/event/the-club-house-radiodanceroma-tuesday-11/
LOCATION:Ardea
CATEGORIES:intrattenimento,musica
ATTACH;FMTTYPE=image/png:https://www.eventimusica.com/wp-content/uploads/2023/10/The-Club-Tuesday.png
END:VEVENT
BEGIN:VEVENT
DTSTART;TZID=Europe/Rome:20230628T170000
DTEND;TZID=Europe/Rome:20230628T190000
DTSTAMP:20260420T045049
CREATED:20230622T172527Z
LAST-MODIFIED:20230622T172527Z
UID:2587-1687971600-1687978800@www.eventimusica.com
SUMMARY:The Club Dance 80s 70s 90s - RadioDanceRoma - Wednesday
DESCRIPTION:On the occasion of the Italo Disco “Takes Over” event in May\, which will be held in Riccione\, on Wednesday we will make the journey with the music that made history. www.radiodanceroma.it . You can see the program on www.twitch.tv/eventimusica
URL:https://www.eventimusica.com/event/the-club-dance-80s-70s-90s-radiodanceroma-wednesday-10/
LOCATION:The Club Studio\, Ardea\, Roma\, Italia
CATEGORIES:intrattenimento,musica
ATTACH;FMTTYPE=image/png:https://www.eventimusica.com/wp-content/uploads/2023/05/The-Club-80-Mercoledi.png
END:VEVENT
BEGIN:VEVENT
DTSTART;TZID=Europe/Rome:20230627T170000
DTEND;TZID=Europe/Rome:20230627T190000
DTSTAMP:20260420T045049
CREATED:20230622T170959Z
LAST-MODIFIED:20230622T170959Z
UID:2585-1687885200-1687892400@www.eventimusica.com
SUMMARY:The Club House - RadioDanceRoma - Tuesday
DESCRIPTION:Marco Graziosi in his “The Club” and his guests\, Josephx DJ with “Old School”  are waiting for you every Tuesday from 5:00Pm to 7:00Pm. Download the free App for iOS or Android\, or click on www.radiodanceroma.it
URL:https://www.eventimusica.com/event/the-club-house-radiodanceroma-tuesday-10/
LOCATION:Ardea
CATEGORIES:intrattenimento,musica
ATTACH;FMTTYPE=image/png:https://www.eventimusica.com/wp-content/uploads/2023/05/Tuesday-ig2.png
END:VEVENT
BEGIN:VEVENT
DTSTART;TZID=Europe/Rome:20230621T170000
DTEND;TZID=Europe/Rome:20230621T190000
DTSTAMP:20260420T045049
CREATED:20230613T144206Z
LAST-MODIFIED:20230613T144206Z
UID:2574-1687366800-1687374000@www.eventimusica.com
SUMMARY:The Club Dance 80s 70s 90s - RadioDanceRoma - Wednesday
DESCRIPTION:On the occasion of the Italo Disco “Takes Over” event in May\, which will be held in Riccione\, on Wednesday we will make the journey with the music that made history. www.radiodanceroma.it . You can see the program on www.twitch.tv/eventimusica
URL:https://www.eventimusica.com/event/the-club-dance-80s-70s-90s-radiodanceroma-wednesday-9/
LOCATION:The Club Studio\, Ardea\, Roma\, Italia
CATEGORIES:intrattenimento,musica
ATTACH;FMTTYPE=image/png:https://www.eventimusica.com/wp-content/uploads/2023/05/The-Club-80-Mercoledi.png
END:VEVENT
BEGIN:VEVENT
DTSTART;TZID=Europe/Rome:20230620T170000
DTEND;TZID=Europe/Rome:20230620T190000
DTSTAMP:20260420T045049
CREATED:20230613T144137Z
LAST-MODIFIED:20230613T144137Z
UID:2572-1687280400-1687287600@www.eventimusica.com
SUMMARY:The Club House - RadioDanceRoma - Tuesday
DESCRIPTION:Marco Graziosi in his “The Club” and his guests\, Josephx DJ with “Old School”  are waiting for you every Tuesday from 5:00Pm to 7:00Pm. Download the free App for iOS or Android\, or click on www.radiodanceroma.it
URL:https://www.eventimusica.com/event/the-club-house-radiodanceroma-tuesday-9/
LOCATION:Ardea
CATEGORIES:intrattenimento,musica
ATTACH;FMTTYPE=image/png:https://www.eventimusica.com/wp-content/uploads/2023/05/Tuesday-ig2.png
END:VEVENT
END:VCALENDAR