BEGIN:VCALENDAR
VERSION:2.0
PRODID:-//Eventimusica.com - ECPv6.15.17//NONSGML v1.0//EN
CALSCALE:GREGORIAN
METHOD:PUBLISH
X-ORIGINAL-URL:https://www.eventimusica.com
X-WR-CALDESC:Eventi per Eventimusica.com
REFRESH-INTERVAL;VALUE=DURATION:PT1H
X-Robots-Tag:noindex
X-PUBLISHED-TTL:PT1H
BEGIN:VTIMEZONE
TZID:Europe/Rome
BEGIN:DAYLIGHT
TZOFFSETFROM:+0100
TZOFFSETTO:+0200
TZNAME:CEST
DTSTART:20210328T010000
END:DAYLIGHT
BEGIN:STANDARD
TZOFFSETFROM:+0200
TZOFFSETTO:+0100
TZNAME:CET
DTSTART:20211031T010000
END:STANDARD
BEGIN:DAYLIGHT
TZOFFSETFROM:+0100
TZOFFSETTO:+0200
TZNAME:CEST
DTSTART:20220327T010000
END:DAYLIGHT
BEGIN:STANDARD
TZOFFSETFROM:+0200
TZOFFSETTO:+0100
TZNAME:CET
DTSTART:20221030T010000
END:STANDARD
BEGIN:DAYLIGHT
TZOFFSETFROM:+0100
TZOFFSETTO:+0200
TZNAME:CEST
DTSTART:20230326T010000
END:DAYLIGHT
BEGIN:STANDARD
TZOFFSETFROM:+0200
TZOFFSETTO:+0100
TZNAME:CET
DTSTART:20231029T010000
END:STANDARD
END:VTIMEZONE
BEGIN:VEVENT
DTSTART;TZID=Europe/Rome:20220928T170000
DTEND;TZID=Europe/Rome:20220928T190000
DTSTAMP:20260419T160952
CREATED:20220915T091037Z
LAST-MODIFIED:20220915T091037Z
UID:2228-1664384400-1664391600@www.eventimusica.com
SUMMARY:The Club Promo - Wednesday on RadioDanceRoma
DESCRIPTION:The Club Promo con Marco Graziosi DJ\, every Wednesday from 5:00 to 7:00 in collaboration with record labels\, DJs / producers with the latest recordings. Download the free “Radiodanceroma” App for iOS or Android or click on https://www.rdrradiodanceroma.it/no-sidebar-page/pop-player/ You can see the program on www.twitch.tv/theclubmusic
URL:https://www.eventimusica.com/event/the-club-promo-wednesday-on-radiodanceroma-27/
LOCATION:Studio The Club\, Ardea\, Roma\, 00040\, Italia
CATEGORIES:intrattenimento,musica
ATTACH;FMTTYPE=image/png:https://www.eventimusica.com/wp-content/uploads/2022/09/TCM-Promo.png
END:VEVENT
BEGIN:VEVENT
DTSTART;TZID=Europe/Rome:20220927T170000
DTEND;TZID=Europe/Rome:20220927T190000
DTSTAMP:20260419T160952
CREATED:20220915T090130Z
LAST-MODIFIED:20220915T090130Z
UID:2223-1664298000-1664305200@www.eventimusica.com
SUMMARY:The Club Music - Tuesday on RadioDanceRoma
DESCRIPTION:Marco Graziosi in his “The Club” and his guests\, JosephX Dj and “Old School” and Nello Jay with the “Megamix”\, are waiting for you every Tuesday from 5:00Pm to 7:00Pm. Download the free App for iOS or Android\, or click on https://www.rdrradiodanceroma.it/no-sidebar-page/pop-player/
URL:https://www.eventimusica.com/event/the-club-music-tuesday-on-radiodanceroma-28/
LOCATION:Studio The Club\, Ardea\, Roma\, 00040\, Italia
CATEGORIES:intrattenimento,musica
ATTACH;FMTTYPE=image/png:https://www.eventimusica.com/wp-content/uploads/2022/09/TCM-MArtedi.png
END:VEVENT
BEGIN:VEVENT
DTSTART;TZID=Europe/Rome:20220921T170000
DTEND;TZID=Europe/Rome:20220921T190000
DTSTAMP:20260419T160952
CREATED:20220915T090852Z
LAST-MODIFIED:20220915T090852Z
UID:2225-1663779600-1663786800@www.eventimusica.com
SUMMARY:The Club Promo - Wednesday on RadioDanceRoma
DESCRIPTION:The Club Promo is back every Wednesday from 5:00 to 7:00 in collaboration with record labels\, DJs / producers with the latest recordings. Download the free “Radiodanceroma” App for iOS or Android or click on https://www.rdrradiodanceroma.it/no-sidebar-page/pop-player/ You can see the program on www.twitch.tv/theclubmusic
URL:https://www.eventimusica.com/event/the-club-promo-wednesday-on-radiodanceroma-26/
LOCATION:Studio The Club\, Ardea\, Roma\, 00040\, Italia
CATEGORIES:intrattenimento,musica
ATTACH;FMTTYPE=image/png:https://www.eventimusica.com/wp-content/uploads/2022/09/TCM-Promo.png
END:VEVENT
BEGIN:VEVENT
DTSTART;TZID=Europe/Rome:20220920T170000
DTEND;TZID=Europe/Rome:20220920T190000
DTSTAMP:20260419T160952
CREATED:20220915T090006Z
LAST-MODIFIED:20220915T090006Z
UID:2220-1663693200-1663700400@www.eventimusica.com
SUMMARY:The Club...Music - Tuesday on RadioDanceRoma
DESCRIPTION:Marco Graziosi in his “The Club” and his guests\, JosephX Dj and “Old School” and Nello Jay with the “Megamix”\, are waiting for you every Tuesday from 5:00Pm to 7:00Pm. Download the free App for iOS or Android\, or click on https://www.rdrradiodanceroma.it/no-sidebar-page/pop-player/
URL:https://www.eventimusica.com/event/the-club-music-tuesday-on-radiodanceroma-27/
LOCATION:Studio The Club\, Ardea\, Roma\, 00040\, Italia
CATEGORIES:intrattenimento,musica
ATTACH;FMTTYPE=image/png:https://www.eventimusica.com/wp-content/uploads/2022/09/TCM-MArtedi.png
END:VEVENT
BEGIN:VEVENT
DTSTART;TZID=Europe/Rome:20220815T213000
DTEND;TZID=Europe/Rome:20220816T020000
DTSTAMP:20260419T160952
CREATED:20220811T104603Z
LAST-MODIFIED:20220811T105137Z
UID:2215-1660599000-1660615200@www.eventimusica.com
SUMMARY:Tucano Beach - Dance Hits 70s 80s
DESCRIPTION:Al Tucano Beach si balla la musica degli anni 70\, 80 mixata dal Dj Marco Graziosi
URL:https://www.eventimusica.com/event/tucano-beach-dance-hits-70s-80s/
CATEGORIES:musica
ATTACH;FMTTYPE=image/png:https://www.eventimusica.com/wp-content/uploads/2022/08/Tucano-Beach-15-Agosto-2022-1.png
END:VEVENT
BEGIN:VEVENT
DTSTART;TZID=Europe/Rome:20220814T220000
DTEND;TZID=Europe/Rome:20220815T010000
DTSTAMP:20260419T160952
CREATED:20220811T103952Z
LAST-MODIFIED:20220811T103952Z
UID:2212-1660514400-1660525200@www.eventimusica.com
SUMMARY:14 Agosto 2022 - Josada Beach
DESCRIPTION:Aspettando Ferragosto si balla in spiaggia la musica selezionata di Marco Graziosi DJ . Segui i live streaming e la programmazione da settembre 2022 su www.twitch.tv/theclubmusic
URL:https://www.eventimusica.com/event/14-agosto-2022-josada-beach/
CATEGORIES:intrattenimento,musica
ATTACH;FMTTYPE=image/png:https://www.eventimusica.com/wp-content/uploads/2022/08/14-Agosto-2022-Jopsada-Beach.png
END:VEVENT
BEGIN:VEVENT
DTSTART;TZID=Europe/Rome:20220813T170000
DTEND;TZID=Europe/Rome:20220813T203000
DTSTAMP:20260419T160952
CREATED:20220811T103306Z
LAST-MODIFIED:20220811T103306Z
UID:2208-1660410000-1660422600@www.eventimusica.com
SUMMARY:Saturday Lounge & ChillOut
DESCRIPTION:Il sabato è\, Aperitivo “Tucano Beach” dalle 17:00 alle 20:30 in diretta su radiodanceroma. Segui Live Streaming la programmazione su www.twitch.com/theclubmusic
URL:https://www.eventimusica.com/event/saturday-lounge-chillout/
CATEGORIES:intrattenimento,musica
ATTACH;FMTTYPE=image/png:https://www.eventimusica.com/wp-content/uploads/2022/08/Tucano-Beach-13-Agosto-2022.png
END:VEVENT
BEGIN:VEVENT
DTSTART;TZID=Europe/Rome:20220531T170000
DTEND;TZID=Europe/Rome:20220531T190000
DTSTAMP:20260419T160952
CREATED:20220518T164933Z
LAST-MODIFIED:20220518T164933Z
UID:2203-1654016400-1654023600@www.eventimusica.com
SUMMARY:The Club...Music - Tuesday on RadioDanceRoma
DESCRIPTION:Marco Graziosi in his “The Club” and his guests\, JosephX Dj and “Old School” and Nello Jay with the “Megamix”\, are waiting for you every Tuesday from 5:00Pm to 7:00Pm. Download the free App for iOS or Android\, or click on https://www.rdrradiodanceroma.it/no-sidebar-page/pop-player/
URL:https://www.eventimusica.com/event/the-club-music-tuesday-on-radiodanceroma-26/
LOCATION:Studio The Club\, Ardea\, Roma\, 00040\, Italia
CATEGORIES:intrattenimento,musica
ATTACH;FMTTYPE=image/png:https://www.eventimusica.com/wp-content/uploads/2022/04/vari-modelli-per-the-club-night-1.png
END:VEVENT
BEGIN:VEVENT
DTSTART;TZID=Europe/Rome:20220526T173000
DTEND;TZID=Europe/Rome:20220526T183000
DTSTAMP:20260419T160952
CREATED:20220518T165314Z
LAST-MODIFIED:20220518T165314Z
UID:2205-1653586200-1653589800@www.eventimusica.com
SUMMARY:The Club Music - Vinyl Only
DESCRIPTION:Tutti i Giovedì selezione musicale esclusivamente in vinile con il supporto dei 12″ o 7″. Possibii ospiti che propongono il loro dj set segui sul canale https://www.twitch.tv/theclubmusic
URL:https://www.eventimusica.com/event/the-club-music-vinyl-only-3/
LOCATION:The Club Studio\, Ardea\, Roma\, Italia
CATEGORIES:intrattenimento,musica
ATTACH;FMTTYPE=image/png:https://www.eventimusica.com/wp-content/uploads/2022/05/Thursday-Vinyl-Only-.png
END:VEVENT
BEGIN:VEVENT
DTSTART;TZID=Europe/Rome:20220525T170000
DTEND;TZID=Europe/Rome:20220525T190000
DTSTAMP:20260419T160952
CREATED:20220518T163815Z
LAST-MODIFIED:20220518T163815Z
UID:2199-1653498000-1653505200@www.eventimusica.com
SUMMARY:The Club...Promo - Wednesday on RadioDanceRoma
DESCRIPTION:Every Wednesday from 5:00 to 7:00 an appointment in collaboration with record labels\, DJs / producers and their new music. Download the free App for iOS or Android or click on https://www.rdrradiodanceroma.it/no-sidebar-page/pop-player/
URL:https://www.eventimusica.com/event/the-club-promo-wednesday-on-radiodanceroma-25/
LOCATION:Studio The Club\, Ardea\, Roma\, 00040\, Italia
CATEGORIES:intrattenimento,musica
ATTACH;FMTTYPE=image/png:https://www.eventimusica.com/wp-content/uploads/2022/01/The-Club-Promo-RDR.png
END:VEVENT
BEGIN:VEVENT
DTSTART;TZID=Europe/Rome:20220524T170000
DTEND;TZID=Europe/Rome:20220524T190000
DTSTAMP:20260419T160952
CREATED:20220518T164003Z
LAST-MODIFIED:20220518T164003Z
UID:2201-1653411600-1653418800@www.eventimusica.com
SUMMARY:The Club...Music - Tuesday on RadioDanceRoma
DESCRIPTION:Marco Graziosi in his “The Club” and his guests\, JosephX Dj and “Old School” and Nello Jay with the “Megamix”\, are waiting for you every Tuesday from 5:00Pm to 7:00Pm. Download the free App for iOS or Android\, or click on https://www.rdrradiodanceroma.it/no-sidebar-page/pop-player/
URL:https://www.eventimusica.com/event/the-club-music-tuesday-on-radiodanceroma-25/
LOCATION:Studio The Club\, Ardea\, Roma\, 00040\, Italia
CATEGORIES:intrattenimento,musica
ATTACH;FMTTYPE=image/png:https://www.eventimusica.com/wp-content/uploads/2022/04/vari-modelli-per-the-club-night-1.png
END:VEVENT
BEGIN:VEVENT
DTSTART;TZID=Europe/Rome:20220519T173000
DTEND;TZID=Europe/Rome:20220519T183000
DTSTAMP:20260419T160952
CREATED:20220505T180014Z
LAST-MODIFIED:20220505T180014Z
UID:2194-1652981400-1652985000@www.eventimusica.com
SUMMARY:The Club Music - Vinyl Only
DESCRIPTION:Tutti i Giovedì selezione musicale esclusivamente in vinile con il supporto dei 12″ o 7″. Possibii ospiti che propongono il loro dj set segui sul canale https://www.twitch.tv/theclubmusic
URL:https://www.eventimusica.com/event/the-club-music-vinyl-only-2/
LOCATION:The Club Studio\, Ardea\, Roma\, Italia
CATEGORIES:intrattenimento,musica
ATTACH;FMTTYPE=image/png:https://www.eventimusica.com/wp-content/uploads/2022/05/Thursday-Vinyl-Only-.png
END:VEVENT
BEGIN:VEVENT
DTSTART;TZID=Europe/Rome:20220517T170000
DTEND;TZID=Europe/Rome:20220517T190000
DTSTAMP:20260419T160952
CREATED:20220505T180246Z
LAST-MODIFIED:20220505T180246Z
UID:2196-1652806800-1652814000@www.eventimusica.com
SUMMARY:The Club...Music - Tuesday on RadioDanceRoma
DESCRIPTION:Marco Graziosi in his “The Club” and his guests\, JosephX Dj and “Old School” and Nello Jay with the “Megamix”\, are waiting for you every Tuesday from 5:00Pm to 7:00Pm. Download the free App for iOS or Android\, or click on https://www.rdrradiodanceroma.it/no-sidebar-page/pop-player/
URL:https://www.eventimusica.com/event/the-club-music-tuesday-on-radiodanceroma-24/
LOCATION:Studio The Club\, Ardea\, Roma\, 00040\, Italia
CATEGORIES:intrattenimento,musica
ATTACH;FMTTYPE=image/png:https://www.eventimusica.com/wp-content/uploads/2022/04/vari-modelli-per-the-club-night-1.png
END:VEVENT
BEGIN:VEVENT
DTSTART;TZID=Europe/Rome:20220513T220000
DTEND;TZID=Europe/Rome:20220515T220000
DTSTAMP:20260419T160952
CREATED:20220315T193633Z
LAST-MODIFIED:20220315T193633Z
UID:2155-1652479200-1652652000@www.eventimusica.com
SUMMARY:Takes Over\, Italo Disco
DESCRIPTION:“Takes Over” ItaloDisco \, un grande evento dedicato a tutti gli artisti\, produttori e agli appassionati dello straordinario decennio musicale degli anni ’80. Si apre Venerdi 13 maggio all’Altromondo Studios di Rimini con una straordinaria serata inaugurale. Per partecipare scrivi a  info@eventimusica.com . \n 
URL:https://www.eventimusica.com/event/takes-over-italo-disco/
LOCATION:Rimini
CATEGORIES:intrattenimento,musica
ATTACH;FMTTYPE=image/jpeg:https://www.eventimusica.com/wp-content/uploads/2022/03/ALTRO_MONDOSTUDIOS-2_page-0001.jpg
END:VEVENT
BEGIN:VEVENT
DTSTART;TZID=Europe/Rome:20220512T173000
DTEND;TZID=Europe/Rome:20220512T183000
DTSTAMP:20260419T160952
CREATED:20220505T175519Z
LAST-MODIFIED:20220505T175519Z
UID:2188-1652376600-1652380200@www.eventimusica.com
SUMMARY:The Club Music - Vinyl Only
DESCRIPTION:Tutti i Giovedì selezione musicale esclusivamente in vinile con il supporto dei 12″ o 7″. Possibii ospiti che propongono il loro dj set segui sul canale https://www.twitch.tv/theclubmusic
URL:https://www.eventimusica.com/event/the-club-music-vinyl-only/
LOCATION:The Club Studio\, Ardea\, Roma\, Italia
CATEGORIES:intrattenimento,musica
ATTACH;FMTTYPE=image/png:https://www.eventimusica.com/wp-content/uploads/2022/05/Thursday-Vinyl-Only-.png
END:VEVENT
BEGIN:VEVENT
DTSTART;TZID=Europe/Rome:20220511T170000
DTEND;TZID=Europe/Rome:20220511T190000
DTSTAMP:20260419T160952
CREATED:20220505T175643Z
LAST-MODIFIED:20220505T175643Z
UID:2190-1652288400-1652295600@www.eventimusica.com
SUMMARY:The Club...Promo - Wednesday on RadioDanceRoma
DESCRIPTION:Every Wednesday from 5:00 to 7:00 an appointment in collaboration with record labels\, DJs / producers and their new music. Download the free App for iOS or Android or click on https://www.rdrradiodanceroma.it/no-sidebar-page/pop-player/
URL:https://www.eventimusica.com/event/the-club-promo-wednesday-on-radiodanceroma-24/
LOCATION:Studio The Club\, Ardea\, Roma\, 00040\, Italia
CATEGORIES:intrattenimento,musica
ATTACH;FMTTYPE=image/png:https://www.eventimusica.com/wp-content/uploads/2022/01/The-Club-Promo-RDR.png
END:VEVENT
BEGIN:VEVENT
DTSTART;TZID=Europe/Rome:20220510T170000
DTEND;TZID=Europe/Rome:20220510T190000
DTSTAMP:20260419T160952
CREATED:20220505T175740Z
LAST-MODIFIED:20220505T175740Z
UID:2192-1652202000-1652209200@www.eventimusica.com
SUMMARY:The Club...Music - Tuesday on RadioDanceRoma
DESCRIPTION:Marco Graziosi in his “The Club” and his guests\, JosephX Dj and “Old School” and Nello Jay with the “Megamix”\, are waiting for you every Tuesday from 5:00Pm to 7:00Pm. Download the free App for iOS or Android\, or click on https://www.rdrradiodanceroma.it/no-sidebar-page/pop-player/
URL:https://www.eventimusica.com/event/the-club-music-tuesday-on-radiodanceroma-23/
LOCATION:Studio The Club\, Ardea\, Roma\, 00040\, Italia
CATEGORIES:intrattenimento,musica
ATTACH;FMTTYPE=image/png:https://www.eventimusica.com/wp-content/uploads/2022/04/vari-modelli-per-the-club-night-1.png
END:VEVENT
BEGIN:VEVENT
DTSTART;TZID=Europe/Rome:20220505T173000
DTEND;TZID=Europe/Rome:20220505T183000
DTSTAMP:20260419T160952
CREATED:20220505T140430Z
LAST-MODIFIED:20220505T140430Z
UID:1518-1651771800-1651775400@www.eventimusica.com
SUMMARY:Vinyl Passion
DESCRIPTION:Tutti i Giovedì selezione musicale esclusivamente in vinile con il supporto dei 12″ o 7″. Possibii ospiti che propongono il loro dj set segui sul canale https://www.twitch.tv/theclubmusic
URL:https://www.eventimusica.com/event/vinyl-passion/
LOCATION:The Club Studio\, Ardea\, Roma\, Italia
CATEGORIES:intrattenimento,musica
ATTACH;FMTTYPE=image/png:https://www.eventimusica.com/wp-content/uploads/2022/05/Thursday-Vinyl-Only-.png
END:VEVENT
BEGIN:VEVENT
DTSTART;TZID=Europe/Rome:20220427T170000
DTEND;TZID=Europe/Rome:20220427T190000
DTSTAMP:20260419T160952
CREATED:20220419T140130Z
LAST-MODIFIED:20220419T140130Z
UID:2181-1651078800-1651086000@www.eventimusica.com
SUMMARY:The Club...Promo - Wednesday on RadioDanceRoma
DESCRIPTION:Every Wednesday from 5:00 to 7:00 an appointment in collaboration with record labels\, DJs / producers and their new music. Download the free App for iOS or Android or click on https://www.rdrradiodanceroma.it/no-sidebar-page/pop-player/
URL:https://www.eventimusica.com/event/the-club-promo-wednesday-on-radiodanceroma-23/
LOCATION:Studio The Club\, Ardea\, Roma\, 00040\, Italia
CATEGORIES:intrattenimento,musica
ATTACH;FMTTYPE=image/png:https://www.eventimusica.com/wp-content/uploads/2022/01/The-Club-Promo-RDR.png
END:VEVENT
BEGIN:VEVENT
DTSTART;TZID=Europe/Rome:20220426T170000
DTEND;TZID=Europe/Rome:20220426T190000
DTSTAMP:20260419T160952
CREATED:20220419T140232Z
LAST-MODIFIED:20220419T140232Z
UID:2183-1650992400-1650999600@www.eventimusica.com
SUMMARY:The Club...Music - Tuesday on RadioDanceRoma
DESCRIPTION:Marco Graziosi in his “The Club” and his guests\, JosephX Dj and “Old School” and Nello Jay with the “Megamix”\, are waiting for you every Tuesday from 5:00Pm to 7:00Pm. Download the free App for iOS or Android\, or click on https://www.rdrradiodanceroma.it/no-sidebar-page/pop-player/
URL:https://www.eventimusica.com/event/the-club-music-tuesday-on-radiodanceroma-22/
LOCATION:Studio The Club\, Ardea\, Roma\, 00040\, Italia
CATEGORIES:intrattenimento,musica
ATTACH;FMTTYPE=image/png:https://www.eventimusica.com/wp-content/uploads/2022/04/vari-modelli-per-the-club-night-1.png
END:VEVENT
BEGIN:VEVENT
DTSTART;TZID=Europe/Rome:20220420T170000
DTEND;TZID=Europe/Rome:20220420T190000
DTSTAMP:20260419T160952
CREATED:20220419T140024Z
LAST-MODIFIED:20220419T140024Z
UID:2179-1650474000-1650481200@www.eventimusica.com
SUMMARY:The Club...Promo - Wednesday on RadioDanceRoma
DESCRIPTION:Every Wednesday from 5:00 to 7:00 an appointment in collaboration with record labels\, DJs / producers and their new music. Download the free App for iOS or Android or click on https://www.rdrradiodanceroma.it/no-sidebar-page/pop-player/
URL:https://www.eventimusica.com/event/the-club-promo-wednesday-on-radiodanceroma-22/
LOCATION:Studio The Club\, Ardea\, Roma\, 00040\, Italia
CATEGORIES:intrattenimento,musica
ATTACH;FMTTYPE=image/png:https://www.eventimusica.com/wp-content/uploads/2022/01/The-Club-Promo-RDR.png
END:VEVENT
BEGIN:VEVENT
DTSTART;TZID=Europe/Rome:20220419T170000
DTEND;TZID=Europe/Rome:20220419T190000
DTSTAMP:20260419T160952
CREATED:20220405T181321Z
LAST-MODIFIED:20220405T181321Z
UID:2174-1650387600-1650394800@www.eventimusica.com
SUMMARY:The Club...Music - Tuesday on RadioDanceRoma
DESCRIPTION:Marco Graziosi in his “The Club” and his guests\, JosephX Dj and “Old School” and Nello Jay with the “Megamix”\, are waiting for you every Tuesday from 5:00Pm to 7:00Pm. Download the free App for iOS or Android\, or click on https://www.rdrradiodanceroma.it/no-sidebar-page/pop-player/
URL:https://www.eventimusica.com/event/the-club-music-tuesday-on-radiodanceroma-21/
LOCATION:Studio The Club\, Ardea\, Roma\, 00040\, Italia
CATEGORIES:intrattenimento,musica
ATTACH;FMTTYPE=image/png:https://www.eventimusica.com/wp-content/uploads/2022/04/vari-modelli-per-the-club-night-1.png
END:VEVENT
BEGIN:VEVENT
DTSTART;TZID=Europe/Rome:20220413T170000
DTEND;TZID=Europe/Rome:20220413T190000
DTSTAMP:20260419T160952
CREATED:20220405T182841Z
LAST-MODIFIED:20220405T182841Z
UID:2177-1649869200-1649876400@www.eventimusica.com
SUMMARY:The Club...Promo - Wednesday on RadioDanceRoma
DESCRIPTION:Every Wednesday from 5:00 to 7:00 an appointment in collaboration with record labels\, DJs / producers and their new music. Download the free App for iOS or Android or click on https://www.rdrradiodanceroma.it/no-sidebar-page/pop-player/
URL:https://www.eventimusica.com/event/the-club-promo-wednesday-on-radiodanceroma-21/
LOCATION:Studio The Club\, Ardea\, Roma\, 00040\, Italia
CATEGORIES:intrattenimento,musica
ATTACH;FMTTYPE=image/png:https://www.eventimusica.com/wp-content/uploads/2022/01/The-Club-Promo-RDR.png
END:VEVENT
BEGIN:VEVENT
DTSTART;TZID=Europe/Rome:20220412T170000
DTEND;TZID=Europe/Rome:20220412T190000
DTSTAMP:20260419T160952
CREATED:20220405T141621Z
LAST-MODIFIED:20220405T180916Z
UID:2171-1649782800-1649790000@www.eventimusica.com
SUMMARY:The Club...Music - Tuesday on RadioDanceRoma
DESCRIPTION:Marco Graziosi in his “The Club” and his guests\, JosephX Dj and “Old School” and Nello Jay with the “Megamix”\, are waiting for you every Tuesday from 5:00Pm to 7:00Pm. Download the free App for iOS or Android\, or click on https://www.rdrradiodanceroma.it/no-sidebar-page/pop-player/
URL:https://www.eventimusica.com/event/the-club-music-tuesday-on-radiodanceroma-20/
LOCATION:Studio The Club\, Ardea\, Roma\, 00040\, Italia
CATEGORIES:intrattenimento,musica
ATTACH;FMTTYPE=image/png:https://www.eventimusica.com/wp-content/uploads/2022/04/vari-modelli-per-the-club-night.png
END:VEVENT
BEGIN:VEVENT
DTSTART;TZID=Europe/Rome:20220406T210000
DTEND;TZID=Europe/Rome:20220406T220000
DTSTAMP:20260419T160952
CREATED:20220315T153429Z
LAST-MODIFIED:20220315T153429Z
UID:2152-1649278800-1649282400@www.eventimusica.com
SUMMARY:Vinyl Festival - Easter 2022 - Marco Graziosi DJ
DESCRIPTION:6 Aprile 2022 alle ore 21:00 Dj ing con Marco Graziosi per quello che è l’evento più affascinante Live Streaming\,  “Vinl Festival”\, Pasqua 2022. Sintonizzati su www\,mixcloud.com/beenoisetv \n 
URL:https://www.eventimusica.com/event/vinyl-festival-easter-2022-ore-2100-marco-graziosi-dj-2/
CATEGORIES:musica
ATTACH;FMTTYPE=image/jpeg:https://www.eventimusica.com/wp-content/uploads/2022/03/6-aprile-vinyl-festival.jpg
END:VEVENT
BEGIN:VEVENT
DTSTART;TZID=Europe/Rome:20220406T170000
DTEND;TZID=Europe/Rome:20220406T190000
DTSTAMP:20260419T160952
CREATED:20220323T081457Z
LAST-MODIFIED:20220323T081457Z
UID:2163-1649264400-1649271600@www.eventimusica.com
SUMMARY:The Club...Promo - Wednesday on RadioDanceRoma
DESCRIPTION:Every Wednesday from 5:00 to 7:00 an appointment in collaboration with record labels\, DJs / producers and their new music. Download the free App for iOS or Android or click on https://www.rdrradiodanceroma.it/no-sidebar-page/pop-player/
URL:https://www.eventimusica.com/event/the-club-promo-wednesday-on-radiodanceroma-20/
LOCATION:Studio The Club\, Ardea\, Roma\, 00040\, Italia
CATEGORIES:intrattenimento,musica
ATTACH;FMTTYPE=image/png:https://www.eventimusica.com/wp-content/uploads/2022/01/The-Club-Promo-RDR.png
END:VEVENT
BEGIN:VEVENT
DTSTART;TZID=Europe/Rome:20220405T170000
DTEND;TZID=Europe/Rome:20220405T190000
DTSTAMP:20260419T160952
CREATED:20220323T081759Z
LAST-MODIFIED:20220323T081759Z
UID:2165-1649178000-1649185200@www.eventimusica.com
SUMMARY:The Club...Music - Tuesday on RadioDanceRoma
DESCRIPTION:Marco Graziosi in his “The Club” and his guests\, JosephX Dj and “Old School” and Nello Jay with the “Megamix”\, are waiting for you every Tuesday from 5:00Pm to 7:00Pm. Download the free App for iOS or Android\, or click on https://www.rdrradiodanceroma.it/no-sidebar-page/pop-player/
URL:https://www.eventimusica.com/event/the-club-music-tuesday-on-radiodanceroma-19/
LOCATION:Studio The Club\, Ardea\, Roma\, 00040\, Italia
CATEGORIES:intrattenimento,musica
ATTACH;FMTTYPE=image/png:https://www.eventimusica.com/wp-content/uploads/2022/01/The-Club-martedi-.png
END:VEVENT
BEGIN:VEVENT
DTSTART;TZID=Europe/Rome:20220330T170000
DTEND;TZID=Europe/Rome:20220330T190000
DTSTAMP:20260419T160952
CREATED:20220323T081021Z
LAST-MODIFIED:20220323T081021Z
UID:2159-1648659600-1648666800@www.eventimusica.com
SUMMARY:The Club...Promo - Wednesday on RadioDanceRoma
DESCRIPTION:Every Wednesday from 5:00 to 7:00 an appointment in collaboration with record labels\, DJs / producers and their new music. Download the free App for iOS or Android or click on https://www.rdrradiodanceroma.it/no-sidebar-page/pop-player/
URL:https://www.eventimusica.com/event/the-club-promo-wednesday-on-radiodanceroma-19/
LOCATION:Studio The Club\, Ardea\, Roma\, 00040\, Italia
CATEGORIES:intrattenimento,musica
ATTACH;FMTTYPE=image/png:https://www.eventimusica.com/wp-content/uploads/2022/01/The-Club-Promo-RDR.png
END:VEVENT
BEGIN:VEVENT
DTSTART;TZID=Europe/Rome:20220329T170000
DTEND;TZID=Europe/Rome:20220329T190000
DTSTAMP:20260419T160952
CREATED:20220323T081323Z
LAST-MODIFIED:20220323T081323Z
UID:2161-1648573200-1648580400@www.eventimusica.com
SUMMARY:The Club...Music - Tuesday on RadioDanceRoma
DESCRIPTION:Marco Graziosi in his “The Club” and his guests\, JosephX Dj and “Old School” and Nello Jay with the “Megamix”\, are waiting for you every Tuesday from 5:00Pm to 7:00Pm. Download the free App for iOS or Android\, or click on https://www.rdrradiodanceroma.it/no-sidebar-page/pop-player/
URL:https://www.eventimusica.com/event/the-club-music-tuesday-on-radiodanceroma-18/
LOCATION:Studio The Club\, Ardea\, Roma\, 00040\, Italia
CATEGORIES:intrattenimento,musica
ATTACH;FMTTYPE=image/png:https://www.eventimusica.com/wp-content/uploads/2022/01/The-Club-martedi-.png
END:VEVENT
BEGIN:VEVENT
DTSTART;VALUE=DATE:20220325
DTEND;VALUE=DATE:20220327
DTSTAMP:20260419T160952
CREATED:20220324T064527Z
LAST-MODIFIED:20220324T064527Z
UID:2167-1648166400-1648339199@www.eventimusica.com
SUMMARY:Venerdì e Sabato - TAG - Marco Graziosi DJ
DESCRIPTION:Venerdì 25 e Sabato 26 ti aspettiamo nel nuovo spazio dedicato alla musica\, TAG\, a Roma\, in Via Santa Passera 25\, (zona Marconi)\, con un DJ set di Marco Graziosi esclusivamente in vinile. info 3348532001
URL:https://www.eventimusica.com/event/venerdi-e-sabato-tag-marco-graziosi-dj/
CATEGORIES:musica
ATTACH;FMTTYPE=image/png:https://www.eventimusica.com/wp-content/uploads/2022/03/TAG-Venerdi-2.png
END:VEVENT
END:VCALENDAR