BEGIN:VCALENDAR
VERSION:2.0
PRODID:-//Eventimusica.com - ECPv6.15.17//NONSGML v1.0//EN
CALSCALE:GREGORIAN
METHOD:PUBLISH
X-WR-CALNAME:Eventimusica.com
X-ORIGINAL-URL:https://www.eventimusica.com
X-WR-CALDESC:Eventi per Eventimusica.com
REFRESH-INTERVAL;VALUE=DURATION:PT1H
X-Robots-Tag:noindex
X-PUBLISHED-TTL:PT1H
BEGIN:VTIMEZONE
TZID:Europe/Rome
BEGIN:DAYLIGHT
TZOFFSETFROM:+0100
TZOFFSETTO:+0200
TZNAME:CEST
DTSTART:20200329T010000
END:DAYLIGHT
BEGIN:STANDARD
TZOFFSETFROM:+0200
TZOFFSETTO:+0100
TZNAME:CET
DTSTART:20201025T010000
END:STANDARD
BEGIN:DAYLIGHT
TZOFFSETFROM:+0100
TZOFFSETTO:+0200
TZNAME:CEST
DTSTART:20210328T010000
END:DAYLIGHT
BEGIN:STANDARD
TZOFFSETFROM:+0200
TZOFFSETTO:+0100
TZNAME:CET
DTSTART:20211031T010000
END:STANDARD
BEGIN:DAYLIGHT
TZOFFSETFROM:+0100
TZOFFSETTO:+0200
TZNAME:CEST
DTSTART:20220327T010000
END:DAYLIGHT
BEGIN:STANDARD
TZOFFSETFROM:+0200
TZOFFSETTO:+0100
TZNAME:CET
DTSTART:20221030T010000
END:STANDARD
BEGIN:DAYLIGHT
TZOFFSETFROM:+0100
TZOFFSETTO:+0200
TZNAME:CEST
DTSTART:20230326T010000
END:DAYLIGHT
BEGIN:STANDARD
TZOFFSETFROM:+0200
TZOFFSETTO:+0100
TZNAME:CET
DTSTART:20231029T010000
END:STANDARD
END:VTIMEZONE
BEGIN:VEVENT
DTSTART;TZID=Europe/Rome:20220113T173000
DTEND;TZID=Europe/Rome:20220113T183000
DTSTAMP:20260419T220424
CREATED:20220106T002948Z
LAST-MODIFIED:20220106T002948Z
UID:2074-1642095000-1642098600@www.eventimusica.com
SUMMARY:Vinyl Only Vol. 27 - Guest Dj Marco Graziosi
DESCRIPTION:Eventimusica con il nuovo anno propone “Vinyl Only” dalle ore 5:30pm alle 6:30pm con un Dj set esclusivamente in Vinile con Marco Graziosi DJ.  House Music e Hits del passato. www.mixcloud.com/marcograziosidj
URL:https://www.eventimusica.com/event/vinyl-only-vol-27-guest-dj-marco-graziosi/
LOCATION:The Club Studio\, Ardea\, Roma\, Italia
CATEGORIES:musica
ATTACH;FMTTYPE=image/jpeg:https://www.eventimusica.com/wp-content/uploads/2021/01/Graziosi-Vinile-scaled.jpg
END:VEVENT
BEGIN:VEVENT
DTSTART;TZID=Europe/Rome:20220112T170000
DTEND;TZID=Europe/Rome:20220112T190000
DTSTAMP:20260419T220424
CREATED:20220106T001009Z
LAST-MODIFIED:20220106T001009Z
UID:2067-1642006800-1642014000@www.eventimusica.com
SUMMARY:The Club...Promo - Wednesday on RadioDanceRoma
DESCRIPTION:Every Wednesday from 5:00 to 7:00 an appointment in collaboration with record labels\, DJs / producers and their new music. Download the free App for iOS or Android or click on https://www.rdrradiodanceroma.it/no-sidebar-page/pop-player/
URL:https://www.eventimusica.com/event/the-club-promo-wednesday-on-radiodanceroma-11/
LOCATION:Studio The Club\, Ardea\, Roma\, 00040\, Italia
CATEGORIES:intrattenimento,musica
ATTACH;FMTTYPE=image/png:https://www.eventimusica.com/wp-content/uploads/2022/01/The-Club-Promo-RDR.png
END:VEVENT
BEGIN:VEVENT
DTSTART;TZID=Europe/Rome:20220111T170000
DTEND;TZID=Europe/Rome:20220111T190000
DTSTAMP:20260419T220424
CREATED:20220106T002343Z
LAST-MODIFIED:20220106T002343Z
UID:2071-1641920400-1641927600@www.eventimusica.com
SUMMARY:The Club...Music - Tuesday on RadioDanceRoma
DESCRIPTION:Marco Graziosi in his “The Club” and his guests\, JosephX Dj and “Old School” and Nello Jay with the “Megamix”\, are waiting for you every Tuesday from 5:00Pm to 7:00Pm. Download the free App for iOS or Android\, or click on https://www.rdrradiodanceroma.it/no-sidebar-page/pop-player/
URL:https://www.eventimusica.com/event/the-club-music-tuesday-on-radiodanceroma-11/
LOCATION:Studio The Club\, Ardea\, Roma\, 00040\, Italia
CATEGORIES:intrattenimento,musica
ATTACH;FMTTYPE=image/png:https://www.eventimusica.com/wp-content/uploads/2022/01/The-Club-martedi-.png
END:VEVENT
BEGIN:VEVENT
DTSTART;TZID=Europe/Rome:20220106T173000
DTEND;TZID=Europe/Rome:20220106T183000
DTSTAMP:20260419T220424
CREATED:20220106T000249Z
LAST-MODIFIED:20220106T001047Z
UID:2064-1641490200-1641493800@www.eventimusica.com
SUMMARY:Vinyl Only Vol. 26 - Guest Dj Marco Graziosi
DESCRIPTION:Eventimusica con il nuovo anno propone “Vinyl Only” dalle ore 5:30pm alle 6:30pm con un Dj set esclusivamente in Vinile con Marco Graziosi DJ.  House Music e Hits del passato. www.mixcloud.com/marcograziosidj
URL:https://www.eventimusica.com/event/vinyl-only-vol-26-guest-dj-marco-graziosi/
LOCATION:The Club Studio\, Ardea\, Roma\, Italia
CATEGORIES:musica
ATTACH;FMTTYPE=image/png:https://www.eventimusica.com/wp-content/uploads/2022/01/Epifania-Instagram-.png
END:VEVENT
BEGIN:VEVENT
DTSTART;TZID=Europe/Rome:20211223T173000
DTEND;TZID=Europe/Rome:20211223T183000
DTSTAMP:20260419T220424
CREATED:20211218T130957Z
LAST-MODIFIED:20211218T130957Z
UID:2057-1640280600-1640284200@www.eventimusica.com
SUMMARY:Vinyl Only Vol. 25 - Guest Dj Marco Graziosi
DESCRIPTION:Eventimusica con il nuovo anno propone “Vinyl Only” dalle ore 5:30pm alle 6:30pm con un Dj set esclusivamente in Vinile con Marco Graziosi DJ.  House Music e Hits del passato. www.mixcloud.com/marcograziosidj
URL:https://www.eventimusica.com/event/vinyl-only-vol-25-guest-dj-marco-graziosi-2/
LOCATION:The Club Studio\, Ardea\, Roma\, Italia
CATEGORIES:musica
ATTACH;FMTTYPE=image/jpeg:https://www.eventimusica.com/wp-content/uploads/2021/01/Graziosi-Vinile-scaled.jpg
END:VEVENT
BEGIN:VEVENT
DTSTART;TZID=Europe/Rome:20211222T180000
DTEND;TZID=Europe/Rome:20211222T190000
DTSTAMP:20260419T220424
CREATED:20211218T131049Z
LAST-MODIFIED:20211218T131049Z
UID:2059-1640196000-1640199600@www.eventimusica.com
SUMMARY:The Club...Promo - Wednesday on RadioDanceRoma
DESCRIPTION:Every Wednesday from 6:00 to 7:00 an appointment in collaboration with record labels\, DJs / producers and their new music. Download the free App for iOS or Android or click on https://www.rdrradiodanceroma.it/no-sidebar-page/pop-player/
URL:https://www.eventimusica.com/event/the-club-promo-wednesday-on-radiodanceroma-10/
LOCATION:Studio The Club\, Ardea\, Roma\, 00040\, Italia
CATEGORIES:intrattenimento,musica
ATTACH;FMTTYPE=image/png:https://www.eventimusica.com/wp-content/uploads/2021/12/The-Club-Promo-RDR.png
END:VEVENT
BEGIN:VEVENT
DTSTART;TZID=Europe/Rome:20211221T180000
DTEND;TZID=Europe/Rome:20211221T190000
DTSTAMP:20260419T220424
CREATED:20211218T131205Z
LAST-MODIFIED:20211218T131205Z
UID:2061-1640109600-1640113200@www.eventimusica.com
SUMMARY:The Club...Music - Tuesday on RadioDanceRoma
DESCRIPTION:The Club is waiting for you every Tuesday from 6:00Pm to 7:00Pm .To listen\, download the free App for iOS or Android\, or click on https://www.rdrradiodanceroma.it/no-sidebar-page/pop-player/
URL:https://www.eventimusica.com/event/the-club-music-tuesday-on-radiodanceroma-10/
LOCATION:Studio The Club\, Ardea\, Roma\, 00040\, Italia
CATEGORIES:intrattenimento,musica
ATTACH;FMTTYPE=image/png:https://www.eventimusica.com/wp-content/uploads/2021/10/Marco-Graziosi-e-JosephX-Dj-1.png
END:VEVENT
BEGIN:VEVENT
DTSTART;TZID=Europe/Rome:20211216T173000
DTEND;TZID=Europe/Rome:20211216T183000
DTSTAMP:20260419T220424
CREATED:20211208T190425Z
LAST-MODIFIED:20211208T190425Z
UID:2053-1639675800-1639679400@www.eventimusica.com
SUMMARY:Vinyl Only Vol. 24 - Guest Dj Marco Graziosi
DESCRIPTION:Eventimusica con il nuovo anno propone “Vinyl Only” dalle ore 5:30pm alle 6:30pm con un Dj set esclusivamente in Vinile con Marco Graziosi DJ.  House Music e Hits del passato. www.mixcloud.com/marcograziosidj
URL:https://www.eventimusica.com/event/vinyl-only-vol-24-guest-dj-marco-graziosi/
LOCATION:The Club Studio\, Ardea\, Roma\, Italia
CATEGORIES:musica
ATTACH;FMTTYPE=image/jpeg:https://www.eventimusica.com/wp-content/uploads/2021/01/Graziosi-Vinile-scaled.jpg
END:VEVENT
BEGIN:VEVENT
DTSTART;TZID=Europe/Rome:20211215T180000
DTEND;TZID=Europe/Rome:20211215T190000
DTSTAMP:20260419T220424
CREATED:20211208T185637Z
LAST-MODIFIED:20211208T185637Z
UID:2044-1639591200-1639594800@www.eventimusica.com
SUMMARY:The Club...Promo - Wednesday on RadioDanceRoma
DESCRIPTION:Every Wednesday from 6:00 to 7:00 an appointment in collaboration with record labels\, DJs / producers and their new music. Download the free App for iOS or Android or click on https://www.rdrradiodanceroma.it/no-sidebar-page/pop-player/
URL:https://www.eventimusica.com/event/the-club-promo-wednesday-on-radiodanceroma-9/
LOCATION:Studio The Club\, Ardea\, Roma\, 00040\, Italia
CATEGORIES:intrattenimento,musica
ATTACH;FMTTYPE=image/png:https://www.eventimusica.com/wp-content/uploads/2021/12/The-Club-Promo-RDR.png
END:VEVENT
BEGIN:VEVENT
DTSTART;TZID=Europe/Rome:20211214T180000
DTEND;TZID=Europe/Rome:20211214T190000
DTSTAMP:20260419T220424
CREATED:20211208T190124Z
LAST-MODIFIED:20211208T190124Z
UID:2051-1639504800-1639508400@www.eventimusica.com
SUMMARY:The Club...Music - Tuesday on RadioDanceRoma
DESCRIPTION:The Club is waiting for you every Tuesday from 6:00Pm to 7:00Pm .To listen\, download the free App for iOS or Android\, or click on https://www.rdrradiodanceroma.it/no-sidebar-page/pop-player/
URL:https://www.eventimusica.com/event/the-club-music-tuesday-on-radiodanceroma-9/
LOCATION:Studio The Club\, Ardea\, Roma\, 00040\, Italia
CATEGORIES:intrattenimento,musica
ATTACH;FMTTYPE=image/png:https://www.eventimusica.com/wp-content/uploads/2021/10/Marco-Graziosi-e-JosephX-Dj-1.png
END:VEVENT
BEGIN:VEVENT
DTSTART;TZID=Europe/Rome:20211213T200000
DTEND;TZID=Europe/Rome:20211213T210000
DTSTAMP:20260419T220424
CREATED:20211125T140132Z
LAST-MODIFIED:20211125T140132Z
UID:2028-1639425600-1639429200@www.eventimusica.com
SUMMARY:Christmas Festival 2021 - 13 Dic - Marco Graziosi DJ
DESCRIPTION:Lunedì 13 Dicembre Marco Graziosi DJ suona per te durante il Christmas Festival per BeenoiseTv. Segui www.mixcloud.com/beenoisetv \n 
URL:https://www.eventimusica.com/event/christmas-festival-2021-13-dic-marco-graziosi-dj/
LOCATION:beenoiseTv
CATEGORIES:musica
ATTACH;FMTTYPE=image/png:https://www.eventimusica.com/wp-content/uploads/2021/11/marco-graziosi-christmas-fest-640x640-1.png
END:VEVENT
BEGIN:VEVENT
DTSTART;TZID=Europe/Rome:20211209T173000
DTEND;TZID=Europe/Rome:20211209T183000
DTSTAMP:20260419T220424
CREATED:20211208T185824Z
LAST-MODIFIED:20211208T185855Z
UID:2047-1639071000-1639074600@www.eventimusica.com
SUMMARY:Vinyl Only Vol. 23 - Guest Dj Marco Graziosi
DESCRIPTION:Eventimusica con il nuovo anno propone “Vinyl Only” dalle ore 5:30pm alle 6:30pm con un Dj set esclusivamente in Vinile con Marco Graziosi DJ.  House Music e Hits del passato. www.mixcloud.com/marcograziosidj
URL:https://www.eventimusica.com/event/vinyl-only-vol-22-guest-dj-nello-jay/
LOCATION:The Club Studio\, Ardea\, Roma\, Italia
CATEGORIES:musica
ATTACH;FMTTYPE=image/jpeg:https://www.eventimusica.com/wp-content/uploads/2021/01/Graziosi-Vinile-scaled.jpg
END:VEVENT
BEGIN:VEVENT
DTSTART;TZID=Europe/Rome:20211202T173000
DTEND;TZID=Europe/Rome:20211202T183000
DTSTAMP:20260419T220424
CREATED:20211202T105445Z
LAST-MODIFIED:20211202T130110Z
UID:2036-1638466200-1638469800@www.eventimusica.com
SUMMARY:Vinyl Only Vol. 22 - Guest Dj Nello Jay
DESCRIPTION:Eventimusica con il nuovo anno propone “Vinyl Only” dalle ore 5:30pm alle 6:30pm con un Dj set esclusivamente in Vinile con Nello Jay.  House Music e Hits del passato.
URL:https://www.eventimusica.com/event/vinyl-only-vol-21-marco-graziosi-dj/
LOCATION:The Club Studio\, Ardea\, Roma\, Italia
CATEGORIES:musica
ATTACH;FMTTYPE=image/jpeg:https://www.eventimusica.com/wp-content/uploads/2021/01/Graziosi-Vinile-scaled.jpg
END:VEVENT
BEGIN:VEVENT
DTSTART;TZID=Europe/Rome:20211201T180000
DTEND;TZID=Europe/Rome:20211201T190000
DTSTAMP:20260419T220424
CREATED:20211125T140438Z
LAST-MODIFIED:20211125T140438Z
UID:2032-1638381600-1638385200@www.eventimusica.com
SUMMARY:The Club...Promo - Wednesday on RadioDanceRoma
DESCRIPTION:Every Wednesday from 6:00 to 7:00 an appointment in collaboration with record labels\, DJs / producers and their new music. Listen from Smartphone https://www.rdrradiodanceroma.it/no-sidebar-page/pop-player/
URL:https://www.eventimusica.com/event/the-club-promo-wednesday-on-radiodanceroma-8/
LOCATION:Studio The Club\, Ardea\, Roma\, 00040\, Italia
CATEGORIES:intrattenimento,musica
ATTACH;FMTTYPE=image/png:https://www.eventimusica.com/wp-content/uploads/2021/10/Promo-The-Club-Marco-Graziosi.png
END:VEVENT
BEGIN:VEVENT
DTSTART;TZID=Europe/Rome:20211130T180000
DTEND;TZID=Europe/Rome:20211130T190000
DTSTAMP:20260419T220424
CREATED:20211125T140331Z
LAST-MODIFIED:20211125T140331Z
UID:2030-1638295200-1638298800@www.eventimusica.com
SUMMARY:The Club...Music - Tuesday on RadioDanceRoma
DESCRIPTION:The Club is waiting for you every Tuesday from 6:00Pm to 7:00Pm .To listen from your Smartphone on https://www.rdrradiodanceroma.it/no-sidebar-page/pop-player/
URL:https://www.eventimusica.com/event/the-club-music-tuesday-on-radiodanceroma-8/
LOCATION:Studio The Club\, Ardea\, Roma\, 00040\, Italia
CATEGORIES:intrattenimento,musica
ATTACH;FMTTYPE=image/png:https://www.eventimusica.com/wp-content/uploads/2021/10/Marco-Graziosi-e-JosephX-Dj-1.png
END:VEVENT
BEGIN:VEVENT
DTSTART;TZID=Europe/Rome:20211125T173000
DTEND;TZID=Europe/Rome:20211125T183000
DTSTAMP:20260419T220424
CREATED:20211116T143335Z
LAST-MODIFIED:20211116T143335Z
UID:2022-1637861400-1637865000@www.eventimusica.com
SUMMARY:Vinyl Only Vol. 21 - Marco Graziosi DJ
DESCRIPTION:Eventimusica con il nuovo anno propone “Vinyl Only” dalle ore 5:30pm alle 6:30pm con un Dj set esclusivamente in Vinile con Marco Graziosi D e i suoi ospiti.  House Music e Hits del passato.
URL:https://www.eventimusica.com/event/vinyl-only-vol-21-marco-graziosi-dj-2/
LOCATION:The Club Studio\, Ardea\, Roma\, Italia
CATEGORIES:musica
ATTACH;FMTTYPE=image/jpeg:https://www.eventimusica.com/wp-content/uploads/2021/01/Graziosi-Vinile-scaled.jpg
END:VEVENT
BEGIN:VEVENT
DTSTART;TZID=Europe/Rome:20211124T180000
DTEND;TZID=Europe/Rome:20211124T190000
DTSTAMP:20260419T220424
CREATED:20211116T142726Z
LAST-MODIFIED:20211116T142726Z
UID:2020-1637776800-1637780400@www.eventimusica.com
SUMMARY:The Club...Promo - Wednesday on RadioDanceRoma
DESCRIPTION:Every Wednesday from 6:00 to 7:00 an appointment in collaboration with record labels\, DJs / producers and their new music. Listen from Smartphone https://www.rdrradiodanceroma.it/no-sidebar-page/pop-player/
URL:https://www.eventimusica.com/event/the-club-promo-wednesday-on-radiodanceroma-7/
LOCATION:Studio The Club\, Ardea\, Roma\, 00040\, Italia
CATEGORIES:intrattenimento,musica
ATTACH;FMTTYPE=image/png:https://www.eventimusica.com/wp-content/uploads/2021/10/Promo-The-Club-Marco-Graziosi.png
END:VEVENT
BEGIN:VEVENT
DTSTART;TZID=Europe/Rome:20211123T180000
DTEND;TZID=Europe/Rome:20211123T190000
DTSTAMP:20260419T220424
CREATED:20211116T142536Z
LAST-MODIFIED:20211116T142536Z
UID:2016-1637690400-1637694000@www.eventimusica.com
SUMMARY:The Club...Music - Tuesday on RadioDanceRoma
DESCRIPTION:The Club is waiting for you every Tuesday from 6:00Pm to 7:00Pm .To listen from your Smartphone on https://www.rdrradiodanceroma.it/no-sidebar-page/pop-player/
URL:https://www.eventimusica.com/event/the-club-music-tuesday-on-radiodanceroma-7/
LOCATION:Studio The Club\, Ardea\, Roma\, 00040\, Italia
CATEGORIES:intrattenimento,musica
ATTACH;FMTTYPE=image/png:https://www.eventimusica.com/wp-content/uploads/2021/10/Marco-Graziosi-e-JosephX-Dj-1.png
END:VEVENT
BEGIN:VEVENT
DTSTART;TZID=Europe/Rome:20211117T180000
DTEND;TZID=Europe/Rome:20211117T190000
DTSTAMP:20260419T220424
CREATED:20211116T142626Z
LAST-MODIFIED:20211116T142626Z
UID:2018-1637172000-1637175600@www.eventimusica.com
SUMMARY:The Club...Promo - Wednesday on RadioDanceRoma
DESCRIPTION:Every Wednesday from 6:00 to 7:00 an appointment in collaboration with record labels\, DJs / producers and their new music. Listen from Smartphone https://www.rdrradiodanceroma.it/no-sidebar-page/pop-player/
URL:https://www.eventimusica.com/event/the-club-promo-wednesday-on-radiodanceroma-6/
LOCATION:Studio The Club\, Ardea\, Roma\, 00040\, Italia
CATEGORIES:intrattenimento,musica
ATTACH;FMTTYPE=image/png:https://www.eventimusica.com/wp-content/uploads/2021/10/Promo-The-Club-Marco-Graziosi.png
END:VEVENT
BEGIN:VEVENT
DTSTART;TZID=Europe/Rome:20211116T180000
DTEND;TZID=Europe/Rome:20211116T190000
DTSTAMP:20260419T220424
CREATED:20211116T142444Z
LAST-MODIFIED:20211116T142444Z
UID:2014-1637085600-1637089200@www.eventimusica.com
SUMMARY:The Club...Music - Tuesday on RadioDanceRoma
DESCRIPTION:The Club is waiting for you every Tuesday from 6:00Pm to 7:00Pm .To listen from your Smartphone on https://www.rdrradiodanceroma.it/no-sidebar-page/pop-player/
URL:https://www.eventimusica.com/event/the-club-music-tuesday-on-radiodanceroma-6/
LOCATION:Studio The Club\, Ardea\, Roma\, 00040\, Italia
CATEGORIES:intrattenimento,musica
ATTACH;FMTTYPE=image/png:https://www.eventimusica.com/wp-content/uploads/2021/10/Marco-Graziosi-e-JosephX-Dj-1.png
END:VEVENT
BEGIN:VEVENT
DTSTART;TZID=Europe/Rome:20211104T200000
DTEND;TZID=Europe/Rome:20211104T210000
DTSTAMP:20260419T220424
CREATED:20211102T190655Z
LAST-MODIFIED:20211102T190655Z
UID:1998-1636056000-1636059600@www.eventimusica.com
SUMMARY:Vinyl Festival Ed. 4 - Marco Graziosi DJ
DESCRIPTION:Giovedì 4 Novembre 2021 in occasione della 4^ Edizione del Vinyl Festival un DJ set speciale\, anzi ….vintage !!!
URL:https://www.eventimusica.com/event/vinyl-festival-ed-4-marco-graziosi-dj-2/
LOCATION:beenoiseTv
CATEGORIES:musica
ATTACH;FMTTYPE=image/jpeg:https://www.eventimusica.com/wp-content/uploads/2021/11/Vinyl-festival-4-novembre-2021.jpeg
END:VEVENT
BEGIN:VEVENT
DTSTART;TZID=Europe/Rome:20211104T173000
DTEND;TZID=Europe/Rome:20211104T183000
DTSTAMP:20260419T220424
CREATED:20211102T184536Z
LAST-MODIFIED:20211102T184615Z
UID:1994-1636047000-1636050600@www.eventimusica.com
SUMMARY:Vinyl Only Vol. 20- Marco Graziosi DJ
DESCRIPTION:Eventimusica con il nuovo anno propone “Only Vinyl” dalle ore 5:30pm alle 6:30pm con un Dj set esclusivamente in Vinile con Marco Graziosi Dj. House Music e Hits del passato.
URL:https://www.eventimusica.com/event/vinyl-only-vol-20-marco-graziosi-dj/
LOCATION:The Club Studio\, Ardea\, Roma\, Italia
CATEGORIES:musica
ATTACH;FMTTYPE=image/png:https://www.eventimusica.com/wp-content/uploads/2021/11/Only-Vinyl.png
END:VEVENT
BEGIN:VEVENT
DTSTART;TZID=Europe/Rome:20211103T180000
DTEND;TZID=Europe/Rome:20211103T190000
DTSTAMP:20260419T220424
CREATED:20211102T170151Z
LAST-MODIFIED:20211102T170151Z
UID:1992-1635962400-1635966000@www.eventimusica.com
SUMMARY:The Club...Promo - Wednesday on RadioDanceRoma
DESCRIPTION:Every Wednesday from 6:00 to 7:00 an appointment in collaboration with record labels\, DJs / producers and their new music. Listen from Smartphone https://www.rdrradiodanceroma.it/no-sidebar-page/pop-player/
URL:https://www.eventimusica.com/event/the-club-promo-wednesday-on-radiodanceroma-5/
LOCATION:Studio The Club\, Ardea\, Roma\, 00040\, Italia
CATEGORIES:intrattenimento,musica
ATTACH;FMTTYPE=image/png:https://www.eventimusica.com/wp-content/uploads/2021/10/Promo-The-Club-Marco-Graziosi.png
END:VEVENT
BEGIN:VEVENT
DTSTART;TZID=Europe/Rome:20211102T200000
DTEND;TZID=Europe/Rome:20211106T230000
DTSTAMP:20260419T220424
CREATED:20211010T165718Z
LAST-MODIFIED:20211010T165718Z
UID:1985-1635883200-1636239600@www.eventimusica.com
SUMMARY:Vinyl Festival 4 -
DESCRIPTION:5 giorni dedicati all’amato Vinyl\, le date da segnare e ricordare sono il 2-3-4-5-6 Novembre 2021. Vi 20 Dj’s da tutto il mondo.
URL:https://www.eventimusica.com/event/vinyl-festival-4/
LOCATION:beenoiseTv
CATEGORIES:musica
ATTACH;FMTTYPE=image/jpeg:https://www.eventimusica.com/wp-content/uploads/2021/10/Vinyl-festival-4.jpg
END:VEVENT
BEGIN:VEVENT
DTSTART;TZID=Europe/Rome:20211102T180000
DTEND;TZID=Europe/Rome:20211102T190000
DTSTAMP:20260419T220424
CREATED:20211102T165948Z
LAST-MODIFIED:20211102T165948Z
UID:1990-1635876000-1635879600@www.eventimusica.com
SUMMARY:The Club..Music - Tuesday on RadioDanceRoma
DESCRIPTION:The Club is waiting for you every Tuesday from 6:00Pm to 7:00Pm .To listen from your Smartphone on https://www.rdrradiodanceroma.it/no-sidebar-page/pop-player/
URL:https://www.eventimusica.com/event/the-club-music-tuesday-on-radiodanceroma-5/
LOCATION:Studio The Club\, Ardea\, Roma\, 00040\, Italia
CATEGORIES:intrattenimento,musica
ATTACH;FMTTYPE=image/png:https://www.eventimusica.com/wp-content/uploads/2021/10/Marco-Graziosi-e-JosephX-Dj-1.png
END:VEVENT
BEGIN:VEVENT
DTSTART;TZID=Europe/Rome:20211027T180000
DTEND;TZID=Europe/Rome:20211027T190000
DTSTAMP:20260419T220424
CREATED:20211010T164528Z
LAST-MODIFIED:20211010T164528Z
UID:1981-1635357600-1635361200@www.eventimusica.com
SUMMARY:The Club...Promo - Wednesday on RadioDanceRoma
DESCRIPTION:Every Wednesday from 6:00 to 7:00 an appointment in collaboration with record labels\, DJs / producers and their new music. Listen from Smartphone https://www.rdrradiodanceroma.it/no-sidebar-page/pop-player/
URL:https://www.eventimusica.com/event/the-club-promo-wednesday-on-radiodanceroma-4/
LOCATION:Studio The Club\, Ardea\, Roma\, 00040\, Italia
CATEGORIES:intrattenimento,musica
ATTACH;FMTTYPE=image/png:https://www.eventimusica.com/wp-content/uploads/2021/10/Promo-The-Club-Marco-Graziosi.png
END:VEVENT
BEGIN:VEVENT
DTSTART;TZID=Europe/Rome:20211026T180000
DTEND;TZID=Europe/Rome:20211026T190000
DTSTAMP:20260419T220424
CREATED:20211010T164639Z
LAST-MODIFIED:20211010T164639Z
UID:1983-1635271200-1635274800@www.eventimusica.com
SUMMARY:The Club..Music - Tuesday on RadioDanceRoma
DESCRIPTION:The Club is waiting for you every Tuesday from 6:00Pm to 7:00Pm .To listen from your Smartphone on https://www.rdrradiodanceroma.it/no-sidebar-page/pop-player/
URL:https://www.eventimusica.com/event/the-club-music-tuesday-on-radiodanceroma-4/
LOCATION:Studio The Club\, Ardea\, Roma\, 00040\, Italia
CATEGORIES:intrattenimento,musica
ATTACH;FMTTYPE=image/png:https://www.eventimusica.com/wp-content/uploads/2021/10/Marco-Graziosi-e-JosephX-Dj-1.png
END:VEVENT
BEGIN:VEVENT
DTSTART;TZID=Europe/Rome:20211020T180000
DTEND;TZID=Europe/Rome:20211020T190000
DTSTAMP:20260419T220424
CREATED:20211005T150244Z
LAST-MODIFIED:20211005T150244Z
UID:1974-1634752800-1634756400@www.eventimusica.com
SUMMARY:The Club...Promo - Wednesday on RadioDanceRoma
DESCRIPTION:Every Wednesday from 6:00 to 7:00 an appointment in collaboration with record labels\, DJs / producers and their new music. Listen from Smartphone https://www.rdrradiodanceroma.it/no-sidebar-page/pop-player/
URL:https://www.eventimusica.com/event/the-club-promo-wednesday-on-radiodanceroma-3/
LOCATION:Studio The Club\, Ardea\, Roma\, 00040\, Italia
CATEGORIES:intrattenimento,musica
ATTACH;FMTTYPE=image/png:https://www.eventimusica.com/wp-content/uploads/2021/10/Promo-The-Club-Marco-Graziosi.png
END:VEVENT
BEGIN:VEVENT
DTSTART;TZID=Europe/Rome:20211019T180000
DTEND;TZID=Europe/Rome:20211019T190000
DTSTAMP:20260419T220424
CREATED:20211010T164411Z
LAST-MODIFIED:20211010T164411Z
UID:1979-1634666400-1634670000@www.eventimusica.com
SUMMARY:The Club..Music - Tuesday on RadioDanceRoma
DESCRIPTION:The Club is waiting for you every Tuesday from 6:00Pm to 7:00Pm .To listen from your Smartphone on https://www.rdrradiodanceroma.it/no-sidebar-page/pop-player/
URL:https://www.eventimusica.com/event/the-club-music-tuesday-on-radiodanceroma-3/
LOCATION:Studio The Club\, Ardea\, Roma\, 00040\, Italia
CATEGORIES:intrattenimento,musica
ATTACH;FMTTYPE=image/png:https://www.eventimusica.com/wp-content/uploads/2021/10/Marco-Graziosi-e-JosephX-Dj-1.png
END:VEVENT
BEGIN:VEVENT
DTSTART;TZID=Europe/Rome:20211013T180000
DTEND;TZID=Europe/Rome:20211013T190000
DTSTAMP:20260419T220424
CREATED:20211005T145822Z
LAST-MODIFIED:20211005T145822Z
UID:1968-1634148000-1634151600@www.eventimusica.com
SUMMARY:The Club...Promo - Wednesday on RadioDanceRoma
DESCRIPTION:Every Wednesday from 6:00 to 7:00 an appointment in collaboration with record labels\, DJs / producers and their new music. Listen from Smartphone https://www.rdrradiodanceroma.it/no-sidebar-page/pop-player/
URL:https://www.eventimusica.com/event/the-club-promo-wednesday-on-radiodanceroma-2/
LOCATION:Studio The Club\, Ardea\, Roma\, 00040\, Italia
CATEGORIES:intrattenimento,musica
ATTACH;FMTTYPE=image/png:https://www.eventimusica.com/wp-content/uploads/2021/10/Promo-The-Club-Marco-Graziosi.png
END:VEVENT
END:VCALENDAR