BEGIN:VCALENDAR
VERSION:2.0
PRODID:-//Eventimusica.com - ECPv6.15.17//NONSGML v1.0//EN
CALSCALE:GREGORIAN
METHOD:PUBLISH
X-WR-CALNAME:Eventimusica.com
X-ORIGINAL-URL:https://www.eventimusica.com
X-WR-CALDESC:Eventi per Eventimusica.com
REFRESH-INTERVAL;VALUE=DURATION:PT1H
X-Robots-Tag:noindex
X-PUBLISHED-TTL:PT1H
BEGIN:VTIMEZONE
TZID:Europe/Rome
BEGIN:DAYLIGHT
TZOFFSETFROM:+0100
TZOFFSETTO:+0200
TZNAME:CEST
DTSTART:20190331T010000
END:DAYLIGHT
BEGIN:STANDARD
TZOFFSETFROM:+0200
TZOFFSETTO:+0100
TZNAME:CET
DTSTART:20191027T010000
END:STANDARD
BEGIN:DAYLIGHT
TZOFFSETFROM:+0100
TZOFFSETTO:+0200
TZNAME:CEST
DTSTART:20200329T010000
END:DAYLIGHT
BEGIN:STANDARD
TZOFFSETFROM:+0200
TZOFFSETTO:+0100
TZNAME:CET
DTSTART:20201025T010000
END:STANDARD
BEGIN:DAYLIGHT
TZOFFSETFROM:+0100
TZOFFSETTO:+0200
TZNAME:CEST
DTSTART:20210328T010000
END:DAYLIGHT
BEGIN:STANDARD
TZOFFSETFROM:+0200
TZOFFSETTO:+0100
TZNAME:CET
DTSTART:20211031T010000
END:STANDARD
BEGIN:DAYLIGHT
TZOFFSETFROM:+0100
TZOFFSETTO:+0200
TZNAME:CEST
DTSTART:20220327T010000
END:DAYLIGHT
BEGIN:STANDARD
TZOFFSETFROM:+0200
TZOFFSETTO:+0100
TZNAME:CET
DTSTART:20221030T010000
END:STANDARD
BEGIN:DAYLIGHT
TZOFFSETFROM:+0100
TZOFFSETTO:+0200
TZNAME:CEST
DTSTART:20230326T010000
END:DAYLIGHT
BEGIN:STANDARD
TZOFFSETFROM:+0200
TZOFFSETTO:+0100
TZNAME:CET
DTSTART:20231029T010000
END:STANDARD
BEGIN:DAYLIGHT
TZOFFSETFROM:+0100
TZOFFSETTO:+0200
TZNAME:CEST
DTSTART:20240331T010000
END:DAYLIGHT
BEGIN:STANDARD
TZOFFSETFROM:+0200
TZOFFSETTO:+0100
TZNAME:CET
DTSTART:20241027T010000
END:STANDARD
END:VTIMEZONE
BEGIN:VEVENT
DTSTART;TZID=Europe/Rome:20230317T180000
DTEND;TZID=Europe/Rome:20230317T193000
DTSTAMP:20260421T235428
CREATED:20230306T222810Z
LAST-MODIFIED:20230306T222810Z
UID:2504-1679076000-1679081400@www.eventimusica.com
SUMMARY:Only Vinyl 7"\, Music selection - Friday
DESCRIPTION:Dalle 18:00 parte il programma dedicato al Vinle 45″. Segui la diretta con Marco Graziosi sul canale Twitch Tv www.twitch.tv/eventimusica
URL:https://www.eventimusica.com/event/only-vinyl-7-music-selection-friday-2/
LOCATION:The Club Studio\, Ardea\, Roma\, Italia
CATEGORIES:intrattenimento,musica
ATTACH;FMTTYPE=image/png:https://www.eventimusica.com/wp-content/uploads/2023/02/Friday-45-2.png
END:VEVENT
BEGIN:VEVENT
DTSTART;TZID=Europe/Rome:20230310T180000
DTEND;TZID=Europe/Rome:20230310T193000
DTSTAMP:20260421T235428
CREATED:20230306T222255Z
LAST-MODIFIED:20230306T222255Z
UID:2493-1678471200-1678476600@www.eventimusica.com
SUMMARY:Only Vinyl 7"\, Music selection - Friday
DESCRIPTION:Dalle 18:00 parte il programma dedicato al Vinle 45″. Segui la diretta con Marco Graziosi sul canale Twitch Tv www.twitch.tv/eventimusica
URL:https://www.eventimusica.com/event/only-vinyl-7-music-selection-friday/
LOCATION:The Club Studio\, Ardea\, Roma\, Italia
CATEGORIES:intrattenimento,musica
ATTACH;FMTTYPE=image/png:https://www.eventimusica.com/wp-content/uploads/2023/02/Friday-45-2.png
END:VEVENT
BEGIN:VEVENT
DTSTART;TZID=Europe/Rome:20230217T180000
DTEND;TZID=Europe/Rome:20230217T193000
DTSTAMP:20260421T235428
CREATED:20230201T110724Z
LAST-MODIFIED:20230201T110724Z
UID:2373-1676656800-1676662200@www.eventimusica.com
SUMMARY:Only Vinyl 7"\, Music selection
DESCRIPTION:Dalle 18:00 parte il programma dedicato al Vinle 45″. Segui la diretta con Marco Graziosi sul canale Twitch Tv www.twitch.tv/eventimusica
URL:https://www.eventimusica.com/event/only-vinyl-7-music-selection/
LOCATION:The Club Studio\, Ardea\, Roma\, Italia
CATEGORIES:intrattenimento,musica
ATTACH;FMTTYPE=image/png:https://www.eventimusica.com/wp-content/uploads/2023/02/Friday-45-2.png
END:VEVENT
BEGIN:VEVENT
DTSTART;TZID=Europe/Rome:20230210T180000
DTEND;TZID=Europe/Rome:20230210T193000
DTSTAMP:20260421T235428
CREATED:20230201T111936Z
LAST-MODIFIED:20230201T111936Z
UID:2381-1676052000-1676057400@www.eventimusica.com
SUMMARY:Only Vinyl 7"\, Music selection
DESCRIPTION:Dalle 18:00 parte il programma dedicato al Vinle 45″. Segui la diretta con Marco Graziosi sul canale Twitch Tv www.twitch.tv/eventimusica
URL:https://www.eventimusica.com/event/only-vinyl-7-music-selection-2/
LOCATION:The Club Studio\, Ardea\, Roma\, Italia
CATEGORIES:intrattenimento,musica
ATTACH;FMTTYPE=image/png:https://www.eventimusica.com/wp-content/uploads/2023/02/Friday-45-2.png
END:VEVENT
BEGIN:VEVENT
DTSTART;TZID=Europe/Rome:20221230T180000
DTEND;TZID=Europe/Rome:20221230T193000
DTSTAMP:20260421T235428
CREATED:20221205T100727Z
LAST-MODIFIED:20221205T100727Z
UID:2344-1672423200-1672428600@www.eventimusica.com
SUMMARY:Only Vinyl 7"- Every Friday
DESCRIPTION:Dalle 18:00 parte il programma dedicato al vinle 45″. Segui la diretta con Marco Graziosi sul canale Twitch Tv www.twitch.tv/theclubmusic
URL:https://www.eventimusica.com/event/only-vinyl-7-every-friday-4/
LOCATION:Ardea
CATEGORIES:intrattenimento,musica
ATTACH;FMTTYPE=image/png:https://www.eventimusica.com/wp-content/uploads/2022/10/Friday-45giri.png
END:VEVENT
BEGIN:VEVENT
DTSTART;TZID=Europe/Rome:20221223T180000
DTEND;TZID=Europe/Rome:20221223T193000
DTSTAMP:20260421T235428
CREATED:20221205T100655Z
LAST-MODIFIED:20221205T100655Z
UID:2342-1671818400-1671823800@www.eventimusica.com
SUMMARY:Only Vinyl 7"- Every Friday
DESCRIPTION:Dalle 18:00 parte il programma dedicato al vinle 45″. Segui la diretta con Marco Graziosi sul canale Twitch Tv www.twitch.tv/theclubmusic
URL:https://www.eventimusica.com/event/only-vinyl-7-every-friday-3/
LOCATION:Ardea
CATEGORIES:intrattenimento,musica
ATTACH;FMTTYPE=image/png:https://www.eventimusica.com/wp-content/uploads/2022/10/Friday-45giri.png
END:VEVENT
BEGIN:VEVENT
DTSTART;TZID=Europe/Rome:20221216T180000
DTEND;TZID=Europe/Rome:20221216T193000
DTSTAMP:20260421T235428
CREATED:20221205T100611Z
LAST-MODIFIED:20221205T100611Z
UID:2340-1671213600-1671219000@www.eventimusica.com
SUMMARY:Only Vinyl 7"- Every Friday
DESCRIPTION:Dalle 18:00 parte il programma dedicato al vinle 45″. Segui la diretta con Marco Graziosi sul canale Twitch Tv www.twitch.tv/theclubmusic
URL:https://www.eventimusica.com/event/only-vinyl-7-every-friday-2/
LOCATION:Ardea
CATEGORIES:intrattenimento,musica
ATTACH;FMTTYPE=image/png:https://www.eventimusica.com/wp-content/uploads/2022/10/Friday-45giri.png
END:VEVENT
BEGIN:VEVENT
DTSTART;TZID=Europe/Rome:20221216T180000
DTEND;TZID=Europe/Rome:20221216T193000
DTSTAMP:20260421T235428
CREATED:20221205T100132Z
LAST-MODIFIED:20221205T100132Z
UID:2334-1671213600-1671219000@www.eventimusica.com
SUMMARY:Only Vinyl 7"- Every Friday
DESCRIPTION:Dalle 18:00 parte il programma dedicato al vinle 45″. Segui la diretta con Marco Graziosi sul canale Twitch Tv www.twitch.tv/theclubmusic
URL:https://www.eventimusica.com/event/only-vinyl-7-every-friday/
LOCATION:Ardea
CATEGORIES:intrattenimento,musica
ATTACH;FMTTYPE=image/png:https://www.eventimusica.com/wp-content/uploads/2022/10/Friday-45giri.png
END:VEVENT
BEGIN:VEVENT
DTSTART;TZID=Europe/Rome:20221209T180000
DTEND;TZID=Europe/Rome:20221209T193000
DTSTAMP:20260421T235428
CREATED:20221205T094217Z
LAST-MODIFIED:20221205T094243Z
UID:2307-1670608800-1670614200@www.eventimusica.com
SUMMARY:Only Vinyl 7"- Every Friday
DESCRIPTION:Dalle 18:00 parte il programma dedicato al vinle 45″. Segui la diretta con Marco Graziosi sul canale Twitch Tv www.twitch.tv/theclubmusic
URL:https://www.eventimusica.com/event/only-vinyl-7-tutti-i-venerdi-3/
LOCATION:Ardea
CATEGORIES:intrattenimento,musica
ATTACH;FMTTYPE=image/png:https://www.eventimusica.com/wp-content/uploads/2022/10/Friday-45giri.png
END:VEVENT
BEGIN:VEVENT
DTSTART;TZID=Europe/Rome:20221028T180000
DTEND;TZID=Europe/Rome:20221028T193000
DTSTAMP:20260421T235428
CREATED:20221010T214514Z
LAST-MODIFIED:20221010T214514Z
UID:2256-1666980000-1666985400@www.eventimusica.com
SUMMARY:Only Vinyl 7" - Tutti i Venerdì
DESCRIPTION:Dalle 18:00 parte il programma dedicato al vinle 45″. Segui la diretta con Marco Graziosi sul canale Twitch Tv www.twitch.tv/theclubmusic
URL:https://www.eventimusica.com/event/only-vinyl-7-tutti-i-venerdi-2/
LOCATION:Italia\, Italia
CATEGORIES:intrattenimento,musica
ATTACH;FMTTYPE=image/png:https://www.eventimusica.com/wp-content/uploads/2022/10/Friday-45giri.png
END:VEVENT
BEGIN:VEVENT
DTSTART;TZID=Europe/Rome:20221014T180000
DTEND;TZID=Europe/Rome:20221014T193000
DTSTAMP:20260421T235428
CREATED:20221010T090229Z
LAST-MODIFIED:20221010T090229Z
UID:2239-1665770400-1665775800@www.eventimusica.com
SUMMARY:Only Vinyl 7" - Tutti i Venerdì
DESCRIPTION:Dalle 18:00 parte il programma dedicato al vinle 45″. Segui la diretta con Marco Graziosi sul canale Twitch Tv www.twitch.tv/theclubmusic
URL:https://www.eventimusica.com/event/only-vinyl-7-tutti-i-venerdi/
LOCATION:Italia\, Italia
CATEGORIES:intrattenimento,musica
ATTACH;FMTTYPE=image/png:https://www.eventimusica.com/wp-content/uploads/2022/10/Friday-45giri.png
END:VEVENT
BEGIN:VEVENT
DTSTART;TZID=Europe/Rome:20210425T170000
DTEND;TZID=Europe/Rome:20210425T180000
DTSTAMP:20260421T235428
CREATED:20210423T111218Z
LAST-MODIFIED:20210423T111218Z
UID:1801-1619370000-1619373600@www.eventimusica.com
SUMMARY:Beenoise TV - The Club - Marco Graziosi DJ
DESCRIPTION:Tutte le Domeniche dalle ore 17:00 alle 18:00 su Beenoise TV\, The Club con Marco Graziosi DJ e i suoi set di vario genere musicale. Sintonizzati su www.mixcloud.com/beenoise-rec
URL:https://www.eventimusica.com/event/beenoise-tv-the-club-marco-graziosi-dj-2/
LOCATION:Beenoise Rec.
CATEGORIES:musica
ATTACH;FMTTYPE=image/png:https://www.eventimusica.com/wp-content/uploads/2021/04/The-Club-MIX.png
END:VEVENT
BEGIN:VEVENT
DTSTART;TZID=Europe/Rome:20210411T170000
DTEND;TZID=Europe/Rome:20210411T180000
DTSTAMP:20260421T235428
CREATED:20210406T112356Z
LAST-MODIFIED:20210406T112356Z
UID:1775-1618160400-1618164000@www.eventimusica.com
SUMMARY:Beenoise TV - The Club - Marco Graziosi DJ
DESCRIPTION:Tutte le Domeniche dalle ore 17:00 alle 18:00 su Beenoise TV\, The Club con Marco Graziosi DJ e i suoi set di vario genere musicale. Sintonizzati su www.mixcloud.com/beenoise-rec
URL:https://www.eventimusica.com/event/beenoise-tv-the-club-marco-graziosi-dj/
LOCATION:Beenoise Rec.
CATEGORIES:musica
ATTACH;FMTTYPE=image/jpeg:https://www.eventimusica.com/wp-content/uploads/2021/04/domenica.jpg
END:VEVENT
BEGIN:VEVENT
DTSTART;TZID=Europe/Rome:20210328T170000
DTEND;TZID=Europe/Rome:20210328T180000
DTSTAMP:20260421T235428
CREATED:20210322T114309Z
LAST-MODIFIED:20210322T114309Z
UID:1709-1616950800-1616954400@www.eventimusica.com
SUMMARY:Beenoise TV - The Club -
DESCRIPTION:Tutte le Domeniche dalle ore 17:00 alle 18:00 su Beenoise TV\, The Club con Marco Graziosi DJ e i suoi set di vario genere musicale. Sintonizzati su www.mixcloud.com/beenoise-rec
URL:https://www.eventimusica.com/event/beenoise-tv-the-club-6/
LOCATION:Beenoise Rec.
ATTACH;FMTTYPE=image/jpeg:https://www.eventimusica.com/wp-content/uploads/2021/01/24-gennaio.jpg
END:VEVENT
BEGIN:VEVENT
DTSTART;TZID=Europe/Rome:20210314T170000
DTEND;TZID=Europe/Rome:20210314T180000
DTSTAMP:20260421T235428
CREATED:20210308T171826Z
LAST-MODIFIED:20210308T171826Z
UID:1667-1615741200-1615744800@www.eventimusica.com
SUMMARY:Beenoise TV - The Club -
DESCRIPTION:Tutte le Domeniche dalle ore 17:00 alle 18:00 su Beenoise TV\, The Club con Marco Graziosi DJ e i suoi set di vario genere musicale. Sintonizzati su www.mixcloud.com/beenoise-rec
URL:https://www.eventimusica.com/event/beenoise-tv-the-club-5/
LOCATION:Beenoise Rec.
ATTACH;FMTTYPE=image/jpeg:https://www.eventimusica.com/wp-content/uploads/2021/01/24-gennaio.jpg
END:VEVENT
BEGIN:VEVENT
DTSTART;TZID=Europe/Rome:20210314T170000
DTEND;TZID=Europe/Rome:20210314T180000
DTSTAMP:20260421T235428
CREATED:20210304T191815Z
LAST-MODIFIED:20210304T191916Z
UID:1648-1615741200-1615744800@www.eventimusica.com
SUMMARY:Beenoise TV - The Club - Marco Graziosi DJ -
DESCRIPTION:Tutte le Domeniche dalle ore 17:00 alle 18:00 su Beenoise TV\, The Club con Marco Graziosi DJ e i suoi set di vario genere musicale. Sintonizzati su www.mixcloud.com/beenoise-rec
URL:https://www.eventimusica.com/event/beenoise-tv-the-club-4/
LOCATION:Beenoise Rec.
CATEGORIES:intrattenimento,musica
ATTACH;FMTTYPE=image/png:https://www.eventimusica.com/wp-content/uploads/2021/03/Every-Sunday.png
END:VEVENT
BEGIN:VEVENT
DTSTART;TZID=Europe/Rome:20210228T170000
DTEND;TZID=Europe/Rome:20210228T180000
DTSTAMP:20260421T235428
CREATED:20210228T113331Z
LAST-MODIFIED:20210228T113331Z
UID:1628-1614531600-1614535200@www.eventimusica.com
SUMMARY:Beenoise TV - The Club -
DESCRIPTION:Tutte le Domeniche dalle ore 17:00 alle 18:00 su Beenoise TV\, The Club con Marco Graziosi DJ e i suoi set di vario genere musicale. Sintonizzati su www.mixcloud.com/beenoise-rec
URL:https://www.eventimusica.com/event/beenoise-tv-the-club-3/
LOCATION:Beenoise Rec.
ATTACH;FMTTYPE=image/jpeg:https://www.eventimusica.com/wp-content/uploads/2021/01/24-gennaio.jpg
END:VEVENT
BEGIN:VEVENT
DTSTART;TZID=Europe/Rome:20210221T170000
DTEND;TZID=Europe/Rome:20210221T180000
DTSTAMP:20260421T235428
CREATED:20210219T185341Z
LAST-MODIFIED:20210219T185341Z
UID:1610-1613926800-1613930400@www.eventimusica.com
SUMMARY:Beenoise TV - The Club -
DESCRIPTION:Tutte le Domeniche dalle ore 17:00 alle 18:00 su Beenoise TV\, The Club con Marco Graziosi DJ e i suoi set di vario genere musicale. Sintonizzati su www.mixcloud.com/beenoise-rec
URL:https://www.eventimusica.com/event/beenoise-tv-the-club-2/
LOCATION:Beenoise Rec.
ATTACH;FMTTYPE=image/jpeg:https://www.eventimusica.com/wp-content/uploads/2021/01/24-gennaio.jpg
END:VEVENT
BEGIN:VEVENT
DTSTART;TZID=Europe/Rome:20210219T200000
DTEND;TZID=Europe/Rome:20210219T210000
DTSTAMP:20260421T235428
CREATED:20210219T184104Z
LAST-MODIFIED:20210219T184104Z
UID:1601-1613764800-1613768400@www.eventimusica.com
SUMMARY:Noise Club Episode 8 - Marco Graziosi DJ - Woov
DESCRIPTION:Altro DJ set Con Marco Graziosi DJ sulla piattaforma di Woov raggiungibile esclusivamente su App woov.com/noiseclub  \nTi aspettiamo dalle 20:00 alle 21:00 \n  \n 
URL:https://www.eventimusica.com/event/noise-club-episode-8-marco-graziosi-dj-woov/
LOCATION:Woov
ATTACH;FMTTYPE=image/jpeg:https://www.eventimusica.com/wp-content/uploads/2021/02/woov-febbraio-2021.jpg
END:VEVENT
BEGIN:VEVENT
DTSTART;TZID=Europe/Rome:20210214T170000
DTEND;TZID=Europe/Rome:20210214T180000
DTSTAMP:20260421T235428
CREATED:20210219T185014Z
LAST-MODIFIED:20210219T185014Z
UID:1606-1613322000-1613325600@www.eventimusica.com
SUMMARY:Beenoise TV - The Club -
DESCRIPTION:Tutte le Domeniche dalle ore 17:00 alle 18:00 su Beenoise TV\, The Club con Marco Graziosi DJ e i suoi set di vario genere musicale. Sintonizzati su www.mixcloud.com/beenoise-rec
URL:https://www.eventimusica.com/event/beenoise-tv-the-club/
LOCATION:Beenoise Rec.
ATTACH;FMTTYPE=image/jpeg:https://www.eventimusica.com/wp-content/uploads/2021/01/24-gennaio.jpg
END:VEVENT
BEGIN:VEVENT
DTSTART;TZID=Europe/Rome:20210214T170000
DTEND;TZID=Europe/Rome:20210214T180000
DTSTAMP:20260421T235428
CREATED:20210123T173611Z
LAST-MODIFIED:20210208T175315Z
UID:1534-1613322000-1613325600@www.eventimusica.com
SUMMARY:TV Beenoise presents - The Club -
DESCRIPTION:Tutte le Domeniche dalle ore 17:00 alle 18:00 su TV Beenoise\, The Club con Marco Graziosi DJ e i suoi set con vario genere musicale. Sintonizzati su www.mixcloud.com/beenoise-rec
URL:https://www.eventimusica.com/event/tv-beenoise-presents-the-club/
LOCATION:Beenoise Rec.
ATTACH;FMTTYPE=image/jpeg:https://www.eventimusica.com/wp-content/uploads/2021/01/24-gennaio.jpg
END:VEVENT
BEGIN:VEVENT
DTSTART;TZID=Europe/Rome:20201217T210000
DTEND;TZID=Europe/Rome:20201217T220000
DTSTAMP:20260421T235428
CREATED:20201130T233846Z
LAST-MODIFIED:20201130T235643Z
UID:1404-1608238800-1608242400@www.eventimusica.com
SUMMARY:Noise Club Episode 6 - Marco Graziosi Dj Set
DESCRIPTION:Arriva Noise Club Episode 6\, Giovedì 17 Dicembre 2020 dalle ore 21:00 – 22:00 CEST\,  su Woov. \nScarica App GRATUITA ” WOOV” \n 
URL:https://www.eventimusica.com/event/noise-club-episode-6-marco-graziosi-dj-set/
LOCATION:Woov
CATEGORIES:intrattenimento,musica
ATTACH;FMTTYPE=image/jpeg:https://www.eventimusica.com/wp-content/uploads/2020/12/Marco-B-N.jpg
END:VEVENT
END:VCALENDAR