BEGIN:VCALENDAR
VERSION:2.0
PRODID:-//Eventimusica.com - ECPv6.15.17//NONSGML v1.0//EN
CALSCALE:GREGORIAN
METHOD:PUBLISH
X-WR-CALNAME:Eventimusica.com
X-ORIGINAL-URL:https://www.eventimusica.com
X-WR-CALDESC:Eventi per Eventimusica.com
REFRESH-INTERVAL;VALUE=DURATION:PT1H
X-Robots-Tag:noindex
X-PUBLISHED-TTL:PT1H
BEGIN:VTIMEZONE
TZID:Europe/Rome
BEGIN:DAYLIGHT
TZOFFSETFROM:+0100
TZOFFSETTO:+0200
TZNAME:CEST
DTSTART:20210328T010000
END:DAYLIGHT
BEGIN:STANDARD
TZOFFSETFROM:+0200
TZOFFSETTO:+0100
TZNAME:CET
DTSTART:20211031T010000
END:STANDARD
BEGIN:DAYLIGHT
TZOFFSETFROM:+0100
TZOFFSETTO:+0200
TZNAME:CEST
DTSTART:20220327T010000
END:DAYLIGHT
BEGIN:STANDARD
TZOFFSETFROM:+0200
TZOFFSETTO:+0100
TZNAME:CET
DTSTART:20221030T010000
END:STANDARD
BEGIN:DAYLIGHT
TZOFFSETFROM:+0100
TZOFFSETTO:+0200
TZNAME:CEST
DTSTART:20230326T010000
END:DAYLIGHT
BEGIN:STANDARD
TZOFFSETFROM:+0200
TZOFFSETTO:+0100
TZNAME:CET
DTSTART:20231029T010000
END:STANDARD
BEGIN:DAYLIGHT
TZOFFSETFROM:+0100
TZOFFSETTO:+0200
TZNAME:CEST
DTSTART:20240331T010000
END:DAYLIGHT
BEGIN:STANDARD
TZOFFSETFROM:+0200
TZOFFSETTO:+0100
TZNAME:CET
DTSTART:20241027T010000
END:STANDARD
BEGIN:DAYLIGHT
TZOFFSETFROM:+0100
TZOFFSETTO:+0200
TZNAME:CEST
DTSTART:20250330T010000
END:DAYLIGHT
BEGIN:STANDARD
TZOFFSETFROM:+0200
TZOFFSETTO:+0100
TZNAME:CET
DTSTART:20251026T010000
END:STANDARD
BEGIN:DAYLIGHT
TZOFFSETFROM:+0100
TZOFFSETTO:+0200
TZNAME:CEST
DTSTART:20260329T010000
END:DAYLIGHT
BEGIN:STANDARD
TZOFFSETFROM:+0200
TZOFFSETTO:+0100
TZNAME:CET
DTSTART:20261025T010000
END:STANDARD
BEGIN:DAYLIGHT
TZOFFSETFROM:+0100
TZOFFSETTO:+0200
TZNAME:CEST
DTSTART:20270328T010000
END:DAYLIGHT
BEGIN:STANDARD
TZOFFSETFROM:+0200
TZOFFSETTO:+0100
TZNAME:CET
DTSTART:20271031T010000
END:STANDARD
END:VTIMEZONE
BEGIN:VEVENT
DTSTART;TZID=Europe/Rome:20260107T060000
DTEND;TZID=Europe/Rome:20260107T080000
DTSTAMP:20260421T234323
CREATED:20260102T174251Z
LAST-MODIFIED:20260102T174251Z
UID:2923-1767765600-1767772800@www.eventimusica.com
SUMMARY:Love Songs\, Dedicato a chi ama\, a chi sogna e a chi ricorda
DESCRIPTION:Love Songs: l’appuntamento musicale che fa vibrare l’anima. Un viaggio tra note e emozioni che fanno battere il cuore\, dalle 6:00 alle 8:00. Selezione musicale Marco Graziosi DJ
URL:https://www.eventimusica.com/event/love-songs-dedicato-a-chi-ama-a-chi-sogna-e-a-chi-ricorda-2/
LOCATION:Ardea
CATEGORIES:intrattenimento,musica
ATTACH;FMTTYPE=image/jpeg:https://www.eventimusica.com/wp-content/uploads/2026/01/Love-Song-Mercoledi-ore-600.jpg
END:VEVENT
BEGIN:VEVENT
DTSTART;TZID=Europe/Rome:20260105T060000
DTEND;TZID=Europe/Rome:20260105T080000
DTSTAMP:20260421T234323
CREATED:20260102T173637Z
LAST-MODIFIED:20260102T173637Z
UID:2921-1767592800-1767600000@www.eventimusica.com
SUMMARY:Il Viaggiatore nel Tempo\, Live Stereo98 e Tiktok
DESCRIPTION:From Italy to the world\, music that wakes you up! Start your day with the best Italian and international hits – join me every Monday and Friday from 6:00 to 8:00 AM. Marco Graziosi DJ
URL:https://www.eventimusica.com/event/il-viaggiatore-nel-tempo-live-stereo98-e-tiktok/
LOCATION:Ardea
CATEGORIES:intrattenimento,musica
ATTACH;FMTTYPE=image/png:https://www.eventimusica.com/wp-content/uploads/2025/09/Lunedi-Mercoledi-Venerdi-Il-Viaggiatore-nel-Tempo.png
END:VEVENT
BEGIN:VEVENT
DTSTART;TZID=Europe/Rome:20250926T060000
DTEND;TZID=Europe/Rome:20250926T080000
DTSTAMP:20260421T234323
CREATED:20250922T103551Z
LAST-MODIFIED:20250922T103551Z
UID:2908-1758866400-1758873600@www.eventimusica.com
SUMMARY:Il Viaggiatore nel Tempo\, ogni canzone un viaggio.
DESCRIPTION:From Italy to the world\, music that wakes you up! Start your day with the best Italian and international hits – join me every Monday and Friday from 6:00 to 8:00 AM. Marco Graziosi DJ
URL:https://www.eventimusica.com/event/il-viaggiatore-nel-tempo-ogni-canzone-un-viaggio-2/
LOCATION:Ardea
CATEGORIES:intrattenimento,musica
ATTACH;FMTTYPE=image/png:https://www.eventimusica.com/wp-content/uploads/2025/09/Lunedi-Mercoledi-Venerdi-Il-Viaggiatore-nel-Tempo.png
END:VEVENT
BEGIN:VEVENT
DTSTART;TZID=Europe/Rome:20250924T173000
DTEND;TZID=Europe/Rome:20250924T193000
DTSTAMP:20260421T234323
CREATED:20250922T105209Z
LAST-MODIFIED:20250922T105209Z
UID:2915-1758735000-1758742200@www.eventimusica.com
SUMMARY:The Club Dance - Energia delle hits di sempre
DESCRIPTION:The Club Dance e Italo Disco programma condotto da Marco Graziosi DJ in onda tutti i Mercoledì a partire dalle 17:30.
URL:https://www.eventimusica.com/event/the-club-dance/
LOCATION:Ardea
CATEGORIES:intrattenimento,musica
ATTACH;FMTTYPE=image/png:https://www.eventimusica.com/wp-content/uploads/2025/09/Mercoledi-The-Club-Dance.png
END:VEVENT
BEGIN:VEVENT
DTSTART;TZID=Europe/Rome:20250924T060000
DTEND;TZID=Europe/Rome:20250924T080000
DTSTAMP:20260421T234323
CREATED:20250922T101044Z
LAST-MODIFIED:20250922T101044Z
UID:2898-1758693600-1758700800@www.eventimusica.com
SUMMARY:Love Songs\, Dedicato a chi ama\, a chi sogna e a chi ricorda
DESCRIPTION:Love Songs: l’appuntamento musicale che fa vibrare l’anima. Un viaggio tra note e emozioni che fanno battere il cuore\, dalle 6:00 alle 8:00. Selezione musicale Marco Graziosi DJ
URL:https://www.eventimusica.com/event/love-songs-dedicato-a-chi-ama-a-chi-sogna-e-a-chi-ricorda/
LOCATION:Ardea
CATEGORIES:intrattenimento,musica
ATTACH;FMTTYPE=image/png:https://www.eventimusica.com/wp-content/uploads/2025/09/Love-Song-Mercoledi-ore-6_00.png
END:VEVENT
BEGIN:VEVENT
DTSTART;TZID=Europe/Rome:20250809T223000
DTEND;TZID=Europe/Rome:20250810T020000
DTSTAMP:20260421T234323
CREATED:20250616T175536Z
LAST-MODIFIED:20250616T175536Z
UID:2876-1754778600-1754791200@www.eventimusica.com
SUMMARY:TakesOver - Agosto 2025 - San Benedetto del Tronto
DESCRIPTION:Il TakesOver sbarca a San Benedetto del Tronto con la energia della musica degli anni ’80 ’90. Ospite tra i tanti DJ\, Marco Graziosi.
URL:https://www.eventimusica.com/event/the-club-house-con-marco-graziosi-su-takesover/
LOCATION:San Benedetto del Tronto
CATEGORIES:intrattenimento,musica
ATTACH;FMTTYPE=image/png:https://www.eventimusica.com/wp-content/uploads/2025/06/San-Benedetto-del-Tronto-Agosto-2025.png
END:VEVENT
BEGIN:VEVENT
DTSTART;TZID=Europe/Rome:20250627T060000
DTEND;TZID=Europe/Rome:20250627T080000
DTSTAMP:20260421T234323
CREATED:20250922T102250Z
LAST-MODIFIED:20250922T102250Z
UID:2900-1751004000-1751011200@www.eventimusica.com
SUMMARY:Il Viaggiatore nel Tempo\, ogni canzone un viaggio.
DESCRIPTION:From Italy to the world\, music that wakes you up! Start your day with the best Italian and international hits – join me every Monday and Friday from 6:00 to 8:00 AM. Marco Graziosi DJ
URL:https://www.eventimusica.com/event/il-viaggiatore-nel-tempo-ogni-canzone-un-viaggio/
LOCATION:Ardea
CATEGORIES:intrattenimento,musica
ATTACH;FMTTYPE=image/png:https://www.eventimusica.com/wp-content/uploads/2025/09/Lunedi-Mercoledi-Venerdi-Il-Viaggiatore-nel-Tempo.png
END:VEVENT
BEGIN:VEVENT
DTSTART;TZID=Europe/Rome:20250625T060000
DTEND;TZID=Europe/Rome:20250625T080000
DTSTAMP:20260421T234323
CREATED:20250616T173837Z
LAST-MODIFIED:20250616T173837Z
UID:2870-1750831200-1750838400@www.eventimusica.com
SUMMARY:Il Viaggiatore nel Tempo\, Love Song
DESCRIPTION:Il Mercoledì mattina “Il Viaggiatore nel Tempo” ci porta a rispolverare musica che ci ha fatto innamorare. Ti aspettiamo dalle 6:00 alle 8:00 con Marco Graziosi DJ e l’affascinante ed intramontabile disco in vinile in compagnia della “Old Family Young”.
URL:https://www.eventimusica.com/event/il-viaggiatore-nel-tempo-love-song/
LOCATION:Ardea
CATEGORIES:intrattenimento,musica
ATTACH;FMTTYPE=image/png:https://www.eventimusica.com/wp-content/uploads/2025/06/Love-Song.png
END:VEVENT
BEGIN:VEVENT
DTSTART;TZID=Europe/Rome:20250623T060000
DTEND;TZID=Europe/Rome:20250623T080000
DTSTAMP:20260421T234323
CREATED:20250616T175800Z
LAST-MODIFIED:20250616T175800Z
UID:2881-1750658400-1750665600@www.eventimusica.com
SUMMARY:Il Viaggiatore nel Tempo - Lunedì\, Mercoledì e Venerdì
DESCRIPTION:Un viaggio infinto oltre ogni confine tutti i Lunedì \,Mercoledì e Venerdì dalle 6:00 alle 8:00 con Marco Graziosi e l’affascinante ed intramontabile disco in vinile\, in compagnia della “Old Family Young”.
URL:https://www.eventimusica.com/event/il-viaggiatore-nel-tempo-lunedi-mercoledi-e-venerdi/
LOCATION:Ardea
CATEGORIES:intrattenimento,musica
ATTACH;FMTTYPE=image/png:https://www.eventimusica.com/wp-content/uploads/2025/06/Lunedi-Mercoledi-Venerdi-Il-Viaggiatore-nel-Tempo.png
END:VEVENT
BEGIN:VEVENT
DTSTART;TZID=Europe/Rome:20250620T060000
DTEND;TZID=Europe/Rome:20250620T080000
DTSTAMP:20260421T234323
CREATED:20250616T173341Z
LAST-MODIFIED:20250616T173341Z
UID:2868-1750399200-1750406400@www.eventimusica.com
SUMMARY:Il Viaggiatore nel Tempo - Vinyl Dream\, Timeless Sound
DESCRIPTION:Un viaggio infinto oltre ogni confine tutti i Lunedì\, Mercoledì e Venerdì dalle 6:00 alle 8:00 con Marco Graziosi DJ e l’affascinante ed intramontabile disco in vinile\, in compagnia della ” Old Family Young”.
URL:https://www.eventimusica.com/event/il-viaggiatore-nel-tempo-vinyl-dream-timeless-sound-6/
LOCATION:Ardea
CATEGORIES:intrattenimento,musica
ATTACH;FMTTYPE=image/png:https://www.eventimusica.com/wp-content/uploads/2025/06/Lunedi-Mercoledi-Venerdi-Il-Viaggiatore-nel-Tempo.png
END:VEVENT
BEGIN:VEVENT
DTSTART;TZID=Europe/Rome:20250618T173000
DTEND;TZID=Europe/Rome:20250618T193000
DTSTAMP:20260421T234323
CREATED:20250616T172534Z
LAST-MODIFIED:20250616T172534Z
UID:2858-1750267800-1750275000@www.eventimusica.com
SUMMARY:The Club Dance - Guest\, Roberto Turatti
DESCRIPTION:The Club Dance e Italo Disco programma condotto da Marco Graziosi DJ in onda tutti i Mercoledì a partire dalle 17:30. Questa settimana ospite il grande Roberto Turatti.
URL:https://www.eventimusica.com/event/the-club-dance-guest-roberto-turatti/
CATEGORIES:intrattenimento,musica
ATTACH;FMTTYPE=image/png:https://www.eventimusica.com/wp-content/uploads/2025/06/Roberto-Turatti-Guest.png
END:VEVENT
BEGIN:VEVENT
DTSTART;TZID=Europe/Rome:20250618T060000
DTEND;TZID=Europe/Rome:20250618T080000
DTSTAMP:20260421T234323
CREATED:20250616T173258Z
LAST-MODIFIED:20250616T173258Z
UID:2865-1750226400-1750233600@www.eventimusica.com
SUMMARY:Il Viaggiatore nel Tempo - Vinyl Dream\, Timeless Sound
DESCRIPTION:Un viaggio infinto oltre ogni confine tutti i Lunedì\, Mercoledì e Venerdì dalle 6:00 alle 8:00 con Marco Graziosi DJ e l’affascinante ed intramontabile disco in vinile\, in compagnia della ” Old Family Young”.
URL:https://www.eventimusica.com/event/il-viaggiatore-nel-tempo-vinyl-dream-timeless-sound-5/
LOCATION:Ardea
CATEGORIES:intrattenimento,musica
ATTACH;FMTTYPE=image/png:https://www.eventimusica.com/wp-content/uploads/2025/06/Lunedi-Mercoledi-Venerdi-Il-Viaggiatore-nel-Tempo.png
END:VEVENT
BEGIN:VEVENT
DTSTART;TZID=Europe/Rome:20250203T060000
DTEND;TZID=Europe/Rome:20250203T080000
DTSTAMP:20260421T234323
CREATED:20250124T231847Z
LAST-MODIFIED:20250124T233910Z
UID:2826-1738562400-1738569600@www.eventimusica.com
SUMMARY:Il Viaggiatore nel Tempo - Lunedì\, Mercoledì e Venerdì
DESCRIPTION:Un viaggio infinto oltre ogni confine tutti i Lunedì \,Mercoledì e Venerdì dalle 6:00 alle 8:00 con l’affascinante ed intramontabile disco in vinile con Marco Graziosi DJ. In compagnia della ” Old Family Young”.
URL:https://www.eventimusica.com/event/il-viaggiatore-nel-tempo-vinyl-dream-timeless-sound/
LOCATION:Ardea
CATEGORIES:intrattenimento,musica
ATTACH;FMTTYPE=image/png:https://www.eventimusica.com/wp-content/uploads/2025/01/Il-Viaggiatore-nel-Tempo-lunedi-mercoledi-e-venerdi.png
END:VEVENT
BEGIN:VEVENT
DTSTART;TZID=Europe/Rome:20250131T060000
DTEND;TZID=Europe/Rome:20250131T080000
DTSTAMP:20260421T234323
CREATED:20250124T233706Z
LAST-MODIFIED:20250124T233706Z
UID:2836-1738303200-1738310400@www.eventimusica.com
SUMMARY:Il Viaggiatore nel Tempo - Vinyl Dream\, Timeless Sound
DESCRIPTION:Un viaggio infinto oltre ogni confine tutti i Lunedì \,Mercoledì e Venerdì dalle 6:00 alle 8:00 con l’affascinante ed intramontabile disco in vinile con Marco Graziosi DJ. In compagnia della ” Old Family Young”.
URL:https://www.eventimusica.com/event/il-viaggiatore-nel-tempo-vinyl-dream-timeless-sound-4/
LOCATION:Ardea
CATEGORIES:intrattenimento,musica
ATTACH;FMTTYPE=image/png:https://www.eventimusica.com/wp-content/uploads/2025/01/Il-Viaggiatore-nel-Tempo-lunedi-mercoledi-e-venerdi.png
END:VEVENT
BEGIN:VEVENT
DTSTART;TZID=Europe/Rome:20250129T060000
DTEND;TZID=Europe/Rome:20250129T080000
DTSTAMP:20260421T234323
CREATED:20250124T233626Z
LAST-MODIFIED:20250124T233626Z
UID:2834-1738130400-1738137600@www.eventimusica.com
SUMMARY:Il Viaggiatore nel Tempo - Vinyl Dream\, Timeless Sound
DESCRIPTION:Un viaggio infinto oltre ogni confine tutti i Lunedì \,Mercoledì e Venerdì dalle 6:00 alle 8:00 con l’affascinante ed intramontabile disco in vinile con Marco Graziosi DJ. In compagnia della ” Old Family Young”.
URL:https://www.eventimusica.com/event/il-viaggiatore-nel-tempo-vinyl-dream-timeless-sound-3/
LOCATION:Ardea
CATEGORIES:intrattenimento,musica
ATTACH;FMTTYPE=image/png:https://www.eventimusica.com/wp-content/uploads/2025/01/Il-Viaggiatore-nel-Tempo-lunedi-mercoledi-e-venerdi.png
END:VEVENT
BEGIN:VEVENT
DTSTART;TZID=Europe/Rome:20250127T060000
DTEND;TZID=Europe/Rome:20250127T080000
DTSTAMP:20260421T234323
CREATED:20250124T233421Z
LAST-MODIFIED:20250124T233421Z
UID:2832-1737957600-1737964800@www.eventimusica.com
SUMMARY:Il Viaggiatore nel Tempo - Vinyl Dream\, Timeless Sound
DESCRIPTION:Un viaggio infinto oltre ogni confine tutti i Lunedì \,Mercoledì e Venerdì dalle 6:00 alle 8:00 con l’affascinante ed intramontabile disco in vinile con Marco Graziosi DJ. In compagnia della ” Old Family Young”.
URL:https://www.eventimusica.com/event/il-viaggiatore-nel-tempo-vinyl-dream-timeless-sound-2/
LOCATION:Ardea
CATEGORIES:intrattenimento,musica
ATTACH;FMTTYPE=image/png:https://www.eventimusica.com/wp-content/uploads/2025/01/Il-Viaggiatore-nel-Tempo-lunedi-mercoledi-e-venerdi.png
END:VEVENT
BEGIN:VEVENT
DTSTART;TZID=Europe/Rome:20241023T160000
DTEND;TZID=Europe/Rome:20241023T180000
DTSTAMP:20260421T234323
CREATED:20241017T093212Z
LAST-MODIFIED:20241017T093212Z
UID:2814-1729699200-1729706400@www.eventimusica.com
SUMMARY:The Club Dance & Dance Talk - OnAiR
DESCRIPTION:In diretta su Deejaywork.it The Club Dance e ogni15 giorni appuntamento con Dance Talk con Massimo Martelli e i suoi ospiti.
URL:https://www.eventimusica.com/event/the-club-dance-dance-talk-onair-2/
CATEGORIES:intrattenimento,musica
ATTACH;FMTTYPE=image/png:https://www.eventimusica.com/wp-content/uploads/2024/10/Mercoledi-Marco-Graziosi-1-1.png
END:VEVENT
BEGIN:VEVENT
DTSTART;TZID=Europe/Rome:20241009T160000
DTEND;TZID=Europe/Rome:20241009T180000
DTSTAMP:20260421T234323
CREATED:20241009T103246Z
LAST-MODIFIED:20241009T104348Z
UID:2810-1728489600-1728496800@www.eventimusica.com
SUMMARY:The Club Dance & Dance Talk - OnAiR
DESCRIPTION:In diretta su Deejaywork.it The Club Dance e ogni15 giorni appuntamento con Dance Talk e i suoi prestigiosi ospiti. Oggi Massimo Berti (Wish Key)
URL:https://www.eventimusica.com/event/the-club-dance-dance-talk-onair/
CATEGORIES:intrattenimento,musica
ATTACH;FMTTYPE=image/png:https://www.eventimusica.com/wp-content/uploads/2024/10/Dance-Tal-The-Club.png
END:VEVENT
BEGIN:VEVENT
DTSTART;TZID=Europe/Rome:20240823T220000
DTEND;TZID=Europe/Rome:20240824T010000
DTSTAMP:20260421T234323
CREATED:20240806T091901Z
LAST-MODIFIED:20240806T091901Z
UID:2792-1724450400-1724461200@www.eventimusica.com
SUMMARY:Tucano Beach - The Original 70s 80s 90s
DESCRIPTION:Le migliori Hits di sempre al “Tucano Beach”\, The Original hits ’70\, ’80 ’90 mixata dal DJ Marco Graziosi
URL:https://www.eventimusica.com/event/tucano-beach-the-original-70s-80s-90s-3/
LOCATION:Ardea
CATEGORIES:musica
ATTACH;FMTTYPE=image/png:https://www.eventimusica.com/wp-content/uploads/2024/08/5.png
END:VEVENT
BEGIN:VEVENT
DTSTART;TZID=Europe/Rome:20240815T220000
DTEND;TZID=Europe/Rome:20240816T010000
DTSTAMP:20260421T234323
CREATED:20240806T091612Z
LAST-MODIFIED:20240806T091612Z
UID:2789-1723759200-1723770000@www.eventimusica.com
SUMMARY:Tucano Beach - The Original 70s 80s 90s
DESCRIPTION:Le migliori Hits di sempre al “Tucano Beach”\, The Original hits ’70\, ’80 ’90 mixata dal DJ Marco Graziosi
URL:https://www.eventimusica.com/event/tucano-beach-the-original-70s-80s-90s-2/
LOCATION:Ardea
CATEGORIES:musica
ATTACH;FMTTYPE=image/png:https://www.eventimusica.com/wp-content/uploads/2024/08/Tucano-15-Agosto.png
END:VEVENT
BEGIN:VEVENT
DTSTART;TZID=Europe/Rome:20240809T220000
DTEND;TZID=Europe/Rome:20240810T010000
DTSTAMP:20260421T234323
CREATED:20240806T091301Z
LAST-MODIFIED:20240806T091301Z
UID:2786-1723240800-1723251600@www.eventimusica.com
SUMMARY:Tucano Beach - The Original 70s 80s 90s
DESCRIPTION:Le migliori Hits di sempre al “Tucano Beach”\, The Original hits ’70\, ’80 ’90 mixata dal DJ Marco Graziosi
URL:https://www.eventimusica.com/event/tucano-beach-the-original-70s-80s-90s/
CATEGORIES:musica
ATTACH;FMTTYPE=image/png:https://www.eventimusica.com/wp-content/uploads/2024/08/Tucano-9-Agosto.png
END:VEVENT
BEGIN:VEVENT
DTSTART;TZID=Europe/Rome:20240706T110000
DTEND;TZID=Europe/Rome:20240706T193000
DTSTAMP:20260421T234323
CREATED:20240702T103933Z
LAST-MODIFIED:20240702T103933Z
UID:2759-1720263600-1720294200@www.eventimusica.com
SUMMARY:Takesover - Sabato 6 Luglio "Marano Beach"
DESCRIPTION:Dalle Ore 11:00 parte “Aperidance” con tanta musica programmata da guest DJ di tutta Italia. Ti aspettiamo a Marano Beach Club\, Opera Beach Club\, Moijto beach Riccione\, Beach Village Via Gabriele D’Annunzio 150.
URL:https://www.eventimusica.com/event/takesover-sabato-6-luglio-marano-beach/
CATEGORIES:intrattenimento,musica
ATTACH;FMTTYPE=image/png:https://www.eventimusica.com/wp-content/uploads/2024/07/Sabato-Takesover-Italo-Disco.png
END:VEVENT
BEGIN:VEVENT
DTSTART;TZID=Europe/Rome:20240705T140000
DTEND;TZID=Europe/Rome:20240705T230000
DTSTAMP:20260421T234323
CREATED:20240702T103220Z
LAST-MODIFIED:20240702T103220Z
UID:2756-1720188000-1720220400@www.eventimusica.com
SUMMARY:Takesover Riccione 2024 - Inaugurazione al Grand Hotel
DESCRIPTION:Inaugurazione il 5 Luglio alle ore 14:00 presso il Grand Hotel di Riccione con tantissime attività. Eventimusica nel suo box ti aspetta in compagnia di Marco Graziosi\, Massimo Martelli e Andrea Terrezza
URL:https://www.eventimusica.com/event/takesover-riccione-2024-inaugurazione-al-grand-hotel/
CATEGORIES:intrattenimento,musica
ATTACH;FMTTYPE=image/png:https://www.eventimusica.com/wp-content/uploads/2024/07/Venerdi-Takesover-Italo-Disco.png
END:VEVENT
BEGIN:VEVENT
DTSTART;TZID=Europe/Rome:20230513T210000
DTEND;TZID=Europe/Rome:20230514T000000
DTSTAMP:20260421T234323
CREATED:20230507T183230Z
LAST-MODIFIED:20230509T051307Z
UID:2547-1684011600-1684022400@www.eventimusica.com
SUMMARY:Takes Over Italo Disco - Concerto per la Pace
DESCRIPTION:In Piazzale Ceccarini\, ingresso libero Ospiti le grandi star della Dance nazionale ed internazionali. I primi special guest dell’edizione 2023\,Ivana Spagna\, Evolution 80\, Tracy Spencer\,Linda Jo Rizzo\, Natasha King\, Ryan Paris\, George Aaron\, Silver Pozzoli\, Tom Hooker\, DeBlanc www.takesover.it
URL:https://www.eventimusica.com/event/takes-over-italo-disco-dj-night-2/
CATEGORIES:intrattenimento,musica
ATTACH;FMTTYPE=image/png:https://www.eventimusica.com/wp-content/uploads/2023/05/13-sabato-concerto-per-la-pace.png
END:VEVENT
BEGIN:VEVENT
DTSTART;TZID=Europe/Rome:20230513T000000
DTEND;TZID=Europe/Rome:20230514T030000
DTSTAMP:20260421T234323
CREATED:20230507T183555Z
LAST-MODIFIED:20230509T051205Z
UID:2550-1683936000-1684033200@www.eventimusica.com
SUMMARY:Takes Over Italo Disco - Dolce Vita 40anni
DESCRIPTION:Alle ore 24.00 la festa continua al FRONTEMARE per festeggiare i 40 anni di “Dolce Vita” con Ryan Paris
URL:https://www.eventimusica.com/event/takes-over-italo-disco-dj-night-3/
CATEGORIES:intrattenimento,musica
ATTACH;FMTTYPE=image/png:https://www.eventimusica.com/wp-content/uploads/2023/05/13-sabato-Ryan-Parys.png
END:VEVENT
BEGIN:VEVENT
DTSTART;TZID=Europe/Rome:20230512T223000
DTEND;TZID=Europe/Rome:20230513T030000
DTSTAMP:20260421T234323
CREATED:20230507T182640Z
LAST-MODIFIED:20230509T050945Z
UID:2544-1683930600-1683946800@www.eventimusica.com
SUMMARY:Takes Over Italo Disco - DJ Night
DESCRIPTION:A Riccione il Palazzo del Turismo ospita 3 sale dove i DJ tra racconti e musica ti faranno viaggiare nello storico trentennio www.takesover.it
URL:https://www.eventimusica.com/event/takes-over-italo-disco-dj-night/
CATEGORIES:intrattenimento,musica
ATTACH;FMTTYPE=image/png:https://www.eventimusica.com/wp-content/uploads/2023/05/12-venerdi-dj-night.png
END:VEVENT
BEGIN:VEVENT
DTSTART;TZID=Europe/Rome:20230512T200000
DTEND;TZID=Europe/Rome:20230512T200000
DTSTAMP:20260421T234323
CREATED:20230507T181810Z
LAST-MODIFIED:20230507T181847Z
UID:2541-1683921600-1683921600@www.eventimusica.com
SUMMARY:Takes Over Italo Disco - DJ Contest - Finali
DESCRIPTION:DJ CONTEST le finali Palazzo del Turismo in Piazzale Ceccarini\, Riccione dalle ore 11.30 alle 13.00 e dalle 16.00 alle 19.00 le performance dei dj finalisti del dj contest Takes Over 2023. www.takesover.it
URL:https://www.eventimusica.com/event/takes-over-italo-disco-dj-contest-finali/
CATEGORIES:intrattenimento,musica
ATTACH;FMTTYPE=image/png:https://www.eventimusica.com/wp-content/uploads/2023/05/12-DJ-Contest.png
END:VEVENT
BEGIN:VEVENT
DTSTART;TZID=Europe/Rome:20230511T200000
DTEND;TZID=Europe/Rome:20230512T030000
DTSTAMP:20260421T234323
CREATED:20230507T181043Z
LAST-MODIFIED:20230507T185003Z
UID:2538-1683835200-1683860400@www.eventimusica.com
SUMMARY:Takes Over Italo Disco - 11 Maggio - Inaugurazione
DESCRIPTION:Seconda Edizione del Festival anni 80 a Riccione\, con tantissimi eventi ed ospiti Nazionali ed Internazionali in occasione del Concerto per la Pace. www.takesover.it
URL:https://www.eventimusica.com/event/takes-over-italo-disco-11-maggio-inaugurazione/
CATEGORIES:intrattenimento,musica
ATTACH;FMTTYPE=image/png:https://www.eventimusica.com/wp-content/uploads/2023/05/11-inaugurazione.png
END:VEVENT
BEGIN:VEVENT
DTSTART;TZID=Europe/Rome:20220815T213000
DTEND;TZID=Europe/Rome:20220816T020000
DTSTAMP:20260421T234323
CREATED:20220811T104603Z
LAST-MODIFIED:20220811T105137Z
UID:2215-1660599000-1660615200@www.eventimusica.com
SUMMARY:Tucano Beach - Dance Hits 70s 80s
DESCRIPTION:Al Tucano Beach si balla la musica degli anni 70\, 80 mixata dal Dj Marco Graziosi
URL:https://www.eventimusica.com/event/tucano-beach-dance-hits-70s-80s/
CATEGORIES:musica
ATTACH;FMTTYPE=image/png:https://www.eventimusica.com/wp-content/uploads/2022/08/Tucano-Beach-15-Agosto-2022-1.png
END:VEVENT
END:VCALENDAR