BEGIN:VCALENDAR
VERSION:2.0
PRODID:-//Eventimusica.com - ECPv6.15.17//NONSGML v1.0//EN
CALSCALE:GREGORIAN
METHOD:PUBLISH
X-ORIGINAL-URL:https://www.eventimusica.com
X-WR-CALDESC:Eventi per Eventimusica.com
REFRESH-INTERVAL;VALUE=DURATION:PT1H
X-Robots-Tag:noindex
X-PUBLISHED-TTL:PT1H
BEGIN:VTIMEZONE
TZID:Europe/Rome
BEGIN:DAYLIGHT
TZOFFSETFROM:+0100
TZOFFSETTO:+0200
TZNAME:CEST
DTSTART:20220327T010000
END:DAYLIGHT
BEGIN:STANDARD
TZOFFSETFROM:+0200
TZOFFSETTO:+0100
TZNAME:CET
DTSTART:20221030T010000
END:STANDARD
BEGIN:DAYLIGHT
TZOFFSETFROM:+0100
TZOFFSETTO:+0200
TZNAME:CEST
DTSTART:20230326T010000
END:DAYLIGHT
BEGIN:STANDARD
TZOFFSETFROM:+0200
TZOFFSETTO:+0100
TZNAME:CET
DTSTART:20231029T010000
END:STANDARD
BEGIN:DAYLIGHT
TZOFFSETFROM:+0100
TZOFFSETTO:+0200
TZNAME:CEST
DTSTART:20240331T010000
END:DAYLIGHT
BEGIN:STANDARD
TZOFFSETFROM:+0200
TZOFFSETTO:+0100
TZNAME:CET
DTSTART:20241027T010000
END:STANDARD
BEGIN:DAYLIGHT
TZOFFSETFROM:+0100
TZOFFSETTO:+0200
TZNAME:CEST
DTSTART:20250330T010000
END:DAYLIGHT
BEGIN:STANDARD
TZOFFSETFROM:+0200
TZOFFSETTO:+0100
TZNAME:CET
DTSTART:20251026T010000
END:STANDARD
END:VTIMEZONE
BEGIN:VEVENT
DTSTART;TZID=Europe/Rome:20240611T170000
DTEND;TZID=Europe/Rome:20240611T190000
DTSTAMP:20260421T184722
CREATED:20240601T135849Z
LAST-MODIFIED:20240601T140735Z
UID:2726-1718125200-1718132400@www.eventimusica.com
SUMMARY:The Club House - RadioDanceRoma - Tuesday
DESCRIPTION:Marco Graziosi with “The Club” and his guests\, Josephx DJ with “Old School” and Antonio Sacco DJ From “Takes Over Italo Disco” await you every Tuesday from 5pm to 7pm. www.radiodanceroma.it
URL:https://www.eventimusica.com/event/the-club-house-radiodanceroma-tuesday-22/
LOCATION:Ardea
CATEGORIES:intrattenimento,musica
ATTACH;FMTTYPE=image/png:https://www.eventimusica.com/wp-content/uploads/2024/06/The-Club-Martedi-House-Music.png
END:VEVENT
BEGIN:VEVENT
DTSTART;TZID=Europe/Rome:20240604T170000
DTEND;TZID=Europe/Rome:20240604T190000
DTSTAMP:20260421T184722
CREATED:20240601T140252Z
LAST-MODIFIED:20240601T140252Z
UID:2731-1717520400-1717527600@www.eventimusica.com
SUMMARY:The Club House - RadioDanceRoma - Tuesday
DESCRIPTION:Marco Graziosi with “The Club” and his guests\, Josephx DJ with “Old School” and Antonio Sacco DJ From “Takes Over Italo Disco” await you every Tuesday from 5pm to 7pm. www.radiodanceroma.it Guest Sandro Tommasi DJ Producer
URL:https://www.eventimusica.com/event/the-club-house-radiodanceroma-tuesday-23/
LOCATION:Ardea
CATEGORIES:intrattenimento,musica
ATTACH;FMTTYPE=image/png:https://www.eventimusica.com/wp-content/uploads/2024/06/The-Club-Martedi-House-Music-1.png
END:VEVENT
BEGIN:VEVENT
DTSTART;TZID=Europe/Rome:20240528T170000
DTEND;TZID=Europe/Rome:20240528T190000
DTSTAMP:20260421T184722
CREATED:20240525T105610Z
LAST-MODIFIED:20240525T105610Z
UID:2708-1716915600-1716922800@www.eventimusica.com
SUMMARY:The Club House - RadioDanceRoma - Tuesday
DESCRIPTION:Marco Graziosi with “The Club” and his guests\, Josephx DJ with “Old School” and Antonio Sacco DJ From “Takes Over Italo Disco” await you every Tuesday from 5pm to 7pm. www.radiodanceroma.it Guest Sandro Tommasi DJ Producer
URL:https://www.eventimusica.com/event/the-club-house-radiodanceroma-tuesday-21/
LOCATION:Ardea
CATEGORIES:intrattenimento,musica
ATTACH;FMTTYPE=image/png:https://www.eventimusica.com/wp-content/uploads/2024/05/sandro-tommasi.png
END:VEVENT
BEGIN:VEVENT
DTSTART;TZID=Europe/Rome:20240227T170000
DTEND;TZID=Europe/Rome:20240227T190000
DTSTAMP:20260421T184722
CREATED:20240223T103728Z
LAST-MODIFIED:20240223T103728Z
UID:2698-1709053200-1709060400@www.eventimusica.com
SUMMARY:The Club House - RadioDanceRoma - Tuesday
DESCRIPTION:Marco Graziosi with “The Club” and his guests\, Josephx DJ with “Old School” and Antonio Sacco DJ From “Takes Over Italo Disco” await you every Tuesday from 5pm to 7pm. Download the free App for iOS or Android\, or click on www.radiodanceroma.it
URL:https://www.eventimusica.com/event/the-club-house-radiodanceroma-tuesday-20/
LOCATION:Ardea
CATEGORIES:intrattenimento,musica
ATTACH;FMTTYPE=image/png:https://www.eventimusica.com/wp-content/uploads/2023/11/Tuesday-Rdr-1-1.png
END:VEVENT
BEGIN:VEVENT
DTSTART;TZID=Europe/Rome:20240224T140000
DTEND;TZID=Europe/Rome:20240224T233000
DTSTAMP:20260421T184722
CREATED:20240223T105215Z
LAST-MODIFIED:20240223T105333Z
UID:2703-1708783200-1708817400@www.eventimusica.com
SUMMARY:Marco Graziosi DJ with Beenoise Showcase and Eventimusica - London 2024
DESCRIPTION:Marco Graziosi DJ present with his Melodic Techno House music in London. Cyberdog\, Ravebar and EGGLND. It starts from 1:00pm
URL:https://www.eventimusica.com/event/beenoise-showcase-ed-eventimusica-london-2024/
CATEGORIES:musica
ATTACH;FMTTYPE=image/jpeg:https://www.eventimusica.com/wp-content/uploads/2024/02/Marco-LND-.jpg
END:VEVENT
BEGIN:VEVENT
DTSTART;TZID=Europe/Rome:20240213T170000
DTEND;TZID=Europe/Rome:20240213T190000
DTSTAMP:20260421T184722
CREATED:20240213T163908Z
LAST-MODIFIED:20240213T163908Z
UID:2689-1707843600-1707850800@www.eventimusica.com
SUMMARY:The Club House - RadioDanceRoma - Guest\, Sisters Cap
DESCRIPTION:Marco Graziosi with “The Club” and his guests\, Josephx DJ with “Old School” and Antonio Sacco DJ From “Takes Over Italo Disco” await you every Tuesday from 5pm to 7pm. Download the free App for iOS or Android\, or click on www.radiodanceroma.it Guest Sisters Cap
URL:https://www.eventimusica.com/event/the-club-house-radiodanceroma-guest-sisters-cap/
LOCATION:Ardea
CATEGORIES:intrattenimento,musica
ATTACH;FMTTYPE=image/png:https://www.eventimusica.com/wp-content/uploads/2024/02/Sisterscaps-interview.png
END:VEVENT
BEGIN:VEVENT
DTSTART;TZID=Europe/Rome:20240213T170000
DTEND;TZID=Europe/Rome:20240213T190000
DTSTAMP:20260421T184722
CREATED:20240207T150922Z
LAST-MODIFIED:20240207T150922Z
UID:2679-1707843600-1707850800@www.eventimusica.com
SUMMARY:The Club House - RadioDanceRoma - Tuesday
DESCRIPTION:Marco Graziosi with “The Club” and his guests\, Josephx DJ with “Old School” and Antonio Sacco DJ From “Takes Over Italo Disco” await you every Tuesday from 5pm to 7pm. Download the free App for iOS or Android\, or click on www.radiodanceroma.it
URL:https://www.eventimusica.com/event/the-club-house-radiodanceroma-tuesday-19/
LOCATION:Ardea
CATEGORIES:intrattenimento,musica
ATTACH;FMTTYPE=image/png:https://www.eventimusica.com/wp-content/uploads/2023/11/Tuesday-Rdr-1-1.png
END:VEVENT
BEGIN:VEVENT
DTSTART;TZID=Europe/Rome:20231205T170000
DTEND;TZID=Europe/Rome:20231205T190000
DTSTAMP:20260421T184722
CREATED:20231129T193317Z
LAST-MODIFIED:20231129T193317Z
UID:2658-1701795600-1701802800@www.eventimusica.com
SUMMARY:The Club House - RadioDanceRoma - Tuesday
DESCRIPTION:Marco Graziosi with “The Club” and his guests\, Josephx DJ with “Old School” and Antonio Sacco DJ From “Takes Over Italo Disco” await you every Tuesday from 5pm to 7pm. Download the free App for iOS or Android\, or click on www.radiodanceroma.it
URL:https://www.eventimusica.com/event/the-club-house-radiodanceroma-tuesday-18/
LOCATION:Ardea
CATEGORIES:intrattenimento,musica
ATTACH;FMTTYPE=image/png:https://www.eventimusica.com/wp-content/uploads/2023/11/Tuesday-Rdr-1-1.png
END:VEVENT
END:VCALENDAR