BEGIN:VCALENDAR
VERSION:2.0
PRODID:-//Eventimusica.com - ECPv6.15.17//NONSGML v1.0//EN
CALSCALE:GREGORIAN
METHOD:PUBLISH
X-WR-CALNAME:Eventimusica.com
X-ORIGINAL-URL:https://www.eventimusica.com
X-WR-CALDESC:Eventi per Eventimusica.com
REFRESH-INTERVAL;VALUE=DURATION:PT1H
X-Robots-Tag:noindex
X-PUBLISHED-TTL:PT1H
BEGIN:VTIMEZONE
TZID:Europe/Rome
BEGIN:DAYLIGHT
TZOFFSETFROM:+0100
TZOFFSETTO:+0200
TZNAME:CEST
DTSTART:20200329T010000
END:DAYLIGHT
BEGIN:STANDARD
TZOFFSETFROM:+0200
TZOFFSETTO:+0100
TZNAME:CET
DTSTART:20201025T010000
END:STANDARD
BEGIN:DAYLIGHT
TZOFFSETFROM:+0100
TZOFFSETTO:+0200
TZNAME:CEST
DTSTART:20210328T010000
END:DAYLIGHT
BEGIN:STANDARD
TZOFFSETFROM:+0200
TZOFFSETTO:+0100
TZNAME:CET
DTSTART:20211031T010000
END:STANDARD
BEGIN:DAYLIGHT
TZOFFSETFROM:+0100
TZOFFSETTO:+0200
TZNAME:CEST
DTSTART:20220327T010000
END:DAYLIGHT
BEGIN:STANDARD
TZOFFSETFROM:+0200
TZOFFSETTO:+0100
TZNAME:CET
DTSTART:20221030T010000
END:STANDARD
BEGIN:DAYLIGHT
TZOFFSETFROM:+0100
TZOFFSETTO:+0200
TZNAME:CEST
DTSTART:20230326T010000
END:DAYLIGHT
BEGIN:STANDARD
TZOFFSETFROM:+0200
TZOFFSETTO:+0100
TZNAME:CET
DTSTART:20231029T010000
END:STANDARD
BEGIN:DAYLIGHT
TZOFFSETFROM:+0100
TZOFFSETTO:+0200
TZNAME:CEST
DTSTART:20240331T010000
END:DAYLIGHT
BEGIN:STANDARD
TZOFFSETFROM:+0200
TZOFFSETTO:+0100
TZNAME:CET
DTSTART:20241027T010000
END:STANDARD
BEGIN:DAYLIGHT
TZOFFSETFROM:+0100
TZOFFSETTO:+0200
TZNAME:CEST
DTSTART:20250330T010000
END:DAYLIGHT
BEGIN:STANDARD
TZOFFSETFROM:+0200
TZOFFSETTO:+0100
TZNAME:CET
DTSTART:20251026T010000
END:STANDARD
BEGIN:DAYLIGHT
TZOFFSETFROM:+0100
TZOFFSETTO:+0200
TZNAME:CEST
DTSTART:20260329T010000
END:DAYLIGHT
BEGIN:STANDARD
TZOFFSETFROM:+0200
TZOFFSETTO:+0100
TZNAME:CET
DTSTART:20261025T010000
END:STANDARD
BEGIN:DAYLIGHT
TZOFFSETFROM:+0100
TZOFFSETTO:+0200
TZNAME:CEST
DTSTART:20270328T010000
END:DAYLIGHT
BEGIN:STANDARD
TZOFFSETFROM:+0200
TZOFFSETTO:+0100
TZNAME:CET
DTSTART:20271031T010000
END:STANDARD
END:VTIMEZONE
BEGIN:VEVENT
DTSTART;TZID=Europe/Rome:20260107T060000
DTEND;TZID=Europe/Rome:20260107T080000
DTSTAMP:20260421T233538
CREATED:20260102T174251Z
LAST-MODIFIED:20260102T174251Z
UID:2923-1767765600-1767772800@www.eventimusica.com
SUMMARY:Love Songs\, Dedicato a chi ama\, a chi sogna e a chi ricorda
DESCRIPTION:Love Songs: l’appuntamento musicale che fa vibrare l’anima. Un viaggio tra note e emozioni che fanno battere il cuore\, dalle 6:00 alle 8:00. Selezione musicale Marco Graziosi DJ
URL:https://www.eventimusica.com/event/love-songs-dedicato-a-chi-ama-a-chi-sogna-e-a-chi-ricorda-2/
LOCATION:Ardea
CATEGORIES:intrattenimento,musica
ATTACH;FMTTYPE=image/jpeg:https://www.eventimusica.com/wp-content/uploads/2026/01/Love-Song-Mercoledi-ore-600.jpg
END:VEVENT
BEGIN:VEVENT
DTSTART;TZID=Europe/Rome:20260105T060000
DTEND;TZID=Europe/Rome:20260105T080000
DTSTAMP:20260421T233538
CREATED:20260102T173637Z
LAST-MODIFIED:20260102T173637Z
UID:2921-1767592800-1767600000@www.eventimusica.com
SUMMARY:Il Viaggiatore nel Tempo\, Live Stereo98 e Tiktok
DESCRIPTION:From Italy to the world\, music that wakes you up! Start your day with the best Italian and international hits – join me every Monday and Friday from 6:00 to 8:00 AM. Marco Graziosi DJ
URL:https://www.eventimusica.com/event/il-viaggiatore-nel-tempo-live-stereo98-e-tiktok/
LOCATION:Ardea
CATEGORIES:intrattenimento,musica
ATTACH;FMTTYPE=image/png:https://www.eventimusica.com/wp-content/uploads/2025/09/Lunedi-Mercoledi-Venerdi-Il-Viaggiatore-nel-Tempo.png
END:VEVENT
BEGIN:VEVENT
DTSTART;TZID=Europe/Rome:20260103T080000
DTEND;TZID=Europe/Rome:20260103T100000
DTSTAMP:20260421T233538
CREATED:20260102T173028Z
LAST-MODIFIED:20260102T173028Z
UID:2919-1767427200-1767434400@www.eventimusica.com
SUMMARY:Il Sabato del Villaggio - Live Stereo98 e Tiktok
DESCRIPTION:Tutti i Sabato mattina la musica e le Hits senza frontiere dalle 8:00 alle 10:00 su Tiktok e Stereo 98 con una selezione di musica curata da Marco Graziosi DJ
URL:https://www.eventimusica.com/event/il-sabato-del-villaggio-live-stereo98-e-tiktok/
LOCATION:Ardea
CATEGORIES:intrattenimento,musica
ATTACH;FMTTYPE=image/png:https://www.eventimusica.com/wp-content/uploads/2025/06/Il-Sabato-del-villaggio.png
END:VEVENT
BEGIN:VEVENT
DTSTART;TZID=Europe/Rome:20250929T220000
DTEND;TZID=Europe/Rome:20250930T000000
DTSTAMP:20260421T233538
CREATED:20250922T104808Z
LAST-MODIFIED:20250922T104808Z
UID:2912-1759183200-1759190400@www.eventimusica.com
SUMMARY:La "Grigliata" che unisce il mondo.
DESCRIPTION:Tutti i Lunedì dalle ore 22:00  amici\, risate e chiacchiere senza confini con la Old Family Young e tanta musica.
URL:https://www.eventimusica.com/event/grigliata-tra-amici-amici-risate-e-chiacchiere-senza-confini/
LOCATION:Ardea
ATTACH;FMTTYPE=image/png:https://www.eventimusica.com/wp-content/uploads/2025/09/Lunedi-Grigliata.png
END:VEVENT
BEGIN:VEVENT
DTSTART;TZID=Europe/Rome:20250927T080000
DTEND;TZID=Europe/Rome:20250927T100000
DTSTAMP:20260421T233538
CREATED:20250922T103922Z
LAST-MODIFIED:20250922T103922Z
UID:2910-1758960000-1758967200@www.eventimusica.com
SUMMARY:Il Sabato del Villaggio
DESCRIPTION:Tutti i Sabato mattina la musica e le Hits senza frontiere dalle 8:00 alle 10:00. Selezione di Marco Graziosi DJ
URL:https://www.eventimusica.com/event/il-sabato-del-villaggio/
LOCATION:Ardea
CATEGORIES:intrattenimento,musica
ATTACH;FMTTYPE=image/png:https://www.eventimusica.com/wp-content/uploads/2025/06/Il-Sabato-del-villaggio.png
END:VEVENT
BEGIN:VEVENT
DTSTART;TZID=Europe/Rome:20250926T060000
DTEND;TZID=Europe/Rome:20250926T080000
DTSTAMP:20260421T233538
CREATED:20250922T103551Z
LAST-MODIFIED:20250922T103551Z
UID:2908-1758866400-1758873600@www.eventimusica.com
SUMMARY:Il Viaggiatore nel Tempo\, ogni canzone un viaggio.
DESCRIPTION:From Italy to the world\, music that wakes you up! Start your day with the best Italian and international hits – join me every Monday and Friday from 6:00 to 8:00 AM. Marco Graziosi DJ
URL:https://www.eventimusica.com/event/il-viaggiatore-nel-tempo-ogni-canzone-un-viaggio-2/
LOCATION:Ardea
CATEGORIES:intrattenimento,musica
ATTACH;FMTTYPE=image/png:https://www.eventimusica.com/wp-content/uploads/2025/09/Lunedi-Mercoledi-Venerdi-Il-Viaggiatore-nel-Tempo.png
END:VEVENT
BEGIN:VEVENT
DTSTART;TZID=Europe/Rome:20250924T060000
DTEND;TZID=Europe/Rome:20250924T080000
DTSTAMP:20260421T233538
CREATED:20250922T101044Z
LAST-MODIFIED:20250922T101044Z
UID:2898-1758693600-1758700800@www.eventimusica.com
SUMMARY:Love Songs\, Dedicato a chi ama\, a chi sogna e a chi ricorda
DESCRIPTION:Love Songs: l’appuntamento musicale che fa vibrare l’anima. Un viaggio tra note e emozioni che fanno battere il cuore\, dalle 6:00 alle 8:00. Selezione musicale Marco Graziosi DJ
URL:https://www.eventimusica.com/event/love-songs-dedicato-a-chi-ama-a-chi-sogna-e-a-chi-ricorda/
LOCATION:Ardea
CATEGORIES:intrattenimento,musica
ATTACH;FMTTYPE=image/png:https://www.eventimusica.com/wp-content/uploads/2025/09/Love-Song-Mercoledi-ore-6_00.png
END:VEVENT
BEGIN:VEVENT
DTSTART;TZID=Europe/Rome:20250627T060000
DTEND;TZID=Europe/Rome:20250627T080000
DTSTAMP:20260421T233538
CREATED:20250922T102250Z
LAST-MODIFIED:20250922T102250Z
UID:2900-1751004000-1751011200@www.eventimusica.com
SUMMARY:Il Viaggiatore nel Tempo\, ogni canzone un viaggio.
DESCRIPTION:From Italy to the world\, music that wakes you up! Start your day with the best Italian and international hits – join me every Monday and Friday from 6:00 to 8:00 AM. Marco Graziosi DJ
URL:https://www.eventimusica.com/event/il-viaggiatore-nel-tempo-ogni-canzone-un-viaggio/
LOCATION:Ardea
CATEGORIES:intrattenimento,musica
ATTACH;FMTTYPE=image/png:https://www.eventimusica.com/wp-content/uploads/2025/09/Lunedi-Mercoledi-Venerdi-Il-Viaggiatore-nel-Tempo.png
END:VEVENT
BEGIN:VEVENT
DTSTART;TZID=Europe/Rome:20250625T060000
DTEND;TZID=Europe/Rome:20250625T080000
DTSTAMP:20260421T233538
CREATED:20250616T173837Z
LAST-MODIFIED:20250616T173837Z
UID:2870-1750831200-1750838400@www.eventimusica.com
SUMMARY:Il Viaggiatore nel Tempo\, Love Song
DESCRIPTION:Il Mercoledì mattina “Il Viaggiatore nel Tempo” ci porta a rispolverare musica che ci ha fatto innamorare. Ti aspettiamo dalle 6:00 alle 8:00 con Marco Graziosi DJ e l’affascinante ed intramontabile disco in vinile in compagnia della “Old Family Young”.
URL:https://www.eventimusica.com/event/il-viaggiatore-nel-tempo-love-song/
LOCATION:Ardea
CATEGORIES:intrattenimento,musica
ATTACH;FMTTYPE=image/png:https://www.eventimusica.com/wp-content/uploads/2025/06/Love-Song.png
END:VEVENT
BEGIN:VEVENT
DTSTART;TZID=Europe/Rome:20250623T060000
DTEND;TZID=Europe/Rome:20250623T080000
DTSTAMP:20260421T233538
CREATED:20250616T175800Z
LAST-MODIFIED:20250616T175800Z
UID:2881-1750658400-1750665600@www.eventimusica.com
SUMMARY:Il Viaggiatore nel Tempo - Lunedì\, Mercoledì e Venerdì
DESCRIPTION:Un viaggio infinto oltre ogni confine tutti i Lunedì \,Mercoledì e Venerdì dalle 6:00 alle 8:00 con Marco Graziosi e l’affascinante ed intramontabile disco in vinile\, in compagnia della “Old Family Young”.
URL:https://www.eventimusica.com/event/il-viaggiatore-nel-tempo-lunedi-mercoledi-e-venerdi/
LOCATION:Ardea
CATEGORIES:intrattenimento,musica
ATTACH;FMTTYPE=image/png:https://www.eventimusica.com/wp-content/uploads/2025/06/Lunedi-Mercoledi-Venerdi-Il-Viaggiatore-nel-Tempo.png
END:VEVENT
BEGIN:VEVENT
DTSTART;TZID=Europe/Rome:20250621T080000
DTEND;TZID=Europe/Rome:20250621T100000
DTSTAMP:20260421T233538
CREATED:20250616T174605Z
LAST-MODIFIED:20250616T174605Z
UID:2873-1750492800-1750500000@www.eventimusica.com
SUMMARY:Il Sabato del Villggio con Marco Graziosi
DESCRIPTION:The Club House dalle 16:00 alle 18:00 su DJWork.it con Marco Grazios\, Live streaming anche sul canale Tiktok www.tiktok.com/@marcograziosidj
URL:https://www.eventimusica.com/event/the-club-house-con-marco-graziosi-su-www-tiktok-com-marcograziosidj/
LOCATION:Ardea
CATEGORIES:intrattenimento,musica
ATTACH;FMTTYPE=image/png:https://www.eventimusica.com/wp-content/uploads/2025/06/Il-Sabato-del-villaggio.png
END:VEVENT
BEGIN:VEVENT
DTSTART;TZID=Europe/Rome:20250620T060000
DTEND;TZID=Europe/Rome:20250620T080000
DTSTAMP:20260421T233538
CREATED:20250616T173341Z
LAST-MODIFIED:20250616T173341Z
UID:2868-1750399200-1750406400@www.eventimusica.com
SUMMARY:Il Viaggiatore nel Tempo - Vinyl Dream\, Timeless Sound
DESCRIPTION:Un viaggio infinto oltre ogni confine tutti i Lunedì\, Mercoledì e Venerdì dalle 6:00 alle 8:00 con Marco Graziosi DJ e l’affascinante ed intramontabile disco in vinile\, in compagnia della ” Old Family Young”.
URL:https://www.eventimusica.com/event/il-viaggiatore-nel-tempo-vinyl-dream-timeless-sound-6/
LOCATION:Ardea
CATEGORIES:intrattenimento,musica
ATTACH;FMTTYPE=image/png:https://www.eventimusica.com/wp-content/uploads/2025/06/Lunedi-Mercoledi-Venerdi-Il-Viaggiatore-nel-Tempo.png
END:VEVENT
BEGIN:VEVENT
DTSTART;TZID=Europe/Rome:20250618T060000
DTEND;TZID=Europe/Rome:20250618T080000
DTSTAMP:20260421T233538
CREATED:20250616T173258Z
LAST-MODIFIED:20250616T173258Z
UID:2865-1750226400-1750233600@www.eventimusica.com
SUMMARY:Il Viaggiatore nel Tempo - Vinyl Dream\, Timeless Sound
DESCRIPTION:Un viaggio infinto oltre ogni confine tutti i Lunedì\, Mercoledì e Venerdì dalle 6:00 alle 8:00 con Marco Graziosi DJ e l’affascinante ed intramontabile disco in vinile\, in compagnia della ” Old Family Young”.
URL:https://www.eventimusica.com/event/il-viaggiatore-nel-tempo-vinyl-dream-timeless-sound-5/
LOCATION:Ardea
CATEGORIES:intrattenimento,musica
ATTACH;FMTTYPE=image/png:https://www.eventimusica.com/wp-content/uploads/2025/06/Lunedi-Mercoledi-Venerdi-Il-Viaggiatore-nel-Tempo.png
END:VEVENT
BEGIN:VEVENT
DTSTART;TZID=Europe/Rome:20250203T060000
DTEND;TZID=Europe/Rome:20250203T080000
DTSTAMP:20260421T233538
CREATED:20250124T231847Z
LAST-MODIFIED:20250124T233910Z
UID:2826-1738562400-1738569600@www.eventimusica.com
SUMMARY:Il Viaggiatore nel Tempo - Lunedì\, Mercoledì e Venerdì
DESCRIPTION:Un viaggio infinto oltre ogni confine tutti i Lunedì \,Mercoledì e Venerdì dalle 6:00 alle 8:00 con l’affascinante ed intramontabile disco in vinile con Marco Graziosi DJ. In compagnia della ” Old Family Young”.
URL:https://www.eventimusica.com/event/il-viaggiatore-nel-tempo-vinyl-dream-timeless-sound/
LOCATION:Ardea
CATEGORIES:intrattenimento,musica
ATTACH;FMTTYPE=image/png:https://www.eventimusica.com/wp-content/uploads/2025/01/Il-Viaggiatore-nel-Tempo-lunedi-mercoledi-e-venerdi.png
END:VEVENT
BEGIN:VEVENT
DTSTART;TZID=Europe/Rome:20250131T060000
DTEND;TZID=Europe/Rome:20250131T080000
DTSTAMP:20260421T233538
CREATED:20250124T233706Z
LAST-MODIFIED:20250124T233706Z
UID:2836-1738303200-1738310400@www.eventimusica.com
SUMMARY:Il Viaggiatore nel Tempo - Vinyl Dream\, Timeless Sound
DESCRIPTION:Un viaggio infinto oltre ogni confine tutti i Lunedì \,Mercoledì e Venerdì dalle 6:00 alle 8:00 con l’affascinante ed intramontabile disco in vinile con Marco Graziosi DJ. In compagnia della ” Old Family Young”.
URL:https://www.eventimusica.com/event/il-viaggiatore-nel-tempo-vinyl-dream-timeless-sound-4/
LOCATION:Ardea
CATEGORIES:intrattenimento,musica
ATTACH;FMTTYPE=image/png:https://www.eventimusica.com/wp-content/uploads/2025/01/Il-Viaggiatore-nel-Tempo-lunedi-mercoledi-e-venerdi.png
END:VEVENT
BEGIN:VEVENT
DTSTART;TZID=Europe/Rome:20250129T060000
DTEND;TZID=Europe/Rome:20250129T080000
DTSTAMP:20260421T233538
CREATED:20250124T233626Z
LAST-MODIFIED:20250124T233626Z
UID:2834-1738130400-1738137600@www.eventimusica.com
SUMMARY:Il Viaggiatore nel Tempo - Vinyl Dream\, Timeless Sound
DESCRIPTION:Un viaggio infinto oltre ogni confine tutti i Lunedì \,Mercoledì e Venerdì dalle 6:00 alle 8:00 con l’affascinante ed intramontabile disco in vinile con Marco Graziosi DJ. In compagnia della ” Old Family Young”.
URL:https://www.eventimusica.com/event/il-viaggiatore-nel-tempo-vinyl-dream-timeless-sound-3/
LOCATION:Ardea
CATEGORIES:intrattenimento,musica
ATTACH;FMTTYPE=image/png:https://www.eventimusica.com/wp-content/uploads/2025/01/Il-Viaggiatore-nel-Tempo-lunedi-mercoledi-e-venerdi.png
END:VEVENT
BEGIN:VEVENT
DTSTART;TZID=Europe/Rome:20250127T060000
DTEND;TZID=Europe/Rome:20250127T080000
DTSTAMP:20260421T233538
CREATED:20250124T233421Z
LAST-MODIFIED:20250124T233421Z
UID:2832-1737957600-1737964800@www.eventimusica.com
SUMMARY:Il Viaggiatore nel Tempo - Vinyl Dream\, Timeless Sound
DESCRIPTION:Un viaggio infinto oltre ogni confine tutti i Lunedì \,Mercoledì e Venerdì dalle 6:00 alle 8:00 con l’affascinante ed intramontabile disco in vinile con Marco Graziosi DJ. In compagnia della ” Old Family Young”.
URL:https://www.eventimusica.com/event/il-viaggiatore-nel-tempo-vinyl-dream-timeless-sound-2/
LOCATION:Ardea
CATEGORIES:intrattenimento,musica
ATTACH;FMTTYPE=image/png:https://www.eventimusica.com/wp-content/uploads/2025/01/Il-Viaggiatore-nel-Tempo-lunedi-mercoledi-e-venerdi.png
END:VEVENT
BEGIN:VEVENT
DTSTART;TZID=Europe/Rome:20250125T070000
DTEND;TZID=Europe/Rome:20250125T090000
DTSTAMP:20260421T233538
CREATED:20250124T233245Z
LAST-MODIFIED:20250124T233245Z
UID:2829-1737788400-1737795600@www.eventimusica.com
SUMMARY:Il Viaggiatore nel Tempo - Sabato
DESCRIPTION:Tutti i Sabato Mattina “Il Viaggiatore nel Tempo con musica selezionata esclusivamente in vinile da Marco Graziosi dalle ore 7:00Am
URL:https://www.eventimusica.com/event/il-viaggiatore-nel-tempo-sabato/
LOCATION:Marina Di Ardea
CATEGORIES:intrattenimento,musica
ATTACH;FMTTYPE=image/png:https://www.eventimusica.com/wp-content/uploads/2025/01/Sabato.png
END:VEVENT
BEGIN:VEVENT
DTSTART;TZID=Europe/Rome:20210102T090000
DTEND;TZID=Europe/Rome:20210102T100000
DTSTAMP:20260421T233538
CREATED:20201230T184652Z
LAST-MODIFIED:20201230T184652Z
UID:1504-1609578000-1609581600@www.eventimusica.com
SUMMARY:Breakfast from Italy - Vinyl Exclusive
DESCRIPTION:Dalle 9 Sveglia con la musica suonata esclusivamente con il Vinile da Marco Graziosi DJ. Genere musicale vario.
URL:https://www.eventimusica.com/event/breakfast-from-italy-vinyl-exclusive/
LOCATION:Mixcloud
CATEGORIES:intrattenimento,musica
ATTACH;FMTTYPE=image/jpeg:https://www.eventimusica.com/wp-content/uploads/2020/12/breakfast-in-italy.jpg
END:VEVENT
END:VCALENDAR