BEGIN:VCALENDAR
VERSION:2.0
PRODID:-//Eventimusica.com - ECPv6.15.17//NONSGML v1.0//EN
CALSCALE:GREGORIAN
METHOD:PUBLISH
X-ORIGINAL-URL:https://www.eventimusica.com
X-WR-CALDESC:Eventi per Eventimusica.com
REFRESH-INTERVAL;VALUE=DURATION:PT1H
X-Robots-Tag:noindex
X-PUBLISHED-TTL:PT1H
BEGIN:VTIMEZONE
TZID:Europe/Rome
BEGIN:DAYLIGHT
TZOFFSETFROM:+0100
TZOFFSETTO:+0200
TZNAME:CEST
DTSTART:20210328T010000
END:DAYLIGHT
BEGIN:STANDARD
TZOFFSETFROM:+0200
TZOFFSETTO:+0100
TZNAME:CET
DTSTART:20211031T010000
END:STANDARD
BEGIN:DAYLIGHT
TZOFFSETFROM:+0100
TZOFFSETTO:+0200
TZNAME:CEST
DTSTART:20220327T010000
END:DAYLIGHT
BEGIN:STANDARD
TZOFFSETFROM:+0200
TZOFFSETTO:+0100
TZNAME:CET
DTSTART:20221030T010000
END:STANDARD
BEGIN:DAYLIGHT
TZOFFSETFROM:+0100
TZOFFSETTO:+0200
TZNAME:CEST
DTSTART:20230326T010000
END:DAYLIGHT
BEGIN:STANDARD
TZOFFSETFROM:+0200
TZOFFSETTO:+0100
TZNAME:CET
DTSTART:20231029T010000
END:STANDARD
BEGIN:DAYLIGHT
TZOFFSETFROM:+0100
TZOFFSETTO:+0200
TZNAME:CEST
DTSTART:20240331T010000
END:DAYLIGHT
BEGIN:STANDARD
TZOFFSETFROM:+0200
TZOFFSETTO:+0100
TZNAME:CET
DTSTART:20241027T010000
END:STANDARD
END:VTIMEZONE
BEGIN:VEVENT
DTSTART;TZID=Europe/Rome:20231128T170000
DTEND;TZID=Europe/Rome:20231128T190000
DTSTAMP:20260421T151828
CREATED:20231127T115035Z
LAST-MODIFIED:20231127T115035Z
UID:2651-1701190800-1701198000@www.eventimusica.com
SUMMARY:The Club House - RadioDanceRoma - Tuesday
DESCRIPTION:Marco Graziosi with “The Club” and his guests\, Josephx DJ with “Old School” and Antonio Sacco DJ From “Takes Over Italo Disco” await you every Tuesday from 5pm to 7pm. Download the free App for iOS or Android\, or click on www.radiodanceroma.it
URL:https://www.eventimusica.com/event/the-club-house-radiodanceroma-tuesday-17/
LOCATION:Ardea
CATEGORIES:intrattenimento,musica
ATTACH;FMTTYPE=image/png:https://www.eventimusica.com/wp-content/uploads/2023/11/Tuesday-Rdr-1-1.png
END:VEVENT
BEGIN:VEVENT
DTSTART;TZID=Europe/Rome:20231114T170000
DTEND;TZID=Europe/Rome:20231114T190000
DTSTAMP:20260421T151828
CREATED:20231021T194502Z
LAST-MODIFIED:20231021T194502Z
UID:2634-1699981200-1699988400@www.eventimusica.com
SUMMARY:The Club House - RadioDanceRoma - Tuesday
DESCRIPTION:Marco Graziosi with “The Club” and his guests\, Josephx DJ with “Old School” and Antonio Sacco DJ From “Takes Over Italo Disco” await you every Tuesday from 5pm to 7pm. Download the free App for iOS or Android\, or click on www.radiodanceroma.it
URL:https://www.eventimusica.com/event/the-club-house-radiodanceroma-tuesday-16/
LOCATION:Ardea
CATEGORIES:intrattenimento,musica
ATTACH;FMTTYPE=image/png:https://www.eventimusica.com/wp-content/uploads/2023/10/Tuesday.png
END:VEVENT
BEGIN:VEVENT
DTSTART;TZID=Europe/Rome:20231031T170000
DTEND;TZID=Europe/Rome:20231031T190000
DTSTAMP:20260421T151828
CREATED:20231021T183830Z
LAST-MODIFIED:20231021T183830Z
UID:2632-1698771600-1698778800@www.eventimusica.com
SUMMARY:The Club House - RadioDanceRoma - Tuesday
DESCRIPTION:Marco Graziosi with “The Club” and his guests\, Josephx DJ with “Old School” and Antonio Sacco DJ From “Takes Over Italo Disco” await you every Tuesday from 5pm to 7pm. Download the free App for iOS or Android\, or click on www.radiodanceroma.it
URL:https://www.eventimusica.com/event/the-club-house-radiodanceroma-tuesday-15/
LOCATION:Ardea
CATEGORIES:intrattenimento,musica
ATTACH;FMTTYPE=image/png:https://www.eventimusica.com/wp-content/uploads/2023/10/The-Club-Tuesday.png
END:VEVENT
BEGIN:VEVENT
DTSTART;TZID=Europe/Rome:20231024T170000
DTEND;TZID=Europe/Rome:20231024T190000
DTSTAMP:20260421T151828
CREATED:20231015T181635Z
LAST-MODIFIED:20231015T181635Z
UID:2613-1698166800-1698174000@www.eventimusica.com
SUMMARY:The Club House - RadioDanceRoma - Tuesday
DESCRIPTION:Marco Graziosi with “The Club” and his guests\, Josephx DJ with “Old School” and Antonio Sacco DJ From “Takes Over Italo Disco” await you every Tuesday from 5pm to 7pm. Download the free App for iOS or Android\, or click on www.radiodanceroma.it
URL:https://www.eventimusica.com/event/the-club-house-radiodanceroma-tuesday-14/
LOCATION:Ardea
CATEGORIES:intrattenimento,musica
ATTACH;FMTTYPE=image/png:https://www.eventimusica.com/wp-content/uploads/2023/10/The-Club-Tuesday.png
END:VEVENT
BEGIN:VEVENT
DTSTART;TZID=Europe/Rome:20231017T170000
DTEND;TZID=Europe/Rome:20231017T190000
DTSTAMP:20260421T151828
CREATED:20231015T181410Z
LAST-MODIFIED:20231015T181410Z
UID:2611-1697562000-1697569200@www.eventimusica.com
SUMMARY:The Club House - RadioDanceRoma - Tuesday
DESCRIPTION:Marco Graziosi with “The Club” and his guests\, Josephx DJ with “Old School” and Antonio Sacco DJ From “Takes Over Italo Disco” await you every Tuesday from 5pm to 7pm. Download the free App for iOS or Android\, or click on www.radiodanceroma.it
URL:https://www.eventimusica.com/event/the-club-house-radiodanceroma-tuesday-13/
LOCATION:Ardea
CATEGORIES:intrattenimento,musica
ATTACH;FMTTYPE=image/png:https://www.eventimusica.com/wp-content/uploads/2023/10/The-Club-Tuesday.png
END:VEVENT
BEGIN:VEVENT
DTSTART;TZID=Europe/Rome:20231010T170000
DTEND;TZID=Europe/Rome:20231010T190000
DTSTAMP:20260421T151828
CREATED:20231002T220046Z
LAST-MODIFIED:20231002T220046Z
UID:2596-1696957200-1696964400@www.eventimusica.com
SUMMARY:The Club House - RadioDanceRoma - Tuesday
DESCRIPTION:Marco Graziosi with “The Club” and his guests\, Josephx DJ with “Old School” await you every Tuesday from 5pm to 7pm. Download the free App for iOS or Android\, or click on www.radiodanceroma.it
URL:https://www.eventimusica.com/event/the-club-house-radiodanceroma-tuesday-12/
LOCATION:Ardea
CATEGORIES:intrattenimento,musica
ATTACH;FMTTYPE=image/png:https://www.eventimusica.com/wp-content/uploads/2023/10/The-Club-Tuesday.png
END:VEVENT
BEGIN:VEVENT
DTSTART;TZID=Europe/Rome:20231003T170000
DTEND;TZID=Europe/Rome:20231003T190000
DTSTAMP:20260421T151828
CREATED:20231002T214844Z
LAST-MODIFIED:20231002T214844Z
UID:2590-1696352400-1696359600@www.eventimusica.com
SUMMARY:The Club House - RadioDanceRoma - Tuesday
DESCRIPTION:Marco Graziosi with “The Club” and his guests\, Josephx DJ with “Old School” await you every Tuesday from 5pm to 7pm. Download the free App for iOS or Android\, or click on www.radiodanceroma.it
URL:https://www.eventimusica.com/event/the-club-house-radiodanceroma-tuesday-11/
LOCATION:Ardea
CATEGORIES:intrattenimento,musica
ATTACH;FMTTYPE=image/png:https://www.eventimusica.com/wp-content/uploads/2023/10/The-Club-Tuesday.png
END:VEVENT
BEGIN:VEVENT
DTSTART;TZID=Europe/Rome:20230627T170000
DTEND;TZID=Europe/Rome:20230627T190000
DTSTAMP:20260421T151828
CREATED:20230622T170959Z
LAST-MODIFIED:20230622T170959Z
UID:2585-1687885200-1687892400@www.eventimusica.com
SUMMARY:The Club House - RadioDanceRoma - Tuesday
DESCRIPTION:Marco Graziosi in his “The Club” and his guests\, Josephx DJ with “Old School”  are waiting for you every Tuesday from 5:00Pm to 7:00Pm. Download the free App for iOS or Android\, or click on www.radiodanceroma.it
URL:https://www.eventimusica.com/event/the-club-house-radiodanceroma-tuesday-10/
LOCATION:Ardea
CATEGORIES:intrattenimento,musica
ATTACH;FMTTYPE=image/png:https://www.eventimusica.com/wp-content/uploads/2023/05/Tuesday-ig2.png
END:VEVENT
BEGIN:VEVENT
DTSTART;TZID=Europe/Rome:20230620T170000
DTEND;TZID=Europe/Rome:20230620T190000
DTSTAMP:20260421T151828
CREATED:20230613T144137Z
LAST-MODIFIED:20230613T144137Z
UID:2572-1687280400-1687287600@www.eventimusica.com
SUMMARY:The Club House - RadioDanceRoma - Tuesday
DESCRIPTION:Marco Graziosi in his “The Club” and his guests\, Josephx DJ with “Old School”  are waiting for you every Tuesday from 5:00Pm to 7:00Pm. Download the free App for iOS or Android\, or click on www.radiodanceroma.it
URL:https://www.eventimusica.com/event/the-club-house-radiodanceroma-tuesday-9/
LOCATION:Ardea
CATEGORIES:intrattenimento,musica
ATTACH;FMTTYPE=image/png:https://www.eventimusica.com/wp-content/uploads/2023/05/Tuesday-ig2.png
END:VEVENT
BEGIN:VEVENT
DTSTART;TZID=Europe/Rome:20230613T170000
DTEND;TZID=Europe/Rome:20230613T190000
DTSTAMP:20260421T151828
CREATED:20230606T161907Z
LAST-MODIFIED:20230606T161907Z
UID:2566-1686675600-1686682800@www.eventimusica.com
SUMMARY:The Club House - RadioDanceRoma - Tuesday
DESCRIPTION:Marco Graziosi in his “The Club” and his guests\, Josephx DJ with “Old School”  are waiting for you every Tuesday from 5:00Pm to 7:00Pm. Download the free App for iOS or Android\, or click on www.radiodanceroma.it
URL:https://www.eventimusica.com/event/the-club-house-radiodanceroma-tuesday-8/
LOCATION:Ardea
CATEGORIES:intrattenimento,musica
ATTACH;FMTTYPE=image/png:https://www.eventimusica.com/wp-content/uploads/2023/05/Tuesday-ig2.png
END:VEVENT
BEGIN:VEVENT
DTSTART;TZID=Europe/Rome:20230606T170000
DTEND;TZID=Europe/Rome:20230606T190000
DTSTAMP:20260421T151828
CREATED:20230606T161713Z
LAST-MODIFIED:20230606T161713Z
UID:2564-1686070800-1686078000@www.eventimusica.com
SUMMARY:The Club House - RadioDanceRoma - Tuesday
DESCRIPTION:Marco Graziosi in his “The Club” and his guests\, Josephx DJ with “Old School”  are waiting for you every Tuesday from 5:00Pm to 7:00Pm. Download the free App for iOS or Android\, or click on www.radiodanceroma.it
URL:https://www.eventimusica.com/event/the-club-house-radiodanceroma-tuesday-7/
LOCATION:Ardea
CATEGORIES:intrattenimento,musica
ATTACH;FMTTYPE=image/png:https://www.eventimusica.com/wp-content/uploads/2023/05/Tuesday-ig2.png
END:VEVENT
BEGIN:VEVENT
DTSTART;TZID=Europe/Rome:20230530T170000
DTEND;TZID=Europe/Rome:20230530T190000
DTSTAMP:20260421T151828
CREATED:20230507T082235Z
LAST-MODIFIED:20230507T180124Z
UID:2525-1685466000-1685473200@www.eventimusica.com
SUMMARY:The Club House - RadioDanceRoma - Tuesday
DESCRIPTION:Marco Graziosi in his “The Club” and his guests\, Josephx DJ with “Old School”  are waiting for you every Tuesday from 5:00Pm to 7:00Pm. Download the free App for iOS or Android\, or click on www.radiodanceroma.it
URL:https://www.eventimusica.com/event/the-club-house-radiodanceroma-tuesday-6/
LOCATION:Ardea
CATEGORIES:intrattenimento,musica
ATTACH;FMTTYPE=image/png:https://www.eventimusica.com/wp-content/uploads/2023/05/Tuesday-ig2.png
END:VEVENT
BEGIN:VEVENT
DTSTART;TZID=Europe/Rome:20230523T170000
DTEND;TZID=Europe/Rome:20230523T190000
DTSTAMP:20260421T151828
CREATED:20230507T082212Z
LAST-MODIFIED:20230507T180056Z
UID:2523-1684861200-1684868400@www.eventimusica.com
SUMMARY:The Club House - RadioDanceRoma - Tuesday
DESCRIPTION:Marco Graziosi in his “The Club” and his guests\, Josephx DJ with “Old School”  are waiting for you every Tuesday from 5:00Pm to 7:00Pm. Download the free App for iOS or Android\, or click on www.radiodanceroma.it
URL:https://www.eventimusica.com/event/the-club-house-radiodanceroma-tuesday-5/
LOCATION:Ardea
CATEGORIES:intrattenimento,musica
ATTACH;FMTTYPE=image/png:https://www.eventimusica.com/wp-content/uploads/2023/05/Tuesday-ig2.png
END:VEVENT
BEGIN:VEVENT
DTSTART;TZID=Europe/Rome:20230516T170000
DTEND;TZID=Europe/Rome:20230516T190000
DTSTAMP:20260421T151828
CREATED:20230507T082137Z
LAST-MODIFIED:20230507T180002Z
UID:2521-1684256400-1684263600@www.eventimusica.com
SUMMARY:The Club House - RadioDanceRoma - Tuesday
DESCRIPTION:Marco Graziosi in his “The Club” and his guests\, Josephx DJ with “Old School”  are waiting for you every Tuesday from 5:00Pm to 7:00Pm. Download the free App for iOS or Android\, or click on www.radiodanceroma.it
URL:https://www.eventimusica.com/event/the-club-house-radiodanceroma-tuesday-4/
LOCATION:Ardea
CATEGORIES:intrattenimento,musica
ATTACH;FMTTYPE=image/png:https://www.eventimusica.com/wp-content/uploads/2023/05/Martedi-3.png
END:VEVENT
BEGIN:VEVENT
DTSTART;TZID=Europe/Rome:20230509T170000
DTEND;TZID=Europe/Rome:20230509T190000
DTSTAMP:20260421T151828
CREATED:20230507T082107Z
LAST-MODIFIED:20230507T175854Z
UID:2519-1683651600-1683658800@www.eventimusica.com
SUMMARY:The Club House - RadioDanceRoma - Tuesday
DESCRIPTION:Marco Graziosi in his “The Club” and his guests\, Josephx DJ with “Old School”  are waiting for you every Tuesday from 5:00Pm to 7:00Pm. Download the free App for iOS or Android\, or click on www.radiodanceroma.it
URL:https://www.eventimusica.com/event/the-club-house-radiodanceroma-tuesday-3/
LOCATION:Ardea
CATEGORIES:intrattenimento,musica
ATTACH;FMTTYPE=image/png:https://www.eventimusica.com/wp-content/uploads/2023/05/Martedi-3.png
END:VEVENT
BEGIN:VEVENT
DTSTART;TZID=Europe/Rome:20230314T170000
DTEND;TZID=Europe/Rome:20230314T190000
DTSTAMP:20260421T151828
CREATED:20230306T222542Z
LAST-MODIFIED:20230306T222542Z
UID:2499-1678813200-1678820400@www.eventimusica.com
SUMMARY:The Club House - RadioDanceRoma - Tuesday
DESCRIPTION:Marco Graziosi in his “The Club” and his guests\, Josephx DJ with “Old School”  are waiting for you every Tuesday from 5:00Pm to 7:00Pm. Download the free App for iOS or Android\, or click on www.radiodanceroma.it
URL:https://www.eventimusica.com/event/the-club-house-radiodanceroma-tuesday-2/
LOCATION:Ardea
CATEGORIES:intrattenimento,musica
ATTACH;FMTTYPE=image/png:https://www.eventimusica.com/wp-content/uploads/2023/03/Martedi-3.png
END:VEVENT
BEGIN:VEVENT
DTSTART;TZID=Europe/Rome:20230307T170000
DTEND;TZID=Europe/Rome:20230307T190000
DTSTAMP:20260421T151828
CREATED:20230306T221413Z
LAST-MODIFIED:20230306T221413Z
UID:2482-1678208400-1678215600@www.eventimusica.com
SUMMARY:The Club House - RadioDanceRoma - Tuesday
DESCRIPTION:Marco Graziosi in his “The Club” and his guests\, Josephx DJ with “Old School”  are waiting for you every Tuesday from 5:00Pm to 7:00Pm. Download the free App for iOS or Android\, or click on www.radiodanceroma.it
URL:https://www.eventimusica.com/event/the-club-house-radiodanceroma-tuesday/
LOCATION:Ardea
CATEGORIES:intrattenimento,musica
ATTACH;FMTTYPE=image/png:https://www.eventimusica.com/wp-content/uploads/2023/03/Martedi-3.png
END:VEVENT
BEGIN:VEVENT
DTSTART;TZID=Europe/Rome:20230221T170000
DTEND;TZID=Europe/Rome:20230221T190000
DTSTAMP:20260421T151828
CREATED:20230216T184021Z
LAST-MODIFIED:20230216T184021Z
UID:2396-1676998800-1677006000@www.eventimusica.com
SUMMARY:The Club Music "OnAir" on RadioDanceRoma
DESCRIPTION:Marco Graziosi in his “The Club” and his guests\, Josephx DJ with “Old School”  are waiting for you every Tuesday from 5:00Pm to 7:00Pm. Download the free App for iOS or Android\, or click on www.radiodanceroma.it
URL:https://www.eventimusica.com/event/the-club-music-onair-on-radiodanceroma-2/
LOCATION:Ardea
CATEGORIES:intrattenimento,musica
ATTACH;FMTTYPE=image/png:https://www.eventimusica.com/wp-content/uploads/2023/02/Tuesday-ig2.png
END:VEVENT
BEGIN:VEVENT
DTSTART;TZID=Europe/Rome:20230214T170000
DTEND;TZID=Europe/Rome:20230214T190000
DTSTAMP:20260421T151828
CREATED:20230201T112121Z
LAST-MODIFIED:20230201T112121Z
UID:2385-1676394000-1676401200@www.eventimusica.com
SUMMARY:The Club Music "OnAir" on RadioDanceRoma
DESCRIPTION:Marco Graziosi in his “The Club” and his guests\, Josephx DJ with “Old School”  are waiting for you every Tuesday from 5:00Pm to 7:00Pm. Download the free App for iOS or Android\, or click on www.radiodanceroma.it
URL:https://www.eventimusica.com/event/the-club-music-onair-on-radiodanceroma/
LOCATION:Ardea
CATEGORIES:intrattenimento,musica
ATTACH;FMTTYPE=image/png:https://www.eventimusica.com/wp-content/uploads/2023/02/Tuesday-ig2.png
END:VEVENT
BEGIN:VEVENT
DTSTART;TZID=Europe/Rome:20230207T170000
DTEND;TZID=Europe/Rome:20230207T190000
DTSTAMP:20260421T151828
CREATED:20230201T102408Z
LAST-MODIFIED:20230201T112506Z
UID:2357-1675789200-1675796400@www.eventimusica.com
SUMMARY:The Club Music "OnAir" on RadioDanceRoma
DESCRIPTION:Marco Graziosi in his “The Club” and his guests\, Josephx DJ with “Old School”  are waiting for you every Tuesday from 5:00Pm to 7:00Pm. Download the free App for iOS or Android\, or click on www.radiodanceroma.it
URL:https://www.eventimusica.com/event/the-club-music-every-tuesday-on-radiodanceroma-4/
LOCATION:The Club Studio\, Ardea\, Roma\, Italia
CATEGORIES:intrattenimento,musica
ATTACH;FMTTYPE=image/png:https://www.eventimusica.com/wp-content/uploads/2023/02/Tuesday-ig2.png
END:VEVENT
BEGIN:VEVENT
DTSTART;TZID=Europe/Rome:20221227T170000
DTEND;TZID=Europe/Rome:20221227T190000
DTSTAMP:20260421T151828
CREATED:20221205T095701Z
LAST-MODIFIED:20221205T095701Z
UID:2320-1672160400-1672167600@www.eventimusica.com
SUMMARY:The Club Music - Every "Tuesday" on RadioDanceRoma
DESCRIPTION:Marco Graziosi in his “The Club” and his guests\, Josephx DJ with “Old School”  are waiting for you every Tuesday from 5:00Pm to 7:00Pm. Download the free App for iOS or Android\, or click on www.radiodanceroma.it
URL:https://www.eventimusica.com/event/the-club-music-every-tuesday-on-radiodanceroma-3/
LOCATION:Ardea
CATEGORIES:intrattenimento,musica
ATTACH;FMTTYPE=image/png:https://www.eventimusica.com/wp-content/uploads/2022/12/1.png
END:VEVENT
BEGIN:VEVENT
DTSTART;TZID=Europe/Rome:20221220T170000
DTEND;TZID=Europe/Rome:20221220T190000
DTSTAMP:20260421T151828
CREATED:20221205T095610Z
LAST-MODIFIED:20221205T095610Z
UID:2318-1671555600-1671562800@www.eventimusica.com
SUMMARY:The Club Music - Every "Tuesday" on RadioDanceRoma
DESCRIPTION:Marco Graziosi in his “The Club” and his guests\, Josephx DJ with “Old School”  are waiting for you every Tuesday from 5:00Pm to 7:00Pm. Download the free App for iOS or Android\, or click on www.radiodanceroma.it
URL:https://www.eventimusica.com/event/the-club-music-every-tuesday-on-radiodanceroma-2/
LOCATION:Ardea
CATEGORIES:intrattenimento,musica
ATTACH;FMTTYPE=image/png:https://www.eventimusica.com/wp-content/uploads/2022/12/1.png
END:VEVENT
BEGIN:VEVENT
DTSTART;TZID=Europe/Rome:20221213T170000
DTEND;TZID=Europe/Rome:20221213T190000
DTSTAMP:20260421T151828
CREATED:20221205T095510Z
LAST-MODIFIED:20221205T095510Z
UID:2316-1670950800-1670958000@www.eventimusica.com
SUMMARY:The Club Music - Every "Tuesday" on RadioDanceRoma
DESCRIPTION:Marco Graziosi in his “The Club” and his guests\, Josephx DJ with “Old School”  are waiting for you every Tuesday from 5:00Pm to 7:00Pm. Download the free App for iOS or Android\, or click on www.radiodanceroma.it
URL:https://www.eventimusica.com/event/the-club-music-every-tuesday-on-radiodanceroma/
LOCATION:Ardea
CATEGORIES:intrattenimento,musica
ATTACH;FMTTYPE=image/png:https://www.eventimusica.com/wp-content/uploads/2022/12/1.png
END:VEVENT
BEGIN:VEVENT
DTSTART;TZID=Europe/Rome:20221206T170000
DTEND;TZID=Europe/Rome:20221206T190000
DTSTAMP:20260421T151828
CREATED:20221205T092912Z
LAST-MODIFIED:20221205T092932Z
UID:2295-1670346000-1670353200@www.eventimusica.com
SUMMARY:The Club Music - Every "Tuesday" on RadioDanceRoma
DESCRIPTION:Marco Graziosi in his “The Club” and his guests\, Josephx DJ with “Old School”  are waiting for you every Tuesday from 5:00Pm to 7:00Pm. Download the free App for iOS or Android\, or click on www.radiodanceroma.it
URL:https://www.eventimusica.com/event/the-club-music-tuesday-on-radiodanceroma-30/
LOCATION:Ardea
CATEGORIES:intrattenimento,musica
ATTACH;FMTTYPE=image/png:https://www.eventimusica.com/wp-content/uploads/2022/12/1.png
END:VEVENT
BEGIN:VEVENT
DTSTART;TZID=Europe/Rome:20221011T170000
DTEND;TZID=Europe/Rome:20221011T190000
DTSTAMP:20260421T151828
CREATED:20221010T090737Z
LAST-MODIFIED:20221010T090737Z
UID:2246-1665507600-1665514800@www.eventimusica.com
SUMMARY:The Club Music - Tuesday on RadioDanceRoma
DESCRIPTION:Marco Graziosi in his “The Club” and his guests\, JosephX Dj and “Old School” and Nello Jay with the “Megamix”\, are waiting for you every Tuesday from 5:00Pm to 7:00Pm. Download the free App for iOS or Android\, or click on https://www.rdrradiodanceroma.it/no-sidebar-page/pop-player/
URL:https://www.eventimusica.com/event/the-club-music-tuesday-on-radiodanceroma-29/
LOCATION:Italia\, Italia
CATEGORIES:intrattenimento,musica
ATTACH;FMTTYPE=image/png:https://www.eventimusica.com/wp-content/uploads/2022/10/TCM-MArtedi.png
END:VEVENT
BEGIN:VEVENT
DTSTART;TZID=Europe/Rome:20220927T170000
DTEND;TZID=Europe/Rome:20220927T190000
DTSTAMP:20260421T151828
CREATED:20220915T090130Z
LAST-MODIFIED:20220915T090130Z
UID:2223-1664298000-1664305200@www.eventimusica.com
SUMMARY:The Club Music - Tuesday on RadioDanceRoma
DESCRIPTION:Marco Graziosi in his “The Club” and his guests\, JosephX Dj and “Old School” and Nello Jay with the “Megamix”\, are waiting for you every Tuesday from 5:00Pm to 7:00Pm. Download the free App for iOS or Android\, or click on https://www.rdrradiodanceroma.it/no-sidebar-page/pop-player/
URL:https://www.eventimusica.com/event/the-club-music-tuesday-on-radiodanceroma-28/
LOCATION:Studio The Club\, Ardea\, Roma\, 00040\, Italia
CATEGORIES:intrattenimento,musica
ATTACH;FMTTYPE=image/png:https://www.eventimusica.com/wp-content/uploads/2022/09/TCM-MArtedi.png
END:VEVENT
BEGIN:VEVENT
DTSTART;TZID=Europe/Rome:20220920T170000
DTEND;TZID=Europe/Rome:20220920T190000
DTSTAMP:20260421T151828
CREATED:20220915T090006Z
LAST-MODIFIED:20220915T090006Z
UID:2220-1663693200-1663700400@www.eventimusica.com
SUMMARY:The Club...Music - Tuesday on RadioDanceRoma
DESCRIPTION:Marco Graziosi in his “The Club” and his guests\, JosephX Dj and “Old School” and Nello Jay with the “Megamix”\, are waiting for you every Tuesday from 5:00Pm to 7:00Pm. Download the free App for iOS or Android\, or click on https://www.rdrradiodanceroma.it/no-sidebar-page/pop-player/
URL:https://www.eventimusica.com/event/the-club-music-tuesday-on-radiodanceroma-27/
LOCATION:Studio The Club\, Ardea\, Roma\, 00040\, Italia
CATEGORIES:intrattenimento,musica
ATTACH;FMTTYPE=image/png:https://www.eventimusica.com/wp-content/uploads/2022/09/TCM-MArtedi.png
END:VEVENT
BEGIN:VEVENT
DTSTART;TZID=Europe/Rome:20220531T170000
DTEND;TZID=Europe/Rome:20220531T190000
DTSTAMP:20260421T151828
CREATED:20220518T164933Z
LAST-MODIFIED:20220518T164933Z
UID:2203-1654016400-1654023600@www.eventimusica.com
SUMMARY:The Club...Music - Tuesday on RadioDanceRoma
DESCRIPTION:Marco Graziosi in his “The Club” and his guests\, JosephX Dj and “Old School” and Nello Jay with the “Megamix”\, are waiting for you every Tuesday from 5:00Pm to 7:00Pm. Download the free App for iOS or Android\, or click on https://www.rdrradiodanceroma.it/no-sidebar-page/pop-player/
URL:https://www.eventimusica.com/event/the-club-music-tuesday-on-radiodanceroma-26/
LOCATION:Studio The Club\, Ardea\, Roma\, 00040\, Italia
CATEGORIES:intrattenimento,musica
ATTACH;FMTTYPE=image/png:https://www.eventimusica.com/wp-content/uploads/2022/04/vari-modelli-per-the-club-night-1.png
END:VEVENT
BEGIN:VEVENT
DTSTART;TZID=Europe/Rome:20220524T170000
DTEND;TZID=Europe/Rome:20220524T190000
DTSTAMP:20260421T151828
CREATED:20220518T164003Z
LAST-MODIFIED:20220518T164003Z
UID:2201-1653411600-1653418800@www.eventimusica.com
SUMMARY:The Club...Music - Tuesday on RadioDanceRoma
DESCRIPTION:Marco Graziosi in his “The Club” and his guests\, JosephX Dj and “Old School” and Nello Jay with the “Megamix”\, are waiting for you every Tuesday from 5:00Pm to 7:00Pm. Download the free App for iOS or Android\, or click on https://www.rdrradiodanceroma.it/no-sidebar-page/pop-player/
URL:https://www.eventimusica.com/event/the-club-music-tuesday-on-radiodanceroma-25/
LOCATION:Studio The Club\, Ardea\, Roma\, 00040\, Italia
CATEGORIES:intrattenimento,musica
ATTACH;FMTTYPE=image/png:https://www.eventimusica.com/wp-content/uploads/2022/04/vari-modelli-per-the-club-night-1.png
END:VEVENT
BEGIN:VEVENT
DTSTART;TZID=Europe/Rome:20220517T170000
DTEND;TZID=Europe/Rome:20220517T190000
DTSTAMP:20260421T151828
CREATED:20220505T180246Z
LAST-MODIFIED:20220505T180246Z
UID:2196-1652806800-1652814000@www.eventimusica.com
SUMMARY:The Club...Music - Tuesday on RadioDanceRoma
DESCRIPTION:Marco Graziosi in his “The Club” and his guests\, JosephX Dj and “Old School” and Nello Jay with the “Megamix”\, are waiting for you every Tuesday from 5:00Pm to 7:00Pm. Download the free App for iOS or Android\, or click on https://www.rdrradiodanceroma.it/no-sidebar-page/pop-player/
URL:https://www.eventimusica.com/event/the-club-music-tuesday-on-radiodanceroma-24/
LOCATION:Studio The Club\, Ardea\, Roma\, 00040\, Italia
CATEGORIES:intrattenimento,musica
ATTACH;FMTTYPE=image/png:https://www.eventimusica.com/wp-content/uploads/2022/04/vari-modelli-per-the-club-night-1.png
END:VEVENT
END:VCALENDAR