BEGIN:VCALENDAR
VERSION:2.0
PRODID:-//Eventimusica.com - ECPv6.15.17//NONSGML v1.0//EN
CALSCALE:GREGORIAN
METHOD:PUBLISH
X-WR-CALNAME:Eventimusica.com
X-ORIGINAL-URL:https://www.eventimusica.com
X-WR-CALDESC:Eventi per Eventimusica.com
REFRESH-INTERVAL;VALUE=DURATION:PT1H
X-Robots-Tag:noindex
X-PUBLISHED-TTL:PT1H
BEGIN:VTIMEZONE
TZID:Europe/Rome
BEGIN:DAYLIGHT
TZOFFSETFROM:+0100
TZOFFSETTO:+0200
TZNAME:CEST
DTSTART:20200329T010000
END:DAYLIGHT
BEGIN:STANDARD
TZOFFSETFROM:+0200
TZOFFSETTO:+0100
TZNAME:CET
DTSTART:20201025T010000
END:STANDARD
BEGIN:DAYLIGHT
TZOFFSETFROM:+0100
TZOFFSETTO:+0200
TZNAME:CEST
DTSTART:20210328T010000
END:DAYLIGHT
BEGIN:STANDARD
TZOFFSETFROM:+0200
TZOFFSETTO:+0100
TZNAME:CET
DTSTART:20211031T010000
END:STANDARD
BEGIN:DAYLIGHT
TZOFFSETFROM:+0100
TZOFFSETTO:+0200
TZNAME:CEST
DTSTART:20220327T010000
END:DAYLIGHT
BEGIN:STANDARD
TZOFFSETFROM:+0200
TZOFFSETTO:+0100
TZNAME:CET
DTSTART:20221030T010000
END:STANDARD
END:VTIMEZONE
BEGIN:VEVENT
DTSTART;TZID=Europe/Rome:20211102T180000
DTEND;TZID=Europe/Rome:20211102T190000
DTSTAMP:20260424T222536
CREATED:20211102T165948Z
LAST-MODIFIED:20211102T165948Z
UID:1990-1635876000-1635879600@www.eventimusica.com
SUMMARY:The Club..Music - Tuesday on RadioDanceRoma
DESCRIPTION:The Club is waiting for you every Tuesday from 6:00Pm to 7:00Pm .To listen from your Smartphone on https://www.rdrradiodanceroma.it/no-sidebar-page/pop-player/
URL:https://www.eventimusica.com/event/the-club-music-tuesday-on-radiodanceroma-5/
LOCATION:Studio The Club\, Ardea\, Roma\, 00040\, Italia
CATEGORIES:intrattenimento,musica
ATTACH;FMTTYPE=image/png:https://www.eventimusica.com/wp-content/uploads/2021/10/Marco-Graziosi-e-JosephX-Dj-1.png
END:VEVENT
BEGIN:VEVENT
DTSTART;TZID=Europe/Rome:20211116T180000
DTEND;TZID=Europe/Rome:20211116T190000
DTSTAMP:20260424T222536
CREATED:20211116T142444Z
LAST-MODIFIED:20211116T142444Z
UID:2014-1637085600-1637089200@www.eventimusica.com
SUMMARY:The Club...Music - Tuesday on RadioDanceRoma
DESCRIPTION:The Club is waiting for you every Tuesday from 6:00Pm to 7:00Pm .To listen from your Smartphone on https://www.rdrradiodanceroma.it/no-sidebar-page/pop-player/
URL:https://www.eventimusica.com/event/the-club-music-tuesday-on-radiodanceroma-6/
LOCATION:Studio The Club\, Ardea\, Roma\, 00040\, Italia
CATEGORIES:intrattenimento,musica
ATTACH;FMTTYPE=image/png:https://www.eventimusica.com/wp-content/uploads/2021/10/Marco-Graziosi-e-JosephX-Dj-1.png
END:VEVENT
BEGIN:VEVENT
DTSTART;TZID=Europe/Rome:20211123T180000
DTEND;TZID=Europe/Rome:20211123T190000
DTSTAMP:20260424T222536
CREATED:20211116T142536Z
LAST-MODIFIED:20211116T142536Z
UID:2016-1637690400-1637694000@www.eventimusica.com
SUMMARY:The Club...Music - Tuesday on RadioDanceRoma
DESCRIPTION:The Club is waiting for you every Tuesday from 6:00Pm to 7:00Pm .To listen from your Smartphone on https://www.rdrradiodanceroma.it/no-sidebar-page/pop-player/
URL:https://www.eventimusica.com/event/the-club-music-tuesday-on-radiodanceroma-7/
LOCATION:Studio The Club\, Ardea\, Roma\, 00040\, Italia
CATEGORIES:intrattenimento,musica
ATTACH;FMTTYPE=image/png:https://www.eventimusica.com/wp-content/uploads/2021/10/Marco-Graziosi-e-JosephX-Dj-1.png
END:VEVENT
BEGIN:VEVENT
DTSTART;TZID=Europe/Rome:20211130T180000
DTEND;TZID=Europe/Rome:20211130T190000
DTSTAMP:20260424T222536
CREATED:20211125T140331Z
LAST-MODIFIED:20211125T140331Z
UID:2030-1638295200-1638298800@www.eventimusica.com
SUMMARY:The Club...Music - Tuesday on RadioDanceRoma
DESCRIPTION:The Club is waiting for you every Tuesday from 6:00Pm to 7:00Pm .To listen from your Smartphone on https://www.rdrradiodanceroma.it/no-sidebar-page/pop-player/
URL:https://www.eventimusica.com/event/the-club-music-tuesday-on-radiodanceroma-8/
LOCATION:Studio The Club\, Ardea\, Roma\, 00040\, Italia
CATEGORIES:intrattenimento,musica
ATTACH;FMTTYPE=image/png:https://www.eventimusica.com/wp-content/uploads/2021/10/Marco-Graziosi-e-JosephX-Dj-1.png
END:VEVENT
END:VCALENDAR