BEGIN:VCALENDAR
VERSION:2.0
PRODID:-//Eventimusica.com - ECPv6.15.17//NONSGML v1.0//EN
CALSCALE:GREGORIAN
METHOD:PUBLISH
X-WR-CALNAME:Eventimusica.com
X-ORIGINAL-URL:https://www.eventimusica.com
X-WR-CALDESC:Eventi per Eventimusica.com
REFRESH-INTERVAL;VALUE=DURATION:PT1H
X-Robots-Tag:noindex
X-PUBLISHED-TTL:PT1H
BEGIN:VTIMEZONE
TZID:Europe/Rome
BEGIN:DAYLIGHT
TZOFFSETFROM:+0100
TZOFFSETTO:+0200
TZNAME:CEST
DTSTART:20230326T010000
END:DAYLIGHT
BEGIN:STANDARD
TZOFFSETFROM:+0200
TZOFFSETTO:+0100
TZNAME:CET
DTSTART:20231029T010000
END:STANDARD
BEGIN:DAYLIGHT
TZOFFSETFROM:+0100
TZOFFSETTO:+0200
TZNAME:CEST
DTSTART:20240331T010000
END:DAYLIGHT
BEGIN:STANDARD
TZOFFSETFROM:+0200
TZOFFSETTO:+0100
TZNAME:CET
DTSTART:20241027T010000
END:STANDARD
BEGIN:DAYLIGHT
TZOFFSETFROM:+0100
TZOFFSETTO:+0200
TZNAME:CEST
DTSTART:20250330T010000
END:DAYLIGHT
BEGIN:STANDARD
TZOFFSETFROM:+0200
TZOFFSETTO:+0100
TZNAME:CET
DTSTART:20251026T010000
END:STANDARD
END:VTIMEZONE
BEGIN:VEVENT
DTSTART;TZID=Europe/Rome:20240213T170000
DTEND;TZID=Europe/Rome:20240213T190000
DTSTAMP:20260423T042408
CREATED:20240207T150922Z
LAST-MODIFIED:20240207T150922Z
UID:2679-1707843600-1707850800@www.eventimusica.com
SUMMARY:The Club House - RadioDanceRoma - Tuesday
DESCRIPTION:Marco Graziosi with “The Club” and his guests\, Josephx DJ with “Old School” and Antonio Sacco DJ From “Takes Over Italo Disco” await you every Tuesday from 5pm to 7pm. Download the free App for iOS or Android\, or click on www.radiodanceroma.it
URL:https://www.eventimusica.com/event/the-club-house-radiodanceroma-tuesday-19/
LOCATION:Ardea
CATEGORIES:intrattenimento,musica
ATTACH;FMTTYPE=image/png:https://www.eventimusica.com/wp-content/uploads/2023/11/Tuesday-Rdr-1-1.png
END:VEVENT
BEGIN:VEVENT
DTSTART;TZID=Europe/Rome:20240213T170000
DTEND;TZID=Europe/Rome:20240213T190000
DTSTAMP:20260423T042408
CREATED:20240213T163908Z
LAST-MODIFIED:20240213T163908Z
UID:2689-1707843600-1707850800@www.eventimusica.com
SUMMARY:The Club House - RadioDanceRoma - Guest\, Sisters Cap
DESCRIPTION:Marco Graziosi with “The Club” and his guests\, Josephx DJ with “Old School” and Antonio Sacco DJ From “Takes Over Italo Disco” await you every Tuesday from 5pm to 7pm. Download the free App for iOS or Android\, or click on www.radiodanceroma.it Guest Sisters Cap
URL:https://www.eventimusica.com/event/the-club-house-radiodanceroma-guest-sisters-cap/
LOCATION:Ardea
CATEGORIES:intrattenimento,musica
ATTACH;FMTTYPE=image/png:https://www.eventimusica.com/wp-content/uploads/2024/02/Sisterscaps-interview.png
END:VEVENT
END:VCALENDAR